BEGIN:VCALENDAR
VERSION:2.0
PRODID:-//Mad River Glen, Vermont - ECPv6.15.17//NONSGML v1.0//EN
CALSCALE:GREGORIAN
METHOD:PUBLISH
X-WR-CALNAME:Mad River Glen, Vermont
X-ORIGINAL-URL:https://www.madriverglen.com
X-WR-CALDESC:Events for Mad River Glen, Vermont
REFRESH-INTERVAL;VALUE=DURATION:PT1H
X-Robots-Tag:noindex
X-PUBLISHED-TTL:PT1H
BEGIN:VTIMEZONE
TZID:America/New_York
BEGIN:DAYLIGHT
TZOFFSETFROM:-0500
TZOFFSETTO:-0400
TZNAME:EDT
DTSTART:20240310T070000
END:DAYLIGHT
BEGIN:STANDARD
TZOFFSETFROM:-0400
TZOFFSETTO:-0500
TZNAME:EST
DTSTART:20241103T060000
END:STANDARD
BEGIN:DAYLIGHT
TZOFFSETFROM:-0500
TZOFFSETTO:-0400
TZNAME:EDT
DTSTART:20250309T070000
END:DAYLIGHT
BEGIN:STANDARD
TZOFFSETFROM:-0400
TZOFFSETTO:-0500
TZNAME:EST
DTSTART:20251102T060000
END:STANDARD
BEGIN:DAYLIGHT
TZOFFSETFROM:-0500
TZOFFSETTO:-0400
TZNAME:EDT
DTSTART:20260308T070000
END:DAYLIGHT
BEGIN:STANDARD
TZOFFSETFROM:-0400
TZOFFSETTO:-0500
TZNAME:EST
DTSTART:20261101T060000
END:STANDARD
END:VTIMEZONE
BEGIN:VEVENT
DTSTART;TZID=America/New_York:20250109T100000
DTEND;TZID=America/New_York:20250109T120000
DTSTAMP:20260423T044904
CREATED:20240806T174240Z
LAST-MODIFIED:20241218T162741Z
UID:10000443-1736416800-1736424000@www.madriverglen.com
SUMMARY:Women's Mid-Week Alpine Clinic
DESCRIPTION:The Women’s Mid-Week clinics are for women and taught by women using positive attitude\, tactics and techniques to help you achieve your skiing goals. This eight-week program meets for 2-hour sessions on Thursday mornings. \nDates: Thursdays – January 9\, 16\, 23\, 30 February 6\, 13\, 27 & March 6 (No session 02.20.25) \nTime: 10:00 am until 12:00 pm \nCost: $349 – 8 week session \nREQUEST NOW
URL:https://www.madriverglen.com/calendar/womens-mid-week-alpine-clinic-2/2025-01-09/
CATEGORIES:Adult Ski School
ATTACH;FMTTYPE=image/png:https://www.madriverglen.com/wp-content/uploads/2024/08/Screenshot-2024-08-06-at-1.42.15 PM-e1734539252677.png
END:VEVENT
BEGIN:VEVENT
DTSTART;TZID=America/New_York:20250109T143000
DTEND;TZID=America/New_York:20250109T170000
DTSTAMP:20260423T044905
CREATED:20250105T215747Z
LAST-MODIFIED:20250106T164619Z
UID:10000668-1736433000-1736442000@www.madriverglen.com
SUMMARY:Live Music Aprés in Stark's Pub
DESCRIPTION:Our live music series continues this season on Fridays\, après-ski\, from 2:30 to 5:00 PM! A huge thank you to our friends at Lawson’s Finest Liquids for supporting local musicians. Fridays throughout the ski season\, we’ll showcase a rotating lineup of talented local artists. Be sure to check out our event calendar for a full list of performances. Stark’s Pub is open daily during the winter ski season\, from 11:00 AM to 5:00 PM. Come join us for great music and good times! \n \nWinter Music Schedule: \n12.20 The Caleb Garby Trio \n01.03 Atom & the Orbits \n01.09 Kolleen & Trey \n01.10 Straight Jacket Slumber Party \n01.17 Rob Pierce & Bob \n01.20 Brett Hughes & Lowell Thompson \n01.24 Madigan Linnane \n02.07 Fun Dip \n02.14 Local 28 \n02.28 Brett Hughes & Lowell Thompson \n03.07 John Lackard Trio \n03.14 Clint Bierman & Friends \n03.21 Jaded Ravins \n04.04 Brett Hughes & Lowell Thompson \n04.11 Dave O & Mike Schuster \nThanks to our friends at Lawson’s Finest Liquids for supporting local artists & good vibes year-round in Stark’s Pub.
URL:https://www.madriverglen.com/calendar/live-music-apres-in-starks-pub-15/
CATEGORIES:Aprés
ATTACH;FMTTYPE=image/jpeg:https://www.madriverglen.com/wp-content/uploads/2025/01/KolleenTrey.jpg
END:VEVENT
BEGIN:VEVENT
DTSTART;TZID=America/New_York:20250109T153000
DTEND;TZID=America/New_York:20250109T170000
DTSTAMP:20260423T044905
CREATED:20241209T165627Z
LAST-MODIFIED:20241227T150244Z
UID:10000506-1736436600-1736442000@www.madriverglen.com
SUMMARY:Free Cabot Fondue
DESCRIPTION:Join us aprés-ski every Thursday throughout the ski season for FREE FONDUE served with toasted bread thanks to our sponsors Cabot Creamery Cooperative! \nAprés in the Pub on fondue Thursdays is historically a very popular event\, supplies are limited and may run out at any time\, come early\, leave happy.
URL:https://www.madriverglen.com/calendar/free-cabot-fondue/2025-01-09/
CATEGORIES:Aprés
ATTACH;FMTTYPE=image/jpeg:https://www.madriverglen.com/wp-content/uploads/2024/12/cabot-fondue-e1734546022562.jpg
END:VEVENT
END:VCALENDAR