BEGIN:VCALENDAR
VERSION:2.0
PRODID:-//Mad River Glen, Vermont - ECPv6.15.17//NONSGML v1.0//EN
CALSCALE:GREGORIAN
METHOD:PUBLISH
X-ORIGINAL-URL:https://www.madriverglen.com
X-WR-CALDESC:Events for Mad River Glen, Vermont
REFRESH-INTERVAL;VALUE=DURATION:PT1H
X-Robots-Tag:noindex
X-PUBLISHED-TTL:PT1H
BEGIN:VTIMEZONE
TZID:America/New_York
BEGIN:DAYLIGHT
TZOFFSETFROM:-0500
TZOFFSETTO:-0400
TZNAME:EDT
DTSTART:20240310T070000
END:DAYLIGHT
BEGIN:STANDARD
TZOFFSETFROM:-0400
TZOFFSETTO:-0500
TZNAME:EST
DTSTART:20241103T060000
END:STANDARD
BEGIN:DAYLIGHT
TZOFFSETFROM:-0500
TZOFFSETTO:-0400
TZNAME:EDT
DTSTART:20250309T070000
END:DAYLIGHT
BEGIN:STANDARD
TZOFFSETFROM:-0400
TZOFFSETTO:-0500
TZNAME:EST
DTSTART:20251102T060000
END:STANDARD
BEGIN:DAYLIGHT
TZOFFSETFROM:-0500
TZOFFSETTO:-0400
TZNAME:EDT
DTSTART:20260308T070000
END:DAYLIGHT
BEGIN:STANDARD
TZOFFSETFROM:-0400
TZOFFSETTO:-0500
TZNAME:EST
DTSTART:20261101T060000
END:STANDARD
END:VTIMEZONE
BEGIN:VEVENT
DTSTART;TZID=America/New_York:20250129T073000
DTEND;TZID=America/New_York:20250129T140000
DTSTAMP:20260423T032726
CREATED:20241218T181400Z
LAST-MODIFIED:20241218T181400Z
UID:10000637-1738135800-1738159200@www.madriverglen.com
SUMMARY:VPA South Burlington SL Race
DESCRIPTION:Anticipated Schedule: \n7:45-8:15 Registration – 3rd floor of lodge (check $ only) \n8:15 Course Setting/Jury Chairlift \n8:45 Coaches Meeting at finish area \n9:00 Gate Keepers Meeting – 3rd floor of lodge \n9:00 – 9:45 First run Inspection \n9:55 First Forerunner – Girls \n10:00 First run start. Boys immediately following girls\, starting with forerunners. \n30 – 45 minute second run inspection. \nTime tbd based on reset/no reset decision\nSecond run forerunners start 10 minutes after inspection closes \nAwards Ceremony:\n~1⁄2 hour after last racer. \n 
URL:https://www.madriverglen.com/calendar/vpa-south-burlington-sl-race/
CATEGORIES:Race
ATTACH;FMTTYPE=image/png:https://www.madriverglen.com/wp-content/uploads/2024/12/Screenshot-2024-12-18-at-1.12.27 PM-e1734545585985.png
END:VEVENT
BEGIN:VEVENT
DTSTART;TZID=America/New_York:20250129T123000
DTEND;TZID=America/New_York:20250129T143000
DTSTAMP:20260423T032726
CREATED:20250122T135655Z
LAST-MODIFIED:20250122T135655Z
UID:10000672-1738153800-1738161000@www.madriverglen.com
SUMMARY:Waitsfield Elementary School Ski Program
DESCRIPTION:Welcoming 1st through 6th grade students from the Waitsfield Elementary School for an afternoon of skiing!
URL:https://www.madriverglen.com/calendar/waitsfield-elementary-school-ski-program/
ATTACH;FMTTYPE=image/jpeg:https://www.madriverglen.com/wp-content/uploads/2025/01/Waitsfield-Elementary-School-e1737486392920.jpeg
END:VEVENT
END:VCALENDAR