BEGIN:VCALENDAR
VERSION:2.0
PRODID:-//Mad River Glen, Vermont - ECPv6.15.17//NONSGML v1.0//EN
CALSCALE:GREGORIAN
METHOD:PUBLISH
X-ORIGINAL-URL:https://www.madriverglen.com
X-WR-CALDESC:Events for Mad River Glen, Vermont
REFRESH-INTERVAL;VALUE=DURATION:PT1H
X-Robots-Tag:noindex
X-PUBLISHED-TTL:PT1H
BEGIN:VTIMEZONE
TZID:America/New_York
BEGIN:DAYLIGHT
TZOFFSETFROM:-0500
TZOFFSETTO:-0400
TZNAME:EDT
DTSTART:20240310T070000
END:DAYLIGHT
BEGIN:STANDARD
TZOFFSETFROM:-0400
TZOFFSETTO:-0500
TZNAME:EST
DTSTART:20241103T060000
END:STANDARD
BEGIN:DAYLIGHT
TZOFFSETFROM:-0500
TZOFFSETTO:-0400
TZNAME:EDT
DTSTART:20250309T070000
END:DAYLIGHT
BEGIN:STANDARD
TZOFFSETFROM:-0400
TZOFFSETTO:-0500
TZNAME:EST
DTSTART:20251102T060000
END:STANDARD
BEGIN:DAYLIGHT
TZOFFSETFROM:-0500
TZOFFSETTO:-0400
TZNAME:EDT
DTSTART:20260308T070000
END:DAYLIGHT
BEGIN:STANDARD
TZOFFSETFROM:-0400
TZOFFSETTO:-0500
TZNAME:EST
DTSTART:20261101T060000
END:STANDARD
END:VTIMEZONE
BEGIN:VEVENT
DTSTART;TZID=America/New_York:20250201T073000
DTEND;TZID=America/New_York:20250201T100000
DTSTAMP:20260423T044919
CREATED:20241218T151758Z
LAST-MODIFIED:20250122T180207Z
UID:10000632-1738395000-1738404000@www.madriverglen.com
SUMMARY:Kandahar Mountain Race
DESCRIPTION:A race of a bygone era\, the Kandahar channels the spirit of full mountain races that were once commonplace on the racing circuit and at MRG. The last version held in the 1980s began on Creamery\, descended onto Moody’s\, before taking on (Grand) Canyon. At the bottom of Canyon\, racers went straight across Easy Way\, over the cliff on One Way\, and over S-Turn Cliff onto Lower Periwinkle and finished by the base of the Double. Whew! Our modern version is a bit more modest but will still reward those who can ski gates as well as terrain on the trail. The trail combination and exact set to get from the start to the finish are dependent on snow depth and conditions. Please see the race flyer (when available) for additional course details. \nDetails: \nRegistration: Visit the online store \nField Limit: 75 racers \nAge requirement: 10 years old or older as of January 1st\, 2025 \nAthlete Lift: Tentatively 7:30 am \nRace Begins: Tentatively 8:00 am \nAwards: by age group and gender \nDisclaimer: Weather and conditions dependent\, no refunds on entry fee in the event of cancellation. We reserve the right to change or modify any of the perimeters of the race including but not limited to start time\, location\, course\, finish and awards in the interest of event security. \n2024 Kandahar Overall Results \n2024 Kandahar Women’s Results \n2024 Kandahar Men’s Results \nProceeds from this event go to benefit the Mad River Glen Race Club and are non-refundable. \nThe MRG Racing Triple Crown combines three celebrated legacy events and crowns an overall category champions! \n\n\n\nThe storied Kandahar is MRG’s modern version of a full mountain ski race. It rewards those who can ski gates as well as terrain and conditions on the trail.\nThe Dash For Cash is a new event that will pit racers head to head on a dual panel course with pro jump.\nThe Rockefeller Challenge is a test of fearlessness and speed where competitors tuck straight downhill and glide uphill to find the skier who goes the furthest.\n\n\n\nCombine and register for all three events and save! \nA valid lift ticket or season pass is required. Lift ticket not included in the entry fee. \nAges 10 & up as of 1/1/25. You must complete a registration for each family member who will be racing. Please log in below (if you are already in MRG’s system) or create a new account for each racer. \nDisclaimer: Weather and conditions dependent. There are no refunds on the entry fee for any reason\, including in the event of date change\, cancellation\, or inability to participate. We reserve the right to change or modify any of the perimeters of the race including but not limited to start time\, date\, location\, course\, finish and awards in the interest of event security.
URL:https://www.madriverglen.com/calendar/kandahar-mountain-race-2/
CATEGORIES:Race
ATTACH;FMTTYPE=image/jpeg:https://www.madriverglen.com/wp-content/uploads/2024/12/0I9A0313-scaled-e1734546477744.jpg
END:VEVENT
BEGIN:VEVENT
DTSTART;TZID=America/New_York:20250201T093000
DTEND;TZID=America/New_York:20250201T150000
DTSTAMP:20260423T044919
CREATED:20240806T173336Z
LAST-MODIFIED:20241218T161853Z
UID:10000417-1738402200-1738422000@www.madriverglen.com
SUMMARY:Women's Alpine Ski Clinic
DESCRIPTION:Alpine ski clinics by women\, and for women using positive attitudes\, tactics and techniques to help you achieve your skiing goals. The price per day includes the clinic and lunch. \nDates: Saturdays – January 4\, February 1 & March 1 \nTime: 9:30 am until 3:00 pm \nCost: $249/day or $309/day with lift ticket \nREQUEST NOW
URL:https://www.madriverglen.com/calendar/womens-alpine-ski-clinic-2/2025-02-01/
CATEGORIES:Adult Ski School
ATTACH;FMTTYPE=image/png:https://www.madriverglen.com/wp-content/uploads/2024/08/Screenshot-2024-08-06-at-1.33.06 PM-e1734538722727.png
END:VEVENT
BEGIN:VEVENT
DTSTART;TZID=America/New_York:20250201T103000
DTEND;TZID=America/New_York:20250201T123000
DTSTAMP:20260423T044919
CREATED:20241217T145422Z
LAST-MODIFIED:20250330T114735Z
UID:10000608-1738405800-1738413000@www.madriverglen.com
SUMMARY:Naturalist Guided Snowshoe Tours
DESCRIPTION:Every Saturday and Sunday at 10:30 am Join one of Mad River Glen’s Naturalists for a guided snowshoe trek tailored to your interest in the ecology and wildlife of Stark Mountain! Our outings and content vary each week depending on snow conditions and participants. Learn about the hardwood forests of the Green Mountains as well as our resident moose\, bear\, deer\, fisher\, coyote\, red fox and more! Easy to moderate difficulty. Click here to Request A Reservation today or click here to learn more about our Naturalist Programs. \n\n\n 
URL:https://www.madriverglen.com/calendar/naturalist-guided-snowshoe-tours-3/2025-02-01/
ATTACH;FMTTYPE=image/jpeg:https://www.madriverglen.com/wp-content/uploads/2017/12/VT47MRG19EMB-1-e1734547842697.jpg
END:VEVENT
END:VCALENDAR