BEGIN:VCALENDAR
VERSION:2.0
PRODID:-//Mad River Glen, Vermont - ECPv6.15.17//NONSGML v1.0//EN
CALSCALE:GREGORIAN
METHOD:PUBLISH
X-ORIGINAL-URL:https://www.madriverglen.com
X-WR-CALDESC:Events for Mad River Glen, Vermont
REFRESH-INTERVAL;VALUE=DURATION:PT1H
X-Robots-Tag:noindex
X-PUBLISHED-TTL:PT1H
BEGIN:VTIMEZONE
TZID:America/New_York
BEGIN:DAYLIGHT
TZOFFSETFROM:-0500
TZOFFSETTO:-0400
TZNAME:EDT
DTSTART:20240310T070000
END:DAYLIGHT
BEGIN:STANDARD
TZOFFSETFROM:-0400
TZOFFSETTO:-0500
TZNAME:EST
DTSTART:20241103T060000
END:STANDARD
BEGIN:DAYLIGHT
TZOFFSETFROM:-0500
TZOFFSETTO:-0400
TZNAME:EDT
DTSTART:20250309T070000
END:DAYLIGHT
BEGIN:STANDARD
TZOFFSETFROM:-0400
TZOFFSETTO:-0500
TZNAME:EST
DTSTART:20251102T060000
END:STANDARD
BEGIN:DAYLIGHT
TZOFFSETFROM:-0500
TZOFFSETTO:-0400
TZNAME:EDT
DTSTART:20260308T070000
END:DAYLIGHT
BEGIN:STANDARD
TZOFFSETFROM:-0400
TZOFFSETTO:-0500
TZNAME:EST
DTSTART:20261101T060000
END:STANDARD
END:VTIMEZONE
BEGIN:VEVENT
DTSTART;TZID=America/New_York:20250207T073000
DTEND;TZID=America/New_York:20250207T170000
DTSTAMP:20260423T105711
CREATED:20240806T175310Z
LAST-MODIFIED:20250203T140142Z
UID:10000464-1738913400-1738947600@www.madriverglen.com
SUMMARY:IFSA Junior 2*
DESCRIPTION:Mad River Glen\, the fertile crescent of big mountain skiing in New England is proud to be hosting an IFSA sanctioned Junior Regional 2* competition. Come test your mettle on the east coast’s most challenging terrain. \nImportant Registration Information: \n\nLift ticket or season pass required\nCompetitors MUST have an active 2025 IFSA Membership to register for this event.\nThis event is limited to 100 competitors.\nThe competition is a one-run event.\nHelmets and back protectors are mandatory.\n\nAge Categories \nU12 Female & Male Ski\nU15 Female & Male Ski\nU19 Female & Male Ski \nEvent Timeline \nCompetitor Check-in/Bib Pickup Friday\, February 7th from 8:00 to 9:00 am on the 3rd floor of the Basebox \nTickets $70 competitor/$89 spectator vouchers will be distributed at check-in and must be redeemed at the ticket window. 1 competitor voucher/2 spectator vouchers per visiting athlete \nMandatory Safety Meeting 9:00 am on the 3rd floor of the Basebox \nVenue Gazelle \nCourse Inspection 9:30 am – 10:30 am \nEvent Start 11:00 am \nAwards ASAP following the completion of the event on the 3rd floor \n \nEVENT SPONSORS:
URL:https://www.madriverglen.com/calendar/ifsa-junior-2/
CATEGORIES:Freeski
ATTACH;FMTTYPE=image/png:https://www.madriverglen.com/wp-content/uploads/2024/08/Screenshot-2024-08-06-at-1.52.24 PM-e1734546598986.png
END:VEVENT
BEGIN:VEVENT
DTSTART;TZID=America/New_York:20250207T143000
DTEND;TZID=America/New_York:20250207T170000
DTSTAMP:20260423T105711
CREATED:20241209T145433Z
LAST-MODIFIED:20250102T151747Z
UID:10000498-1738938600-1738947600@www.madriverglen.com
SUMMARY:Live Music Aprés in Stark's Pub
DESCRIPTION:Our live music series continues this season on Fridays\, après-ski\, from 2:30 to 5:00 PM! A huge thank you to our friends at Lawson’s Finest Liquids for supporting local musicians. Fridays throughout the ski season\, we’ll showcase a rotating lineup of talented local artists. Be sure to check out our event calendar for a full list of performances. Stark’s Pub is open daily during the winter ski season\, from 11:00 AM to 5:00 PM. Come join us for great music and good times! \n \nWinter Music Schedule: \n12.20 The Caleb Garby Trio \n01.03 Atom & the Orbits \n01.10 Straight Jacket Slumber Party \n01.17 Rob Pierce & Bob \n01.20 Brett Hughes & Lowell Thompson \n01.24 Madigan Linnane \n02.07 Fun Dip \n02.14 Local 28 \n02.28 Brett Hughes & Lowell Thompson \n03.07 John Lackard Trio \n03.14 Clint Bierman & Friends \n03.21 Jaded Ravins \n04.04 Brett Hughes & Lowell Thompson \n04.11 Dave O & Mike Schuster \nThanks to our friends at Lawson’s Finest Liquids for supporting local artists & good vibes year-round in Stark’s Pub.
URL:https://www.madriverglen.com/calendar/live-music-apres-in-starks-pub-6/
CATEGORIES:Aprés
ATTACH;FMTTYPE=image/png:https://www.madriverglen.com/wp-content/uploads/2024/05/Screenshot-2024-05-29-at-9.04.53 AM-e1735485656151.png
END:VEVENT
END:VCALENDAR