BEGIN:VCALENDAR
VERSION:2.0
PRODID:-//Mad River Glen, Vermont - ECPv6.15.17//NONSGML v1.0//EN
CALSCALE:GREGORIAN
METHOD:PUBLISH
X-ORIGINAL-URL:https://www.madriverglen.com
X-WR-CALDESC:Events for Mad River Glen, Vermont
REFRESH-INTERVAL;VALUE=DURATION:PT1H
X-Robots-Tag:noindex
X-PUBLISHED-TTL:PT1H
BEGIN:VTIMEZONE
TZID:America/New_York
BEGIN:DAYLIGHT
TZOFFSETFROM:-0500
TZOFFSETTO:-0400
TZNAME:EDT
DTSTART:20240310T070000
END:DAYLIGHT
BEGIN:STANDARD
TZOFFSETFROM:-0400
TZOFFSETTO:-0500
TZNAME:EST
DTSTART:20241103T060000
END:STANDARD
BEGIN:DAYLIGHT
TZOFFSETFROM:-0500
TZOFFSETTO:-0400
TZNAME:EDT
DTSTART:20250309T070000
END:DAYLIGHT
BEGIN:STANDARD
TZOFFSETFROM:-0400
TZOFFSETTO:-0500
TZNAME:EST
DTSTART:20251102T060000
END:STANDARD
BEGIN:DAYLIGHT
TZOFFSETFROM:-0500
TZOFFSETTO:-0400
TZNAME:EDT
DTSTART:20260308T070000
END:DAYLIGHT
BEGIN:STANDARD
TZOFFSETFROM:-0400
TZOFFSETTO:-0500
TZNAME:EST
DTSTART:20261101T060000
END:STANDARD
END:VTIMEZONE
BEGIN:VEVENT
DTSTART;TZID=America/New_York:20250208T080000
DTEND;TZID=America/New_York:20250208T170000
DTSTAMP:20260423T044935
CREATED:20241218T191201Z
LAST-MODIFIED:20250206T145001Z
UID:10000643-1739001600-1739034000@www.madriverglen.com
SUMMARY:IFSA Adult 2*
DESCRIPTION:Mad River Glen is proud to be hosting an IFSA Adult 2* event. Come test your mettle on the east coast’s most challenging terrain. This event is limited to 50 competitors. It is a one run event on Saturday\, the primary venue is Lift Line accessible from the Single Chair. \nWeather  \nStay tuned to the mountain forecast. \nCategories\n·         Female & Male Ski \nRegistration Information \nThere is no day-of registration. Competitors and spectators will need to check in and collect bibs\, ticket vouchers and event information on the 3rd floor of the Basebox.\n·         Lift tickets are required for competitors – a $70 ticket voucher will be given out at bib pick-up to each visiting competitor. This discount ticket voucher will then need to be redeemed at the ticket booth in order to purchase a discounted competitor ticket.\n·         We will offer (up to 2 per athlete) $89 spectator vouchers. Discount ticket vouchers will be issued at bib pick-up and will then need to be redeemed at the ticket booth to purchase a discounted spectator ticket. \nVenue\nThe venue will be Lift Line under the Single Chair. The length of the course will run roughly from Tower 12 down to the finish just above Tower 9. Lift Line is our primary venue but it is subject to change at the discretion of the Technical Director depending on conditions on the day of the event. \nEvent Timeline\nSaturday\, February 8th \nCheck-in/Bib Pick up 8:00 – 9:00 AM \nSafety Meeting 9:00 AM\nCourse Inspection 9:30-10:30 AM \nEvent Start 11:00 AM \nEvent Finish 2:00 PM \nAwards Deck of the Single 4:20 PM \nVenue Inspection Information\n·         Venue inspection is mandatory for all athletes.\n·         Only registered competitors and IFSA certified coaches are allowed on venue.\n·         During inspection\, athletes must be aware of everyone else around them.\n·         On the day of competition athletes must have an opportunity to have access to the competition venue to inspect the terrain and features within the venue. If the venue must be changed or altered significantly\, after the initial venue inspection\, athletes must have an opportunity for another inspection. \n\nSlow riding/skiing is mandatory during venue inspection.\n·         The Technical Director and/or head judge may disqualify a competitor from the competition for riding fast or recklessly during inspection.\n·         Athletes may not practice\, session or rehearse a line during inspection or jump/drop any features within the venue boundary.\n·         In blind areas it is advised that athletes verbally announce themselves to make others aware of their presence and intended next move/position.\n·         Athletes are to be respectful of fellow athletes\, coaches\, and officials during inspection.\n·         Athletes should be kind to the snow while inspecting.\n·         Terrain enhancement will not be tolerated\, any coach or competitor found altering the venue in any way without prior consent from the Technical Director will be expelled from the competition and black listed for future events – this is a ZERO tolerance policy.\n·         Infractions of inspection rules may result in disqualification from the event.All competitors must wear a helmet and back protector. \nClick here for information on IFSA JUDGING CRITERIA\n\nSPONSORS:
URL:https://www.madriverglen.com/calendar/ifsa-adult-2/
CATEGORIES:Freeski
ATTACH;FMTTYPE=image/jpeg:https://www.madriverglen.com/wp-content/uploads/2024/12/0I9A9609-e1734549104410.jpg
END:VEVENT
BEGIN:VEVENT
DTSTART;TZID=America/New_York:20250208T090000
DTEND;TZID=America/New_York:20250208T140000
DTSTAMP:20260423T044935
CREATED:20240906T130602Z
LAST-MODIFIED:20241218T183241Z
UID:10000485-1739005200-1739023200@www.madriverglen.com
SUMMARY:Parlor Skis Demo Day
DESCRIPTION:Parlor was founded on a shared passion for skiing in New England\, with a focus on designing and building great products. \nOur goal is to share this passion with as many people as we can. \nLook for the Parlor tent in the base area and take advantage of a free demo!
URL:https://www.madriverglen.com/calendar/parlor-skis-demo-day-3/2025-02-08/
ATTACH;FMTTYPE=image/jpeg:https://www.madriverglen.com/wp-content/uploads/2023/08/0I9A0087-scaled-e1734546755401.jpg
END:VEVENT
BEGIN:VEVENT
DTSTART;TZID=America/New_York:20250208T094500
DTEND;TZID=America/New_York:20250208T150000
DTSTAMP:20260423T044935
CREATED:20241229T153234Z
LAST-MODIFIED:20241229T153234Z
UID:10000662-1739007900-1739026800@www.madriverglen.com
SUMMARY:Women's Telemark Clinic
DESCRIPTION:Telemark ski clinics by women\, and for women use positive attitude\, tactics and techniques to help you achieve your skiing goals. \nDates: Saturdays – January 11\, February 8\, March 8\nTime: 9:30 am to 3:00 pm\nCost: $249/day ($309/day with lift ticket)
URL:https://www.madriverglen.com/calendar/womens-telemark-clinic-2/2025-02-08/
CATEGORIES:Adult Ski School
ATTACH;FMTTYPE=image/jpeg:https://www.madriverglen.com/wp-content/uploads/2023/07/0I9A1157-scaled-e1735486313119.jpg
END:VEVENT
BEGIN:VEVENT
DTSTART;TZID=America/New_York:20250208T103000
DTEND;TZID=America/New_York:20250208T123000
DTSTAMP:20260423T044935
CREATED:20241217T145422Z
LAST-MODIFIED:20250330T114735Z
UID:10000610-1739010600-1739017800@www.madriverglen.com
SUMMARY:Naturalist Guided Snowshoe Tours
DESCRIPTION:Every Saturday and Sunday at 10:30 am Join one of Mad River Glen’s Naturalists for a guided snowshoe trek tailored to your interest in the ecology and wildlife of Stark Mountain! Our outings and content vary each week depending on snow conditions and participants. Learn about the hardwood forests of the Green Mountains as well as our resident moose\, bear\, deer\, fisher\, coyote\, red fox and more! Easy to moderate difficulty. Click here to Request A Reservation today or click here to learn more about our Naturalist Programs. \n\n\n 
URL:https://www.madriverglen.com/calendar/naturalist-guided-snowshoe-tours-3/2025-02-08/
ATTACH;FMTTYPE=image/jpeg:https://www.madriverglen.com/wp-content/uploads/2017/12/VT47MRG19EMB-1-e1734547842697.jpg
END:VEVENT
END:VCALENDAR