BEGIN:VCALENDAR
VERSION:2.0
PRODID:-//Mad River Glen, Vermont - ECPv6.15.17//NONSGML v1.0//EN
CALSCALE:GREGORIAN
METHOD:PUBLISH
X-ORIGINAL-URL:https://www.madriverglen.com
X-WR-CALDESC:Events for Mad River Glen, Vermont
REFRESH-INTERVAL;VALUE=DURATION:PT1H
X-Robots-Tag:noindex
X-PUBLISHED-TTL:PT1H
BEGIN:VTIMEZONE
TZID:America/New_York
BEGIN:DAYLIGHT
TZOFFSETFROM:-0500
TZOFFSETTO:-0400
TZNAME:EDT
DTSTART:20240310T070000
END:DAYLIGHT
BEGIN:STANDARD
TZOFFSETFROM:-0400
TZOFFSETTO:-0500
TZNAME:EST
DTSTART:20241103T060000
END:STANDARD
BEGIN:DAYLIGHT
TZOFFSETFROM:-0500
TZOFFSETTO:-0400
TZNAME:EDT
DTSTART:20250309T070000
END:DAYLIGHT
BEGIN:STANDARD
TZOFFSETFROM:-0400
TZOFFSETTO:-0500
TZNAME:EST
DTSTART:20251102T060000
END:STANDARD
BEGIN:DAYLIGHT
TZOFFSETFROM:-0500
TZOFFSETTO:-0400
TZNAME:EDT
DTSTART:20260308T070000
END:DAYLIGHT
BEGIN:STANDARD
TZOFFSETFROM:-0400
TZOFFSETTO:-0500
TZNAME:EST
DTSTART:20261101T060000
END:STANDARD
END:VTIMEZONE
BEGIN:VEVENT
DTSTART;TZID=America/New_York:20250214T110000
DTEND;TZID=America/New_York:20250214T150000
DTSTAMP:20260423T152901
CREATED:20241030T165025Z
LAST-MODIFIED:20250214T132945Z
UID:10000490-1739530800-1739545200@www.madriverglen.com
SUMMARY:Specialty Foods Day
DESCRIPTION:Ski Vermont and Vermont Specialty Foods team up to offer up samples of their fine products. Participating specialty food producers include Cabot Cheese\, St Johnsbury Distillery\, Vermont Hard Seltzer Company\, Cold Hollow Cider Mill\, Day Chaser/Woodchuck\, Paprika Empanadas\, Hillside Botanicals & Butterfly Bakery of Vermont \n.
URL:https://www.madriverglen.com/calendar/specialty-foods-day-2/
ATTACH;FMTTYPE=image/png:https://www.madriverglen.com/wp-content/uploads/2023/07/Screenshot-2023-07-19-at-2.21.39-PM-e1734546704321.png
END:VEVENT
BEGIN:VEVENT
DTSTART;TZID=America/New_York:20250214T120000
DTEND;TZID=America/New_York:20250214T160000
DTSTAMP:20260423T152901
CREATED:20250206T145518Z
LAST-MODIFIED:20250214T133028Z
UID:10000673-1739534400-1739548800@www.madriverglen.com
SUMMARY:Sunnyside Double Speed Dating
DESCRIPTION:This Valentine’s Day\, love will be in the air—and on the slopes. Join us for the first ever Speed Dating event on the Sunnyside Double chairlift. Whether you’re a serious skier or just looking to meet someone fun and adventurous\, this Valentine’s Day Speed Dating event is the perfect way to make connections with people who share your enthusiasm for skiing at Mad River Glen. \nParticipants will meet fellow singles for a series of high-altitude\, lift-assisted speed dates. Set against the stunning winter landscape of the Green Mountains\, the event invites singles of all ages to hop on the Sunnyside Double chairlift and engage in quick\, exciting conversations with new potential matches. Between the fresh mountain air and the unique setting\, this is no ordinary speed dating experience—it’s one you’ll remember for years to come. \nThroughout the event\, singles will enjoy brief conversations while riding the Sunnyside Double chairlift up the mountain. If the vibes are good singles can ride to the top of the Sunnyside Double and ski back to the base area together\, if the vibes are off skiers can disembark from the chairlift at Mid-Station and return to the base to find another potential match. After each ride participants will rotate to meet a new date\, ensuring that everyone has the opportunity to make multiple connections. Following the ski day singles are encouraged to meet up in Stark’s Pub for a social hour where they can continue to mingle\, share stories\, and enjoy some live music. \nThe event offers a fun\, relaxed atmosphere where attendees can bond over their shared love of the outdoors and perhaps find something more—whether it’s a new friendship or the start of a romance. \nSpace is limited\, so be sure to sign up early to secure your spot for this exciting\, one-of-a-kind Valentine’s Day experience. \nEvent Details: \n\nDate: Friday\, February 14\, 2025\nTime: 12:00 PM – 4:00 PM (Check-in begins at 10:30 AM on the 3rd floor)\nLocation: Sunnyside Double Chairlift/Stark’s Pub\nAges: 21 and over\nRegistration: ONLINE ONLY – CLICK HERE!
URL:https://www.madriverglen.com/calendar/sunnyside-double-speed-dating/
ATTACH;FMTTYPE=image/png:https://www.madriverglen.com/wp-content/uploads/2025/02/Screenshot-2025-02-03-at-1.49.01-PM-e1738853593301.png
END:VEVENT
BEGIN:VEVENT
DTSTART;TZID=America/New_York:20250214T143000
DTEND;TZID=America/New_York:20250214T170000
DTSTAMP:20260423T152901
CREATED:20241209T145511Z
LAST-MODIFIED:20250102T151809Z
UID:10000499-1739543400-1739552400@www.madriverglen.com
SUMMARY:Live Music Aprés in Stark's Pub
DESCRIPTION:Our live music series continues this season on Fridays\, après-ski\, from 2:30 to 5:00 PM! A huge thank you to our friends at Lawson’s Finest Liquids for supporting local musicians. Fridays throughout the ski season\, we’ll showcase a rotating lineup of talented local artists. Be sure to check out our event calendar for a full list of performances. Stark’s Pub is open daily during the winter ski season\, from 11:00 AM to 5:00 PM. Come join us for great music and good times! \n \nWinter Music Schedule: \n12.20 The Caleb Garby Trio \n01.03 Atom & the Orbits \n01.10 Straight Jacket Slumber Party \n01.17 Rob Pierce & Bob \n01.20 Brett Hughes & Lowell Thompson \n01.24 Madigan Linnane \n02.07 Fun Dip \n02.14 Local 28 \n02.28 Brett Hughes & Lowell Thompson \n03.07 John Lackard Trio \n03.14 Clint Bierman & Friends \n03.21 Jaded Ravins \n04.04 Brett Hughes & Lowell Thompson \n04.11 Dave O & Mike Schuster \nThanks to our friends at Lawson’s Finest Liquids for supporting local artists & good vibes year-round in Stark’s Pub.
URL:https://www.madriverglen.com/calendar/live-music-apres-in-starks-pub-7/
CATEGORIES:Aprés
ATTACH;FMTTYPE=image/jpeg:https://www.madriverglen.com/wp-content/uploads/2024/12/LOCAL28-e1734546858811.jpg
END:VEVENT
END:VCALENDAR