BEGIN:VCALENDAR
VERSION:2.0
PRODID:-//Mad River Glen, Vermont - ECPv6.15.17//NONSGML v1.0//EN
CALSCALE:GREGORIAN
METHOD:PUBLISH
X-WR-CALNAME:Mad River Glen, Vermont
X-ORIGINAL-URL:https://www.madriverglen.com
X-WR-CALDESC:Events for Mad River Glen, Vermont
REFRESH-INTERVAL;VALUE=DURATION:PT1H
X-Robots-Tag:noindex
X-PUBLISHED-TTL:PT1H
BEGIN:VTIMEZONE
TZID:America/New_York
BEGIN:DAYLIGHT
TZOFFSETFROM:-0500
TZOFFSETTO:-0400
TZNAME:EDT
DTSTART:20240310T070000
END:DAYLIGHT
BEGIN:STANDARD
TZOFFSETFROM:-0400
TZOFFSETTO:-0500
TZNAME:EST
DTSTART:20241103T060000
END:STANDARD
BEGIN:DAYLIGHT
TZOFFSETFROM:-0500
TZOFFSETTO:-0400
TZNAME:EDT
DTSTART:20250309T070000
END:DAYLIGHT
BEGIN:STANDARD
TZOFFSETFROM:-0400
TZOFFSETTO:-0500
TZNAME:EST
DTSTART:20251102T060000
END:STANDARD
BEGIN:DAYLIGHT
TZOFFSETFROM:-0500
TZOFFSETTO:-0400
TZNAME:EDT
DTSTART:20260308T070000
END:DAYLIGHT
BEGIN:STANDARD
TZOFFSETFROM:-0400
TZOFFSETTO:-0500
TZNAME:EST
DTSTART:20261101T060000
END:STANDARD
END:VTIMEZONE
BEGIN:VEVENT
DTSTART;TZID=America/New_York:20250224T093000
DTEND;TZID=America/New_York:20250224T120000
DTSTAMP:20260422T215318
CREATED:20240806T174735Z
LAST-MODIFIED:20241218T182712Z
UID:10000461-1740389400-1740398400@www.madriverglen.com
SUMMARY:Graybeard's Clinic
DESCRIPTION:The Graybeard’s Clinic is designed for men who are intermediate to advanced skiers. The clinic will focus on learning to fully enjoy the Mad River Glen skiing experience by deepening fundamental skills and then applying those skills to the varied terrain that makes Mad River special. Participants will learn to ski groomers and the bumps better and with more confidence – making it more fun and joyful. We will also focus on specific mechanics that are a bit easier on your body\, thus enhancing your overall ski experience here at Mad River Glen and wherever your skis may take you. \nThe clinic will be led by Rick Ruback who has been coaching ski racing at Mad River for over twenty years. Rick is excited to bring some racing skills and drills into adult teaching as a way to help the participants improve their skiing. Joining Rick will be a collection of some of the most experienced members of the Mad River Glen Ski School. \nDates: Mondays January 27 February 3\, 10 & 24\, March 3\, 10 & 17 \nTime: 9:30 am – 12:00 pm \nCost: $349 7 week session (valid ticket or pass required) \nREQUEST A RESERVATION
URL:https://www.madriverglen.com/calendar/graybeards-clinic/2025-02-24/
CATEGORIES:Adult Ski School
ATTACH;FMTTYPE=image/png:https://www.madriverglen.com/wp-content/uploads/2024/08/Screenshot-2024-08-06-at-1.47.14 PM-e1734546424397.png
END:VEVENT
END:VCALENDAR