BEGIN:VCALENDAR
VERSION:2.0
PRODID:-//Mad River Glen, Vermont - ECPv6.15.17//NONSGML v1.0//EN
CALSCALE:GREGORIAN
METHOD:PUBLISH
X-ORIGINAL-URL:https://www.madriverglen.com
X-WR-CALDESC:Events for Mad River Glen, Vermont
REFRESH-INTERVAL;VALUE=DURATION:PT1H
X-Robots-Tag:noindex
X-PUBLISHED-TTL:PT1H
BEGIN:VTIMEZONE
TZID:America/New_York
BEGIN:DAYLIGHT
TZOFFSETFROM:-0500
TZOFFSETTO:-0400
TZNAME:EDT
DTSTART:20240310T070000
END:DAYLIGHT
BEGIN:STANDARD
TZOFFSETFROM:-0400
TZOFFSETTO:-0500
TZNAME:EST
DTSTART:20241103T060000
END:STANDARD
BEGIN:DAYLIGHT
TZOFFSETFROM:-0500
TZOFFSETTO:-0400
TZNAME:EDT
DTSTART:20250309T070000
END:DAYLIGHT
BEGIN:STANDARD
TZOFFSETFROM:-0400
TZOFFSETTO:-0500
TZNAME:EST
DTSTART:20251102T060000
END:STANDARD
BEGIN:DAYLIGHT
TZOFFSETFROM:-0500
TZOFFSETTO:-0400
TZNAME:EDT
DTSTART:20260308T070000
END:DAYLIGHT
BEGIN:STANDARD
TZOFFSETFROM:-0400
TZOFFSETTO:-0500
TZNAME:EST
DTSTART:20261101T060000
END:STANDARD
END:VTIMEZONE
BEGIN:VEVENT
DTSTART;TZID=America/New_York:20250302T073000
DTEND;TZID=America/New_York:20250302T170000
DTSTAMP:20260422T232512
CREATED:20240926T175739Z
LAST-MODIFIED:20241222T192604Z
UID:10000488-1740900600-1740934800@www.madriverglen.com
SUMMARY:IFSA Junior 3*
DESCRIPTION:Mad River Glen’s IFSA Junior 3* is scheduled for Friday\, February 28th & Saturday\, March 1st with Sunday\, March 2nd as a weather day. \nImportant Registration Information: \n\nLift ticket or season pass required\nCompetitors MUST have an active 2025 IFSA Membership to register for this event.\nThis event is limited to 100 competitors.\nThis competition is a two-day event scheduled over 3 days including Sunday as a weather window\nHelmets and back protectors are mandatory.\n\nEvent Description:\nMad River Glen\, the fertile crescent of big mountain skiing in New England is proud to be hosting a two-day IFSA Junior 3* series event. Come test your mettle on the east coast’s most challenging terrain. This event is open to skiers age 12-14 and 15-18 with an active 2025 IFSA membership. The competition is named in honor of Ryan Hawks and the Flyin’ Ryan Foundation. \nAge Categories:\n12-14 Female & Male Ski\n15-18 Female & Male Ski \nEvent Information: \nThe event is limited to 100 competitors. The top finishers from Friday will qualify for Saturday’s final. Scores from both days will be calculated to determine the overall winners. Competitors must properly wear their bib\, helmet and back protector in order to compete. We will run in start order as best we can within age/gender categories\, late arrivals will be sent so long as we have not moved on to another age/gender. On finals day we will run in reverse order based on finishes from day one. Bibs will be collected in the finish area both days. Start lists\, venue maps and results will all be made available via Stack Team App and LiveHeats in a timely manner. Pre-purchased competitor & spectator tickets will be distributed at check-in/bib pick-up on Friday. Spectators should visit our online store and buy in advance. Please do not wait until the end of the week to purchase. Competitors (and their support crew) who make the cut to Saturday’s finals will be given vouchers at check-in/bib pick-up to purchase tickets on Saturday. There will be no early distribution of tickets or bibs. Ticket vouchers will need to be redeemed for active tickets at the ticket booth on Saturday before loading the chairlift. The ticket booth opens at 8:00 am on weekends and 8:30 mid-week. Please note that the event timeline allows for extra time on Saturday morning to facilitate ticketing. Venue access is only permitted for event staff\, patrol\, authorized photographers\, competitors who are properly displaying their bibs and IFSA-certified coaches. All other venue access needs to be cleared first with the Technical Director. \nCompetition Venues\nFriday’s qualifier event will take place on Gazelle located off the top of the Sunnyside Double Chair. \nFinals will take place on Saturday\, the event will move over to Lift Line starting just below mid-station under the fabled Single Chair with the finish just above tower 9. \nEvent Timeline: \nCompetitor Check-in & Bib Pick-up \n\nFriday: 7:30 – 8:30 on the 3rd floor of the Basebox\nSaturday: 7:30 – 8:30 on the 3rd floor of the Basebox\n\nMandatory Competitor Meetings \n\nFriday: 8:30 on the 3rd floor of the Basebox\nSaturday: 8:30 on the 3rd floor of the Basebox\n\nCourse Inspection \n\nFriday: 8:45 – 9:45 am\nSaturday: 9:00 – 10:00 am\n\nEvent Start \n\nFriday: 10:00 am\nSaturday: 10:30 am\n\nAwards/Cut Announcement \n\nFriday: on the deck of the Single at 4:30 pm\nSaturday: on the deck of the Single at 4:30 pm\n\nEVENT SPONSORS
URL:https://www.madriverglen.com/calendar/ifsa-junior-3-2/
CATEGORIES:Freeski
ATTACH;FMTTYPE=image/png:https://www.madriverglen.com/wp-content/uploads/2024/08/Screenshot-2024-08-06-at-2.02.51 PM-e1734547311345.png
END:VEVENT
BEGIN:VEVENT
DTSTART;TZID=America/New_York:20250302T100000
DTEND;TZID=America/New_York:20250302T140000
DTSTAMP:20260422T232512
CREATED:20241222T132547Z
LAST-MODIFIED:20241222T192822Z
UID:10000649-1740909600-1740924000@www.madriverglen.com
SUMMARY:Ski School Cookie Race
DESCRIPTION:This new annual event opens up the world of ski racing to youngsters in our seasonal ski school programs. The ski school cookie races take place on Lark in Birdland!
URL:https://www.madriverglen.com/calendar/ski-school-cookie-race-2/2025-03-02/
CATEGORIES:Race
ATTACH;FMTTYPE=image/jpeg:https://www.madriverglen.com/wp-content/uploads/2023/07/P1070992-scaled-e1734873850149.jpg
END:VEVENT
BEGIN:VEVENT
DTSTART;TZID=America/New_York:20250302T103000
DTEND;TZID=America/New_York:20250302T123000
DTSTAMP:20260422T232512
CREATED:20241217T145422Z
LAST-MODIFIED:20250330T114735Z
UID:10000617-1740911400-1740918600@www.madriverglen.com
SUMMARY:Naturalist Guided Snowshoe Tours
DESCRIPTION:Every Saturday and Sunday at 10:30 am Join one of Mad River Glen’s Naturalists for a guided snowshoe trek tailored to your interest in the ecology and wildlife of Stark Mountain! Our outings and content vary each week depending on snow conditions and participants. Learn about the hardwood forests of the Green Mountains as well as our resident moose\, bear\, deer\, fisher\, coyote\, red fox and more! Easy to moderate difficulty. Click here to Request A Reservation today or click here to learn more about our Naturalist Programs. \n\n\n 
URL:https://www.madriverglen.com/calendar/naturalist-guided-snowshoe-tours-3/2025-03-02/
ATTACH;FMTTYPE=image/jpeg:https://www.madriverglen.com/wp-content/uploads/2017/12/VT47MRG19EMB-1-e1734547842697.jpg
END:VEVENT
END:VCALENDAR