BEGIN:VCALENDAR
VERSION:2.0
PRODID:-//Mad River Glen, Vermont - ECPv6.15.17//NONSGML v1.0//EN
CALSCALE:GREGORIAN
METHOD:PUBLISH
X-WR-CALNAME:Mad River Glen, Vermont
X-ORIGINAL-URL:https://www.madriverglen.com
X-WR-CALDESC:Events for Mad River Glen, Vermont
REFRESH-INTERVAL;VALUE=DURATION:PT1H
X-Robots-Tag:noindex
X-PUBLISHED-TTL:PT1H
BEGIN:VTIMEZONE
TZID:America/New_York
BEGIN:DAYLIGHT
TZOFFSETFROM:-0500
TZOFFSETTO:-0400
TZNAME:EDT
DTSTART:20240310T070000
END:DAYLIGHT
BEGIN:STANDARD
TZOFFSETFROM:-0400
TZOFFSETTO:-0500
TZNAME:EST
DTSTART:20241103T060000
END:STANDARD
BEGIN:DAYLIGHT
TZOFFSETFROM:-0500
TZOFFSETTO:-0400
TZNAME:EDT
DTSTART:20250309T070000
END:DAYLIGHT
BEGIN:STANDARD
TZOFFSETFROM:-0400
TZOFFSETTO:-0500
TZNAME:EST
DTSTART:20251102T060000
END:STANDARD
BEGIN:DAYLIGHT
TZOFFSETFROM:-0500
TZOFFSETTO:-0400
TZNAME:EDT
DTSTART:20260308T070000
END:DAYLIGHT
BEGIN:STANDARD
TZOFFSETFROM:-0400
TZOFFSETTO:-0500
TZNAME:EST
DTSTART:20261101T060000
END:STANDARD
END:VTIMEZONE
BEGIN:VEVENT
DTSTART;TZID=America/New_York:20250322T103000
DTEND;TZID=America/New_York:20250322T123000
DTSTAMP:20260422T215254
CREATED:20241217T145422Z
LAST-MODIFIED:20250330T114735Z
UID:10000622-1742639400-1742646600@www.madriverglen.com
SUMMARY:Naturalist Guided Snowshoe Tours
DESCRIPTION:Every Saturday and Sunday at 10:30 am Join one of Mad River Glen’s Naturalists for a guided snowshoe trek tailored to your interest in the ecology and wildlife of Stark Mountain! Our outings and content vary each week depending on snow conditions and participants. Learn about the hardwood forests of the Green Mountains as well as our resident moose\, bear\, deer\, fisher\, coyote\, red fox and more! Easy to moderate difficulty. Click here to Request A Reservation today or click here to learn more about our Naturalist Programs. \n\n\n 
URL:https://www.madriverglen.com/calendar/naturalist-guided-snowshoe-tours-3/2025-03-22/
ATTACH;FMTTYPE=image/jpeg:https://www.madriverglen.com/wp-content/uploads/2017/12/VT47MRG19EMB-1-e1734547842697.jpg
END:VEVENT
BEGIN:VEVENT
DTSTART;TZID=America/New_York:20250322T143000
DTEND;TZID=America/New_York:20250322T173000
DTSTAMP:20260422T215254
CREATED:20250313T155617Z
LAST-MODIFIED:20250313T181343Z
UID:10000694-1742653800-1742664600@www.madriverglen.com
SUMMARY:She Shredz
DESCRIPTION:She Shredz invites all women to join in on an informal event designed to encourage women to embrace adventure\, challenge themselves\, and break down barriers. She Shredz is all about building confidence on the slopes\, creating an inclusive community\, and celebrating the power of women in outdoor sports. The afternoon will feature a variety of activities aimed at building confidence and creating unforgettable memories. From a group jump session to helmet decorating there are activities on the slopes and an après-ski gathering\, this event promises an afternoon full of fun\, laughter\, and connection. \nEvent Highlights Include: \n\nLady Jump Session on Partridge 2:30 – 3:30 pm\nParty Lap on the Sunnyside Double 3:30 – 3:45 pm\nAprès-Ski helmet & gear decorating on the 3rd floor\nMovie screening of “All In” on the 3rd floor\nCostumes encouraged\, snacks included\n\n \n  \n  \n  \n  \n  \n  \n  \n  \n*She Shredz is being hosted by members of the Mad River Glen Ski Club*
URL:https://www.madriverglen.com/calendar/she-shredz/
CATEGORIES:Freeski
ATTACH;FMTTYPE=image/jpeg:https://www.madriverglen.com/wp-content/uploads/2025/03/sheshredz-e1741881366326.jpg
END:VEVENT
END:VCALENDAR