BEGIN:VCALENDAR
VERSION:2.0
PRODID:-//Mad River Glen, Vermont - ECPv6.15.17//NONSGML v1.0//EN
CALSCALE:GREGORIAN
METHOD:PUBLISH
X-ORIGINAL-URL:https://www.madriverglen.com
X-WR-CALDESC:Events for Mad River Glen, Vermont
REFRESH-INTERVAL;VALUE=DURATION:PT1H
X-Robots-Tag:noindex
X-PUBLISHED-TTL:PT1H
BEGIN:VTIMEZONE
TZID:America/New_York
BEGIN:DAYLIGHT
TZOFFSETFROM:-0500
TZOFFSETTO:-0400
TZNAME:EDT
DTSTART:20240310T070000
END:DAYLIGHT
BEGIN:STANDARD
TZOFFSETFROM:-0400
TZOFFSETTO:-0500
TZNAME:EST
DTSTART:20241103T060000
END:STANDARD
BEGIN:DAYLIGHT
TZOFFSETFROM:-0500
TZOFFSETTO:-0400
TZNAME:EDT
DTSTART:20250309T070000
END:DAYLIGHT
BEGIN:STANDARD
TZOFFSETFROM:-0400
TZOFFSETTO:-0500
TZNAME:EST
DTSTART:20251102T060000
END:STANDARD
BEGIN:DAYLIGHT
TZOFFSETFROM:-0500
TZOFFSETTO:-0400
TZNAME:EDT
DTSTART:20260308T070000
END:DAYLIGHT
BEGIN:STANDARD
TZOFFSETFROM:-0400
TZOFFSETTO:-0500
TZNAME:EST
DTSTART:20261101T060000
END:STANDARD
END:VTIMEZONE
BEGIN:VEVENT
DTSTART;TZID=America/New_York:20250908T070000
DTEND;TZID=America/New_York:20250919T150000
DTSTAMP:20260423T145550
CREATED:20250319T122034Z
LAST-MODIFIED:20250319T122034Z
UID:10000696-1757314800-1758294000@www.madriverglen.com
SUMMARY:Mow Crew
DESCRIPTION:Mow some grass\, earn your pass! Mow crew is the best way to get an intimate look at all of the nooks and crannies of Stark Mountain\, burn some calories and make new ski buddies. At the end of the 10 days of work you’ll have earned some cash for your pocket and a full season’s pass for the upcoming winter. \nA little run down on how we mow our trails… We use hand scythes to cut the grass\, ferns and shrubs on the steepest slopes here at Mad River Glen. Most of the beginner and intermediate terrain is mowed with a tractor\, mow crew steps in to finish off the areas the tractor can’t go. We mow and move in a line shoulder-to-shoulder hiking up the trails as we go. It can be tough work but the camaraderie makes it so much fun! Truly\, it is rewarding and at the end of the 10 days\, you’ll have a full season ski pass and some cash in your pocket. Not only that but you will likely have learned something about the terrain you didn’t already know and you’ll have gained a couple of new ski buddies. \nThe day begins at 7:00 am and we mow until about 3:00 pm with many short breaks in between. A backpack with a hydration pack is highly recommended and you should also pack yourself enough food to get you through the day. There will be water stations along the route to refill your containers and likely a ride down on the chairlift at the end of the day to ease the knees. Most people wear pants and long sleeves to fend off bugs and protect them from the sun but a few hardy folks go shorts and tees\, everyone wears hiking boots – no exceptions. We will provide the scythe\, a pair of work gloves\, a sharpening stone/tools and water. \nIf you’re interested in joining the mow crew this fall please send an email to ry@madriverglen.com.
URL:https://www.madriverglen.com/calendar/mow-crew/
ATTACH;FMTTYPE=image/jpeg:https://www.madriverglen.com/wp-content/uploads/2025/03/1E7A4418-scaled-e1742386805298.jpg
END:VEVENT
END:VCALENDAR