BEGIN:VCALENDAR
VERSION:2.0
PRODID:-//Mad River Glen, Vermont - ECPv6.15.17//NONSGML v1.0//EN
CALSCALE:GREGORIAN
METHOD:PUBLISH
X-ORIGINAL-URL:https://www.madriverglen.com
X-WR-CALDESC:Events for Mad River Glen, Vermont
REFRESH-INTERVAL;VALUE=DURATION:PT1H
X-Robots-Tag:noindex
X-PUBLISHED-TTL:PT1H
BEGIN:VTIMEZONE
TZID:America/New_York
BEGIN:DAYLIGHT
TZOFFSETFROM:-0500
TZOFFSETTO:-0400
TZNAME:EDT
DTSTART:20240310T070000
END:DAYLIGHT
BEGIN:STANDARD
TZOFFSETFROM:-0400
TZOFFSETTO:-0500
TZNAME:EST
DTSTART:20241103T060000
END:STANDARD
BEGIN:DAYLIGHT
TZOFFSETFROM:-0500
TZOFFSETTO:-0400
TZNAME:EDT
DTSTART:20250309T070000
END:DAYLIGHT
BEGIN:STANDARD
TZOFFSETFROM:-0400
TZOFFSETTO:-0500
TZNAME:EST
DTSTART:20251102T060000
END:STANDARD
BEGIN:DAYLIGHT
TZOFFSETFROM:-0500
TZOFFSETTO:-0400
TZNAME:EDT
DTSTART:20260308T070000
END:DAYLIGHT
BEGIN:STANDARD
TZOFFSETFROM:-0400
TZOFFSETTO:-0500
TZNAME:EST
DTSTART:20261101T060000
END:STANDARD
END:VTIMEZONE
BEGIN:VEVENT
DTSTART;TZID=America/New_York:20250920T080000
DTEND;TZID=America/New_York:20250920T090000
DTSTAMP:20260423T133236
CREATED:20250918T152158Z
LAST-MODIFIED:20250918T152325Z
UID:10000706-1758355200-1758358800@www.madriverglen.com
SUMMARY:Co-op Board of Trustees Off-Season Meeting
DESCRIPTION:September’s meeting will be hosted in the Cricket Club.\nThe Co-op’s Board of Trustees meets monthly\, except July and August. All Co-op Shareholders are encouraged to attend Board meetings. Stay abreast of what is happening at America’s only skier-owned mountain by checking out the latest Board Meeting Minutes. If you have a comment\, question or concern for the board you can reach them by emailing coopboard@madriverglen.com \nJoin us on Google Meet: https://meet.google.com/jhi-umff-poa
URL:https://www.madriverglen.com/calendar/co-op-board-of-trustees-meeting-5-2/
CATEGORIES:Co-Op
ATTACH;FMTTYPE=image/jpeg:https://www.madriverglen.com/wp-content/uploads/2025/03/I9A1442-scaled-e1743432575969.jpg
END:VEVENT
BEGIN:VEVENT
DTSTART;TZID=America/New_York:20250920T120000
DTEND;TZID=America/New_York:20250920T160000
DTSTAMP:20260423T133236
CREATED:20250226T184412Z
LAST-MODIFIED:20250226T184412Z
UID:10000228-1758369600-1758384000@www.madriverglen.com
SUMMARY:Siptemberfest
DESCRIPTION:STARK’S PUB WILL BE CLOSED ON SATURDAY\, SEPTEMBER 20TH FOR SIPTEMBERFEST.  \nBack in 2008\, three folks who really like beer\, really like festivals and really like Mad River Glen\, decided we wanted to bring the fun of a beer fest back to the Valley and that the only way it was going to happen was if we pulled up our bootstraps and did it ourselves! \nAlthough Siptemberfest has grown over the years it is still the greatest little beer festival in the state of Vermont. There are still only around 24 brewers and roughly 800 tickets for sale\, making it the Best Little Beer Fest in Vermont. For more information check out the official SIPtemberfest website.
URL:https://www.madriverglen.com/calendar/siptemberfest-2/
ATTACH;FMTTYPE=image/jpeg:https://www.madriverglen.com/wp-content/uploads/2023/07/0I9A3995-scaled-e1734548353906.jpg
ORGANIZER;CN="Meg's Events":MAILTO:therealmegsevents@gmail.com
END:VEVENT
END:VCALENDAR