BEGIN:VCALENDAR
VERSION:2.0
PRODID:-//Mad River Glen, Vermont - ECPv6.15.17//NONSGML v1.0//EN
CALSCALE:GREGORIAN
METHOD:PUBLISH
X-ORIGINAL-URL:https://www.madriverglen.com
X-WR-CALDESC:Events for Mad River Glen, Vermont
REFRESH-INTERVAL;VALUE=DURATION:PT1H
X-Robots-Tag:noindex
X-PUBLISHED-TTL:PT1H
BEGIN:VTIMEZONE
TZID:America/New_York
BEGIN:DAYLIGHT
TZOFFSETFROM:-0500
TZOFFSETTO:-0400
TZNAME:EDT
DTSTART:20240310T070000
END:DAYLIGHT
BEGIN:STANDARD
TZOFFSETFROM:-0400
TZOFFSETTO:-0500
TZNAME:EST
DTSTART:20241103T060000
END:STANDARD
BEGIN:DAYLIGHT
TZOFFSETFROM:-0500
TZOFFSETTO:-0400
TZNAME:EDT
DTSTART:20250309T070000
END:DAYLIGHT
BEGIN:STANDARD
TZOFFSETFROM:-0400
TZOFFSETTO:-0500
TZNAME:EST
DTSTART:20251102T060000
END:STANDARD
BEGIN:DAYLIGHT
TZOFFSETFROM:-0500
TZOFFSETTO:-0400
TZNAME:EDT
DTSTART:20260308T070000
END:DAYLIGHT
BEGIN:STANDARD
TZOFFSETFROM:-0400
TZOFFSETTO:-0500
TZNAME:EST
DTSTART:20261101T060000
END:STANDARD
END:VTIMEZONE
BEGIN:VEVENT
DTSTART;TZID=America/New_York:20251110T120000
DTEND;TZID=America/New_York:20251110T140000
DTSTAMP:20260423T064602
CREATED:20251110T131957Z
LAST-MODIFIED:20251110T143219Z
UID:10000788-1762776000-1762783200@www.madriverglen.com
SUMMARY:Emergency Co-op Board of Trustees Meeting
DESCRIPTION:All Co-op Shareholders are encouraged to attend Board meetings. Stay abreast of what is happening at America’s only skier-owned mountain by checking out the latest Board Meeting Minutes. If you have a comment\, question or concern for the board you can reach them by emailing coopboard@madriverglen.com \nMeeting Location: 3rd Floor of the Basebox or Google Meet \nMRG Board of Trustees Meeting Information \nGoogle Meet Link:\nMad River Glen Cooperative Board of Trustees Meeting\nMonday\, November 10 · 12:00 – 2:00pm\nTime zone: America/New_York\nGoogle Meet joining info\nVideo call link: https://meet.google.com/smg-uiss-ysb\nOr dial: ‪(US) +1 304-918-0731‬ PIN: ‪261 748 182‬#\nMore phone numbers: https://tel.meet/smg-uiss-ysb?pin=4632895884336
URL:https://www.madriverglen.com/calendar/emergency-co-op-board-of-trustees-meeting-2/
CATEGORIES:Co-Op
ATTACH;FMTTYPE=image/jpeg:https://www.madriverglen.com/wp-content/uploads/2025/09/Shareholders-meeting-scaled-e1756923365601.jpg
END:VEVENT
END:VCALENDAR