BEGIN:VCALENDAR
VERSION:2.0
PRODID:-//Mad River Glen, Vermont - ECPv6.15.17//NONSGML v1.0//EN
CALSCALE:GREGORIAN
METHOD:PUBLISH
X-ORIGINAL-URL:https://www.madriverglen.com
X-WR-CALDESC:Events for Mad River Glen, Vermont
REFRESH-INTERVAL;VALUE=DURATION:PT1H
X-Robots-Tag:noindex
X-PUBLISHED-TTL:PT1H
BEGIN:VTIMEZONE
TZID:America/New_York
BEGIN:DAYLIGHT
TZOFFSETFROM:-0500
TZOFFSETTO:-0400
TZNAME:EDT
DTSTART:20240310T070000
END:DAYLIGHT
BEGIN:STANDARD
TZOFFSETFROM:-0400
TZOFFSETTO:-0500
TZNAME:EST
DTSTART:20241103T060000
END:STANDARD
BEGIN:DAYLIGHT
TZOFFSETFROM:-0500
TZOFFSETTO:-0400
TZNAME:EDT
DTSTART:20250309T070000
END:DAYLIGHT
BEGIN:STANDARD
TZOFFSETFROM:-0400
TZOFFSETTO:-0500
TZNAME:EST
DTSTART:20251102T060000
END:STANDARD
BEGIN:DAYLIGHT
TZOFFSETFROM:-0500
TZOFFSETTO:-0400
TZNAME:EDT
DTSTART:20260308T070000
END:DAYLIGHT
BEGIN:STANDARD
TZOFFSETFROM:-0400
TZOFFSETTO:-0500
TZNAME:EST
DTSTART:20261101T060000
END:STANDARD
END:VTIMEZONE
BEGIN:VEVENT
DTSTART;TZID=America/New_York:20251115T080000
DTEND;TZID=America/New_York:20251115T090000
DTSTAMP:20260423T062052
CREATED:20250331T145041Z
LAST-MODIFIED:20251011T131600Z
UID:10000708-1763193600-1763197200@www.madriverglen.com
SUMMARY:Co-op Board of Trustees Off-Season Meeting
DESCRIPTION:The Co-op’s Board of Trustees meets monthly\, except July and August. All Co-op Shareholders are encouraged to attend Board meetings. Stay abreast of what is happening at America’s only skier-owned mountain by checking out the latest Board Meeting Minutes. If you have a comment\, question or concern for the board you can reach them by emailing coopboard@madriverglen.com \n  \nJoin us on Google Meet: https://meet.google.com/jhi-umff-poa
URL:https://www.madriverglen.com/calendar/co-op-board-of-trustees-meeting-5/
CATEGORIES:Co-Op
ATTACH;FMTTYPE=image/jpeg:https://www.madriverglen.com/wp-content/uploads/2025/03/I9A1442-scaled-e1743432575969.jpg
END:VEVENT
BEGIN:VEVENT
DTSTART;TZID=America/New_York:20251115T090000
DTEND;TZID=America/New_York:20251115T160000
DTSTAMP:20260423T062052
CREATED:20250916T153953Z
LAST-MODIFIED:20250917T123205Z
UID:10000782-1763197200-1763222400@www.madriverglen.com
SUMMARY:Waitsfield Elementary School Ski & Skate Sale
DESCRIPTION:Since 1979\, the Waitsfield Elementary School Ski & Skate Sale has been outfitting everyone for winter and is the longest-running sale in the Mad River Valley. Proudly sponsored by Sugarbush and Mad River Glen\, the event features new and used equipment and clothing for skiers\, riders\, skaters\, and winter lovers of all ages. \n\nWHEN: November 15\, 2025\nWHERE: Waitsfield Elementary School\nTIME: 9:00 am – 4:00 pm\nMORE INFO: https://bit.ly/3AYB5bc\nVOLUNTEER: https://signup.com/go/cdVCoXH\n\nAll proceeds benefit the Waitsfield Elementary School (W.E.S.) PTA.
URL:https://www.madriverglen.com/calendar/waitsfield-elementary-school-ski-skate-sale-3/
LOCATION:Waitsfield Elementary School\, 3951 Main St\, Waitsfield\, VT\, 05673\, United States
ATTACH;FMTTYPE=image/jpeg:https://www.madriverglen.com/wp-content/uploads/2025/09/0I9A0407-1-scaled-e1758037185559.jpg
END:VEVENT
END:VCALENDAR