BEGIN:VCALENDAR
VERSION:2.0
PRODID:-//Mad River Glen, Vermont - ECPv6.15.17//NONSGML v1.0//EN
CALSCALE:GREGORIAN
METHOD:PUBLISH
X-ORIGINAL-URL:https://www.madriverglen.com
X-WR-CALDESC:Events for Mad River Glen, Vermont
REFRESH-INTERVAL;VALUE=DURATION:PT1H
X-Robots-Tag:noindex
X-PUBLISHED-TTL:PT1H
BEGIN:VTIMEZONE
TZID:America/New_York
BEGIN:DAYLIGHT
TZOFFSETFROM:-0500
TZOFFSETTO:-0400
TZNAME:EDT
DTSTART:20240310T070000
END:DAYLIGHT
BEGIN:STANDARD
TZOFFSETFROM:-0400
TZOFFSETTO:-0500
TZNAME:EST
DTSTART:20241103T060000
END:STANDARD
BEGIN:DAYLIGHT
TZOFFSETFROM:-0500
TZOFFSETTO:-0400
TZNAME:EDT
DTSTART:20250309T070000
END:DAYLIGHT
BEGIN:STANDARD
TZOFFSETFROM:-0400
TZOFFSETTO:-0500
TZNAME:EST
DTSTART:20251102T060000
END:STANDARD
BEGIN:DAYLIGHT
TZOFFSETFROM:-0500
TZOFFSETTO:-0400
TZNAME:EDT
DTSTART:20260308T070000
END:DAYLIGHT
BEGIN:STANDARD
TZOFFSETFROM:-0400
TZOFFSETTO:-0500
TZNAME:EST
DTSTART:20261101T060000
END:STANDARD
END:VTIMEZONE
BEGIN:VEVENT
DTSTART;VALUE=DATE:20251120
DTEND;VALUE=DATE:20251125
DTSTAMP:20260423T071005
CREATED:20251008T191248Z
LAST-MODIFIED:20251008T193724Z
UID:10000784-1763596800-1764028799@www.madriverglen.com
SUMMARY:Prickly Mountain Film
DESCRIPTION:﻿ \nIn the late ’60s and ’70s\, a group of architects landed in Vermont with big ideas and a simple plan: to stop just designing buildings and start making them too. Drawing from Bauhaus ideals but rejecting the rigidity of academia\, they built by hand\, embraced mistakes\, and turned architecture into a wild\, creative experiment. More than just structures\, they built a way of life—one rooted in community\, empowerment through doing\, and the belief that process matters more than perfection. \nStitched into this story are the decades that shaped design/build\, told through the houses that best captured each era. The film moves through the radical homes of the ’60s\, where sculptural forms and bold ideas first took shape\, into the ’70s\, when creativity exploded alongside experiments in alternative energy and materials. By the ’80s\, Yestermorrow Design/Build School was founded along with the crown jewel Waitsfield10 house. \nAllie grew up in the middle of it all\, playing in half-finished houses where learning happened by trying and failing\, and trying again. Years later\, she picks up a camera to trace the movement’s history\, only to find herself pulled back into its ethos—this time\, by building a house of her own. Both nostalgic and full of momentum\, the film is a celebration of making cool stuff\, messing up\, and making more cool stuff—a reminder that the best way to build anything is to just start. \nhttps://www.pricklymountainfilm.com/
URL:https://www.madriverglen.com/calendar/prickly-mountain-film/
LOCATION:The Big Picture Theater\, 48 Carroll Road\, Waitsfield\, VT\, 05673\, United States
ATTACH;FMTTYPE=image/png:https://www.madriverglen.com/wp-content/uploads/2025/10/Screenshot-2025-10-08-at-2.44.14-PM-e1759949100834.png
END:VEVENT
END:VCALENDAR