BEGIN:VCALENDAR
VERSION:2.0
PRODID:-//Mad River Glen, Vermont - ECPv6.15.17//NONSGML v1.0//EN
CALSCALE:GREGORIAN
METHOD:PUBLISH
X-WR-CALNAME:Mad River Glen, Vermont
X-ORIGINAL-URL:https://www.madriverglen.com
X-WR-CALDESC:Events for Mad River Glen, Vermont
REFRESH-INTERVAL;VALUE=DURATION:PT1H
X-Robots-Tag:noindex
X-PUBLISHED-TTL:PT1H
BEGIN:VTIMEZONE
TZID:America/New_York
BEGIN:DAYLIGHT
TZOFFSETFROM:-0500
TZOFFSETTO:-0400
TZNAME:EDT
DTSTART:20250309T070000
END:DAYLIGHT
BEGIN:STANDARD
TZOFFSETFROM:-0400
TZOFFSETTO:-0500
TZNAME:EST
DTSTART:20251102T060000
END:STANDARD
BEGIN:DAYLIGHT
TZOFFSETFROM:-0500
TZOFFSETTO:-0400
TZNAME:EDT
DTSTART:20260308T070000
END:DAYLIGHT
BEGIN:STANDARD
TZOFFSETFROM:-0400
TZOFFSETTO:-0500
TZNAME:EST
DTSTART:20261101T060000
END:STANDARD
BEGIN:DAYLIGHT
TZOFFSETFROM:-0500
TZOFFSETTO:-0400
TZNAME:EDT
DTSTART:20270314T070000
END:DAYLIGHT
BEGIN:STANDARD
TZOFFSETFROM:-0400
TZOFFSETTO:-0500
TZNAME:EST
DTSTART:20271107T060000
END:STANDARD
BEGIN:DAYLIGHT
TZOFFSETFROM:-0500
TZOFFSETTO:-0400
TZNAME:EDT
DTSTART:20280312T070000
END:DAYLIGHT
BEGIN:STANDARD
TZOFFSETFROM:-0400
TZOFFSETTO:-0500
TZNAME:EST
DTSTART:20281105T060000
END:STANDARD
BEGIN:DAYLIGHT
TZOFFSETFROM:-0500
TZOFFSETTO:-0400
TZNAME:EDT
DTSTART:20290311T070000
END:DAYLIGHT
BEGIN:STANDARD
TZOFFSETFROM:-0400
TZOFFSETTO:-0500
TZNAME:EST
DTSTART:20291104T060000
END:STANDARD
BEGIN:DAYLIGHT
TZOFFSETFROM:-0500
TZOFFSETTO:-0400
TZNAME:EDT
DTSTART:20300310T070000
END:DAYLIGHT
BEGIN:STANDARD
TZOFFSETFROM:-0400
TZOFFSETTO:-0500
TZNAME:EST
DTSTART:20301103T060000
END:STANDARD
BEGIN:DAYLIGHT
TZOFFSETFROM:-0500
TZOFFSETTO:-0400
TZNAME:EDT
DTSTART:20310309T070000
END:DAYLIGHT
BEGIN:STANDARD
TZOFFSETFROM:-0400
TZOFFSETTO:-0500
TZNAME:EST
DTSTART:20311102T060000
END:STANDARD
END:VTIMEZONE
BEGIN:VEVENT
DTSTART;TZID=America/New_York:20260620T080000
DTEND;TZID=America/New_York:20260620T090000
DTSTAMP:20260425T120120
CREATED:20260324T184754Z
LAST-MODIFIED:20260324T184754Z
UID:10001139-1781942400-1781946000@www.madriverglen.com
SUMMARY:Co-op Board of Trustees Off-Season Meeting
DESCRIPTION:The Co-op’s Board of Trustees meets monthly\, except July and August. All Co-op Shareholders are encouraged to attend Board meetings. Stay abreast of what is happening at America’s only skier-owned mountain by checking out the latest Board Meeting Minutes. If you have a comment\, question or concern for the board you can reach them by emailing coopboard@madriverglen.com \n  \nJoin us on Google Meet: https://meet.google.com/jhi-umff-poa
URL:https://www.madriverglen.com/calendar/co-op-board-of-trustees-off-season-meeting/2026-06-20/
CATEGORIES:Co-Op
ATTACH;FMTTYPE=image/jpeg:https://www.madriverglen.com/wp-content/uploads/2026/03/Annual-shareholder-meeting-2-scaled-e1776256168863.jpeg
END:VEVENT
BEGIN:VEVENT
DTSTART;VALUE=DATE:20260908
DTEND;VALUE=DATE:20261001
DTSTAMP:20260425T120120
CREATED:20260313T133145Z
LAST-MODIFIED:20260313T133145Z
UID:10001134-1788825600-1790812799@www.madriverglen.com
SUMMARY:Fall Sale on 2026/2027 Season Passes\, Stark Mountain Cards and Kids' Seasonal Programs
DESCRIPTION:Remaining quantities of 2026-2027 Season Passes go on sale today at their current rate through the end of the month.\nStark Mountain Cards are on sale until the 30th of September and Kids’ Seasonal Programs are available to purchase at their lowest rate or until they reach capacity.\nIn order to maintain a unique\, uncrowded ski experience\, we have limited quantities of passes\, seasonal programs and Stark Mountain Cards available for sale. Please buy early\, once quantities are gone these products won’t be available again until next season. 
URL:https://www.madriverglen.com/calendar/fall-sale-on-2026-2027-season-passes-stark-mountain-cards-and-kids-seasonal-programs/
CATEGORIES:Co-Op
ATTACH;FMTTYPE=image/jpeg:https://www.madriverglen.com/wp-content/uploads/2025/09/DJI_0998-scaled-e1773408695556.jpg
END:VEVENT
BEGIN:VEVENT
DTSTART;VALUE=DATE:20260930
DTEND;VALUE=DATE:20261001
DTSTAMP:20260425T120120
CREATED:20230717T182044Z
LAST-MODIFIED:20250331T143800Z
UID:10000127-1790726400-1790812799@www.madriverglen.com
SUMMARY:Fall Sales Deadline Day
DESCRIPTION:Today is the deadline for the best deals on Season Passes\, Stark Mountain Cards and Kids’ Seasonal Programs. \n  \nSeptember 30th also marks the fiscal year for the Co-op\, APR is due and Mad Money from the previous season expires. \n  \n*Please note that Stark Mountain Cards are NOT available to purchase following the September 30th deadline.
URL:https://www.madriverglen.com/calendar/fall-sales-deadline-day/2026-09-30/
CATEGORIES:Co-Op
ATTACH;FMTTYPE=image/jpeg:https://www.madriverglen.com/wp-content/uploads/2023/07/I9A1093-scaled-e1743431871154.jpg
END:VEVENT
BEGIN:VEVENT
DTSTART;TZID=America/New_York:20270403T170000
DTEND;TZID=America/New_York:20270403T180000
DTSTAMP:20260425T120120
CREATED:20260218T140129Z
LAST-MODIFIED:20260218T141401Z
UID:10000356-1806771600-1806775200@www.madriverglen.com
SUMMARY:Co-op Annual Shareholder's Meeting
DESCRIPTION:MRG Co-op Shareholders ski free today! \nThe annual meeting for the owners of America’s only skier-owned mountain. All shareholders are encouraged to attend either in-person on the 3rd floor or watch a live stream via Google Meet. \nDon’t forget that it is also Shareholder Appreciation Day in the General Store when all Co-op Shareholders get 20% off of their purchases. \nShareholders\, please gather in front of the Basebox beginning at 4:45 for a new group photo. 
URL:https://www.madriverglen.com/calendar/co-op-annual-shareholders-meeting-3/2027-04-03/
CATEGORIES:Co-Op
ATTACH;FMTTYPE=image/jpeg:https://www.madriverglen.com/wp-content/uploads/2023/07/2023-Shareholders-1-scaled-e1734547571950.jpg
END:VEVENT
BEGIN:VEVENT
DTSTART;VALUE=DATE:20270930
DTEND;VALUE=DATE:20271001
DTSTAMP:20260425T120120
CREATED:20230717T182044Z
LAST-MODIFIED:20250331T143800Z
UID:10000128-1822262400-1822348799@www.madriverglen.com
SUMMARY:Fall Sales Deadline Day
DESCRIPTION:Today is the deadline for the best deals on Season Passes\, Stark Mountain Cards and Kids’ Seasonal Programs. \n  \nSeptember 30th also marks the fiscal year for the Co-op\, APR is due and Mad Money from the previous season expires. \n  \n*Please note that Stark Mountain Cards are NOT available to purchase following the September 30th deadline.
URL:https://www.madriverglen.com/calendar/fall-sales-deadline-day/2027-09-30/
CATEGORIES:Co-Op
ATTACH;FMTTYPE=image/jpeg:https://www.madriverglen.com/wp-content/uploads/2023/07/I9A1093-scaled-e1743431871154.jpg
END:VEVENT
BEGIN:VEVENT
DTSTART;TZID=America/New_York:20280401T170000
DTEND;TZID=America/New_York:20280401T180000
DTSTAMP:20260425T120120
CREATED:20260218T140129Z
LAST-MODIFIED:20260218T141401Z
UID:10000357-1838221200-1838224800@www.madriverglen.com
SUMMARY:Co-op Annual Shareholder's Meeting
DESCRIPTION:MRG Co-op Shareholders ski free today! \nThe annual meeting for the owners of America’s only skier-owned mountain. All shareholders are encouraged to attend either in-person on the 3rd floor or watch a live stream via Google Meet. \nDon’t forget that it is also Shareholder Appreciation Day in the General Store when all Co-op Shareholders get 20% off of their purchases. \nShareholders\, please gather in front of the Basebox beginning at 4:45 for a new group photo. 
URL:https://www.madriverglen.com/calendar/co-op-annual-shareholders-meeting-3/2028-04-01/
CATEGORIES:Co-Op
ATTACH;FMTTYPE=image/jpeg:https://www.madriverglen.com/wp-content/uploads/2023/07/2023-Shareholders-1-scaled-e1734547571950.jpg
END:VEVENT
BEGIN:VEVENT
DTSTART;VALUE=DATE:20280930
DTEND;VALUE=DATE:20281001
DTSTAMP:20260425T120120
CREATED:20230717T182044Z
LAST-MODIFIED:20250331T143800Z
UID:10000678-1853884800-1853971199@www.madriverglen.com
SUMMARY:Fall Sales Deadline Day
DESCRIPTION:Today is the deadline for the best deals on Season Passes\, Stark Mountain Cards and Kids’ Seasonal Programs. \n  \nSeptember 30th also marks the fiscal year for the Co-op\, APR is due and Mad Money from the previous season expires. \n  \n*Please note that Stark Mountain Cards are NOT available to purchase following the September 30th deadline.
URL:https://www.madriverglen.com/calendar/fall-sales-deadline-day/2028-09-30/
CATEGORIES:Co-Op
ATTACH;FMTTYPE=image/jpeg:https://www.madriverglen.com/wp-content/uploads/2023/07/I9A1093-scaled-e1743431871154.jpg
END:VEVENT
BEGIN:VEVENT
DTSTART;TZID=America/New_York:20290407T170000
DTEND;TZID=America/New_York:20290407T180000
DTSTAMP:20260425T120120
CREATED:20260218T140129Z
LAST-MODIFIED:20260218T141401Z
UID:10000358-1870275600-1870279200@www.madriverglen.com
SUMMARY:Co-op Annual Shareholder's Meeting
DESCRIPTION:MRG Co-op Shareholders ski free today! \nThe annual meeting for the owners of America’s only skier-owned mountain. All shareholders are encouraged to attend either in-person on the 3rd floor or watch a live stream via Google Meet. \nDon’t forget that it is also Shareholder Appreciation Day in the General Store when all Co-op Shareholders get 20% off of their purchases. \nShareholders\, please gather in front of the Basebox beginning at 4:45 for a new group photo. 
URL:https://www.madriverglen.com/calendar/co-op-annual-shareholders-meeting-3/2029-04-07/
CATEGORIES:Co-Op
ATTACH;FMTTYPE=image/jpeg:https://www.madriverglen.com/wp-content/uploads/2023/07/2023-Shareholders-1-scaled-e1734547571950.jpg
END:VEVENT
BEGIN:VEVENT
DTSTART;VALUE=DATE:20290930
DTEND;VALUE=DATE:20291001
DTSTAMP:20260425T120120
CREATED:20230717T182044Z
LAST-MODIFIED:20250331T143800Z
UID:10000679-1885420800-1885507199@www.madriverglen.com
SUMMARY:Fall Sales Deadline Day
DESCRIPTION:Today is the deadline for the best deals on Season Passes\, Stark Mountain Cards and Kids’ Seasonal Programs. \n  \nSeptember 30th also marks the fiscal year for the Co-op\, APR is due and Mad Money from the previous season expires. \n  \n*Please note that Stark Mountain Cards are NOT available to purchase following the September 30th deadline.
URL:https://www.madriverglen.com/calendar/fall-sales-deadline-day/2029-09-30/
CATEGORIES:Co-Op
ATTACH;FMTTYPE=image/jpeg:https://www.madriverglen.com/wp-content/uploads/2023/07/I9A1093-scaled-e1743431871154.jpg
END:VEVENT
BEGIN:VEVENT
DTSTART;TZID=America/New_York:20300406T170000
DTEND;TZID=America/New_York:20300406T180000
DTSTAMP:20260425T120120
CREATED:20260218T140129Z
LAST-MODIFIED:20260218T141401Z
UID:10001126-1901725200-1901728800@www.madriverglen.com
SUMMARY:Co-op Annual Shareholder's Meeting
DESCRIPTION:MRG Co-op Shareholders ski free today! \nThe annual meeting for the owners of America’s only skier-owned mountain. All shareholders are encouraged to attend either in-person on the 3rd floor or watch a live stream via Google Meet. \nDon’t forget that it is also Shareholder Appreciation Day in the General Store when all Co-op Shareholders get 20% off of their purchases. \nShareholders\, please gather in front of the Basebox beginning at 4:45 for a new group photo. 
URL:https://www.madriverglen.com/calendar/co-op-annual-shareholders-meeting-3/2030-04-06/
CATEGORIES:Co-Op
ATTACH;FMTTYPE=image/jpeg:https://www.madriverglen.com/wp-content/uploads/2023/07/2023-Shareholders-1-scaled-e1734547571950.jpg
END:VEVENT
END:VCALENDAR