BEGIN:VCALENDAR
VERSION:2.0
PRODID:-//Mad River Glen, Vermont - ECPv6.15.17//NONSGML v1.0//EN
CALSCALE:GREGORIAN
METHOD:PUBLISH
X-ORIGINAL-URL:https://www.madriverglen.com
X-WR-CALDESC:Events for Mad River Glen, Vermont
REFRESH-INTERVAL;VALUE=DURATION:PT1H
X-Robots-Tag:noindex
X-PUBLISHED-TTL:PT1H
BEGIN:VTIMEZONE
TZID:America/New_York
BEGIN:DAYLIGHT
TZOFFSETFROM:-0500
TZOFFSETTO:-0400
TZNAME:EDT
DTSTART:20250309T070000
END:DAYLIGHT
BEGIN:STANDARD
TZOFFSETFROM:-0400
TZOFFSETTO:-0500
TZNAME:EST
DTSTART:20251102T060000
END:STANDARD
BEGIN:DAYLIGHT
TZOFFSETFROM:-0500
TZOFFSETTO:-0400
TZNAME:EDT
DTSTART:20260308T070000
END:DAYLIGHT
BEGIN:STANDARD
TZOFFSETFROM:-0400
TZOFFSETTO:-0500
TZNAME:EST
DTSTART:20261101T060000
END:STANDARD
BEGIN:DAYLIGHT
TZOFFSETFROM:-0500
TZOFFSETTO:-0400
TZNAME:EDT
DTSTART:20270314T070000
END:DAYLIGHT
BEGIN:STANDARD
TZOFFSETFROM:-0400
TZOFFSETTO:-0500
TZNAME:EST
DTSTART:20271107T060000
END:STANDARD
END:VTIMEZONE
BEGIN:VEVENT
DTSTART;TZID=America/New_York:20260315T100000
DTEND;TZID=America/New_York:20260315T163000
DTSTAMP:20260423T032600
CREATED:20260227T170656Z
LAST-MODIFIED:20260306T170618Z
UID:10001128-1773568800-1773592200@www.madriverglen.com
SUMMARY:Ski Patrol Tryouts
DESCRIPTION:Interested in joining the Mad River Ski Patrol? \nThis is an opportunity for prospective candidates to meet our patrollers\, display skills\, and determine whether Ski Patrolling at Mad River Glen is something they are interested in. \nInterested parties should sign up for the event via this link. \nFeel free to reach out to us with any questions\, skipatrol@madriverglen.com \n  \nMust be 18+ and a valid lift ticket or season pass is required.
URL:https://www.madriverglen.com/calendar/ski-patrol-tryouts/
CATEGORIES:Events
ATTACH;FMTTYPE=image/jpeg:https://www.madriverglen.com/wp-content/uploads/2026/02/JQ-ski-patrol-starks-nest-1-scaled-e1772212009676.jpg
END:VEVENT
BEGIN:VEVENT
DTSTART;TZID=America/New_York:20260404T110000
DTEND;TZID=America/New_York:20260404T140000
DTSTAMP:20260423T032600
CREATED:20260324T185642Z
LAST-MODIFIED:20260324T185642Z
UID:10001140-1775300400-1775311200@www.madriverglen.com
SUMMARY:Chicken Barbecue
DESCRIPTION:A tradition here at Mad River Glen\, kick back and enjoy a yardbird fresh off the ‘backyard’ barbecue. \nQuantities are limited\, first come\, first served – while supplies last.
URL:https://www.madriverglen.com/calendar/chicken-barbecue/
CATEGORIES:Events
ATTACH;FMTTYPE=image/png:https://www.madriverglen.com/wp-content/uploads/2025/09/Screenshot-2025-09-10-at-9.12.49-AM-e1757510026448.png
END:VEVENT
BEGIN:VEVENT
DTSTART;TZID=America/New_York:20260520T163000
DTEND;TZID=America/New_York:20260520T203000
DTSTAMP:20260423T032600
CREATED:20260324T190751Z
LAST-MODIFIED:20260324T190751Z
UID:10001143-1779294600-1779309000@www.madriverglen.com
SUMMARY:Stark's Pub Opens for Summer
DESCRIPTION:Stark’s Pub offers a one-of-a-kind family dining experience you won’t find anywhere else in the Mad River Valley. Open daily during the ski season from 11:00 AM to 5:30 PM whenever the mountain is running\, and throughout the summer—from Memorial Day through peak foliage in October—Stark’s Pub serves dinner Wednesday through Saturday from 4:30 to 8:30 PM. \nIn the warmer months\, enjoy stunning mountain views while dining al fresco on the deck or from the comfort of the cozy indoor seating. The atmosphere is relaxed and family-friendly\, with yard games to entertain kids and miles of scenic hiking trails just steps from your table. \nWhether you’re winding down after a day on the slopes or hiking in the Green Mountains\, Stark’s Pub is the perfect spot to refuel and reconnect. Don’t miss our live music performances—après-ski in the winter and on Wednesday summer evenings. For a full schedule of musical guests\, visit our event calendar. \nA special thanks to Lawson’s Finest Liquids for helping us support local artists and keep the good vibes going all year long at Stark’s Pub.
URL:https://www.madriverglen.com/calendar/starks-pub-opens-for-summer-2/
CATEGORIES:Events
ATTACH;FMTTYPE=image/jpeg:https://www.madriverglen.com/wp-content/uploads/2026/03/Starks-Pub-Summer-Deck-1-scaled-e1776256227405.jpg
END:VEVENT
BEGIN:VEVENT
DTSTART;VALUE=DATE:20260704
DTEND;VALUE=DATE:20260705
DTSTAMP:20260423T032600
CREATED:20260324T185828Z
LAST-MODIFIED:20260324T185958Z
UID:10001142-1783123200-1783209599@www.madriverglen.com
SUMMARY:Independence Day
DESCRIPTION:Join us in Warren as we celebrate our nation’s independence. \nPlease note that Stark’s Pub is closed in observance of the holiday.
URL:https://www.madriverglen.com/calendar/independence-day/
CATEGORIES:Events
ATTACH;FMTTYPE=image/jpeg:https://www.madriverglen.com/wp-content/uploads/2026/03/4th-of-July-parade-2024-6-scaled-e1774378746268.jpg
END:VEVENT
BEGIN:VEVENT
DTSTART;TZID=America/New_York:20261212T090000
DTEND;TZID=America/New_York:20261212T153000
DTSTAMP:20260423T032600
CREATED:20260313T133435Z
LAST-MODIFIED:20260313T133435Z
UID:10001135-1797066000-1797089400@www.madriverglen.com
SUMMARY:Opening Day of the 2026/2027 Ski Season
DESCRIPTION:December 11\, 1948 Mad River Glen opened to the public for the first time\, whisking skiers 2000 vertical feet to the summit of Stark Mountain on the Single. The American Steel & Wire Company had installed nearly 600 of these state-of-the-art aerial tramway systems across the country and together with Roland Palmedo brought lift-served skiing to the Mad River Valley.
URL:https://www.madriverglen.com/calendar/opening-day-of-the-2026-2027-ski-season/
CATEGORIES:Events
ATTACH;FMTTYPE=image/jpeg:https://www.madriverglen.com/wp-content/uploads/2023/07/Opening-Day-1949-Miss-VT-Gen-Stark-and-George-Neill-e1740597737947.jpg
END:VEVENT
END:VCALENDAR