BEGIN:VCALENDAR
VERSION:2.0
PRODID:-//Mad River Glen, Vermont - ECPv6.15.17//NONSGML v1.0//EN
CALSCALE:GREGORIAN
METHOD:PUBLISH
X-ORIGINAL-URL:https://www.madriverglen.com
X-WR-CALDESC:Events for Mad River Glen, Vermont
REFRESH-INTERVAL;VALUE=DURATION:PT1H
X-Robots-Tag:noindex
X-PUBLISHED-TTL:PT1H
BEGIN:VTIMEZONE
TZID:America/New_York
BEGIN:DAYLIGHT
TZOFFSETFROM:-0500
TZOFFSETTO:-0400
TZNAME:EDT
DTSTART:20230312T070000
END:DAYLIGHT
BEGIN:STANDARD
TZOFFSETFROM:-0400
TZOFFSETTO:-0500
TZNAME:EST
DTSTART:20231105T060000
END:STANDARD
BEGIN:DAYLIGHT
TZOFFSETFROM:-0500
TZOFFSETTO:-0400
TZNAME:EDT
DTSTART:20240310T070000
END:DAYLIGHT
BEGIN:STANDARD
TZOFFSETFROM:-0400
TZOFFSETTO:-0500
TZNAME:EST
DTSTART:20241103T060000
END:STANDARD
BEGIN:DAYLIGHT
TZOFFSETFROM:-0500
TZOFFSETTO:-0400
TZNAME:EDT
DTSTART:20250309T070000
END:DAYLIGHT
BEGIN:STANDARD
TZOFFSETFROM:-0400
TZOFFSETTO:-0500
TZNAME:EST
DTSTART:20251102T060000
END:STANDARD
END:VTIMEZONE
BEGIN:VEVENT
DTSTART;TZID=America/New_York:20240404T153000
DTEND;TZID=America/New_York:20240404T173000
DTSTAMP:20260425T233049
CREATED:20231222T172501Z
LAST-MODIFIED:20240226T152745Z
UID:10000310-1712244600-1712251800@www.madriverglen.com
SUMMARY:Free Live Music & Cabot Fondue Aprés-ski
DESCRIPTION:Our live music series rolls on this season every Thursday\, aprés-ski from 3:30 until 5:30 along with FREE fondue from Cabot! Thanks to our good friends at Lawson’s Finest Liquids for helping support local musicians. Each and every Thursday throughout the ski season will feature a rotation of local musical talents. Check out our event calendar for a complete list of live music. Stark’s Pub is open daily during the winter ski season from 11:00 AM until 5:00 PM.\n  \nJanuary 4 John Lackard \nJanuary 11 Rob Pierce and friends \nJanuary 18 Al’s Pals \nJanuary 25 Running in Circles \nFebruary 1 Ragged Company \nFebruary 8 Al’s Pals \nFebruary 15 Phineas Gage \nFebruary 22 Jaded Ravins \nFebruary 29 Evan Jennison with Clint & Jeff (Grift) \nMarch 7 Ragged Duo \nMarch 14 Medicine Tribe Trio \nMarch 21 Al’s Pals \nMarch 28 Rob Pierce and Friends \nApril 4 TBD \n \n  \n \n  \n  \n 
URL:https://www.madriverglen.com/calendar/apres-live-music-free-cabot-fondue/2024-04-04/
CATEGORIES:Aprés
ATTACH;FMTTYPE=image/png:https://www.madriverglen.com/wp-content/uploads/2023/07/Screenshot-2023-07-19-at-2.35.28-PM.png
END:VEVENT
BEGIN:VEVENT
DTSTART;TZID=America/New_York:20240406T170000
DTEND;TZID=America/New_York:20240406T180000
DTSTAMP:20260425T233049
CREATED:20230720T154351Z
LAST-MODIFIED:20241218T184618Z
UID:10000210-1712422800-1712426400@www.madriverglen.com
SUMMARY:Co-op Annual Shareholder's Meeting
DESCRIPTION:MRG Co-op Shareholders ski free today! \nThe annual meeting for the owners of America’s only skier-owned mountain. All shareholders are encouraged to attend either in-person on the 3rd floor or watch a live stream via Zoom. \nDon’t forget that it is also Shareholder Appreciation Day in the General Store when all Co-op Shareholders get 20% off of their purchases. \nShareholders\, please gather in front of the Basebox beginning at 4:45 for a new group photo. 
URL:https://www.madriverglen.com/calendar/co-op-annual-shareholders-meeting/
CATEGORIES:Co-Op
ATTACH;FMTTYPE=image/jpeg:https://www.madriverglen.com/wp-content/uploads/2023/07/2023-Shareholders-1-scaled-e1734547571950.jpg
END:VEVENT
BEGIN:VEVENT
DTSTART;TZID=America/New_York:20240407T180000
DTEND;TZID=America/New_York:20240407T193000
DTSTAMP:20260425T233049
CREATED:20240315T141327Z
LAST-MODIFIED:20240315T144741Z
UID:10000325-1712512800-1712518200@www.madriverglen.com
SUMMARY:A 75 Year Fellowship of Skiing
DESCRIPTION:Rick Moulton Productions and Stark Mountain Foundation present the film\, Mad River Glen\, A 75-Year Fellowship of Skiers at the Savoy Theater in Montpelier\, VT on Sunday\, April 7th at 6:00 pm.  \nThis new short documentary celebrates the 75th season of the Mad River Glen Cooperative ski area in Fayston\, Vermont. In 1988\, filmmaker Rick Moulton released his first short film about the ski area\, “Spirit of a Classic.” His new film focuses on the most recent 35 years of Mad River Glen’s history using new interviews and archival footage and taking a deeper look at what makes the ski area such a unique place.  \nMad River Glen was founded in 1949 by Roland Palmedo and then sold by Betsy Pratt in 1995 to a group of cooperative skiers who intended to keep the ski area away from corporate investors. Her forward-thinking decision has kept Mad River Glen’s ownership in the hands of the people who love it. The cooperative\, with the support of Stark Mountain Foundation\, has preserved the rustic\, laid-back character\, low skier density\, natural terrain\, and friendly atmosphere that gives the ski area its charm.  \nThis 85-minute showing at the Savoy Theater in Montpelier will include a short film by Stark Mountain Foundation (the sponsor) and the 1988 film Spirit of a Classic. Burlington filmmaker Rick Moulton will introduce and be available to answer audience questions after the three short films.  \nTickets are $10 for adults\, $7 for seniors\, students\, members\, and veterans\, and children 12 and under are free. 
URL:https://www.madriverglen.com/calendar/a-75-year-fellowship-of-skiing/
LOCATION:Savoy Theater\, 26 Main Street\, Montpelier\, 05602\, United States
ATTACH;FMTTYPE=image/jpeg:https://www.madriverglen.com/wp-content/uploads/2024/01/Brian-Aust.jpeg
ORGANIZER;CN="Stark Mountain Foundation":MAILTO:contact@starkmountain.org
END:VEVENT
BEGIN:VEVENT
DTSTART;TZID=America/New_York:20240408T152700
DTEND;TZID=America/New_York:20240408T152900
DTSTAMP:20260425T233049
CREATED:20230712T155732Z
LAST-MODIFIED:20240330T145201Z
UID:10000095-1712590020-1712590140@www.madriverglen.com
SUMMARY:Total Solar Eclipse
DESCRIPTION:Vermont will be experiencing a solar eclipse on April 8\, 2024 and Mad River Glen is in the path of totality. A solar eclipse occurs when the Moon passes between Earth and the Sun\, thereby obscuring the view of the Sun from a small part of the Earth\, either totally or partially. A total eclipse\, is when the Sun gets completely obscured by the Moon. During a total eclipse\, the sky suddenly darkens and the Sun’s corona will be revealed. This is easily the most beautiful sight you will ever see in the sky! Be sure to use solar eclipse glasses while the Sun is not fully eclipsed. This solar eclipse has a southern terminus of (about) Barre\, but even those south of Barre will be looking at about 95% blackout. \nMad River Glen Solar Eclipse FAQ: \nLive music: will be provided by Bigfoot County who will play a set from 2:30 – 3:30 then take a break and come back for a second set between 4:30 – 5:30. \nIn the path of totality: Yes \nPercentage of totality: 100% \nDuration: 2h 23m 04.5s \nDuration of totality: 01:56.6s \nLifts: The Single and Sunnyside Double will run from 10-5pm. We will suspend loading at ~3pm to ~3:45pm. Following the total eclipse\, and once it has been deemed safe to operate again we will begin loading the lifts until last chair at 5pm. \nTicketing: A limited number of lift tickets are for sale online only until 04.07. Shareholders will be able to walk up to window to purchase 2 tickets on Monday. NO regular walk up ticket sales on Monday\, April 8th.   \nUphill Travel: Uphill travel will be closed on Sunday\, April 7th at 4pm through Monday April 8th at 6pm. No uphill travel during those hours.  \nStark’s Nest: No overnighting allowed in Starks Nest or anywhere on mountain Sunday night.  \nParking: No overnight parking Sunday\, April 7th. No parking on private roads. Parking on Monday\, April 8th for passholders\, shareholders\, ticketholders only. No other parking allowed. Carpooling highly recommended.  \nDepartment Operations: \n\nTicket Office: 9:30-3pm\nGeneral Store: 9:30-5:30\nRentals: 9:30-5:30\nSki School & Cricket Club: Closed\nBasebox: 9:30-5:30\, Pub normal hours\n\nALL SERVICES AND DEPARTMENTS WILL SUSPEND OPERATIONS FROM 3:15-3:45 TO WATCH THE ECLIPSE.  \nAdditional info and a video of projected sun cover can be found here: https://www.timeanddate.com/eclipse/in/@5242511?iso=20240408
URL:https://www.madriverglen.com/calendar/total-solar-eclipse/
ATTACH;FMTTYPE=image/png:https://www.madriverglen.com/wp-content/uploads/2023/07/Screenshot-2023-07-19-at-2.19.58-PM.png
END:VEVENT
BEGIN:VEVENT
DTSTART;VALUE=DATE:20240414
DTEND;VALUE=DATE:20240415
DTSTAMP:20260425T233049
CREATED:20240401T150127Z
LAST-MODIFIED:20240401T152600Z
UID:10000327-1713052800-1713139199@www.madriverglen.com
SUMMARY:Closing Day
DESCRIPTION:Today is our last day of lift operations for the 2024 ski season\, it is also the final day of our Spring Sale on 2024/2025 Season Passes & Stark Mountain Cards – buy early and SAVE! \nThank you all for making this season one to remember.
URL:https://www.madriverglen.com/calendar/closing-day/
ATTACH;FMTTYPE=image/png:https://www.madriverglen.com/wp-content/uploads/2023/10/75th-anniversary-logo-Clear-BG-Black-Stroke-High-Res-1.png
END:VEVENT
BEGIN:VEVENT
DTSTART;TZID=America/New_York:20240414T130000
DTEND;TZID=America/New_York:20240414T150000
DTSTAMP:20260425T233049
CREATED:20230717T182525Z
LAST-MODIFIED:20240412T155926Z
UID:10000129-1713099600-1713106800@www.madriverglen.com
SUMMARY:Pond Skimming - Canceled
DESCRIPTION:The Mad River Glen Pond Skimming Extravaganza has been canceled. We simply do not have enough snow left to build a pond for Sunday. We’ll try again next year…
URL:https://www.madriverglen.com/calendar/pond-skimming/
ATTACH;FMTTYPE=image/jpeg:https://www.madriverglen.com/wp-content/uploads/2023/07/HH9W3519-scaled-e1740595782338.jpg
END:VEVENT
END:VCALENDAR