BEGIN:VCALENDAR
VERSION:2.0
PRODID:-//Mad River Glen, Vermont - ECPv6.15.17//NONSGML v1.0//EN
CALSCALE:GREGORIAN
METHOD:PUBLISH
X-ORIGINAL-URL:https://www.madriverglen.com
X-WR-CALDESC:Events for Mad River Glen, Vermont
REFRESH-INTERVAL;VALUE=DURATION:PT1H
X-Robots-Tag:noindex
X-PUBLISHED-TTL:PT1H
BEGIN:VTIMEZONE
TZID:America/New_York
BEGIN:DAYLIGHT
TZOFFSETFROM:-0500
TZOFFSETTO:-0400
TZNAME:EDT
DTSTART:20230312T070000
END:DAYLIGHT
BEGIN:STANDARD
TZOFFSETFROM:-0400
TZOFFSETTO:-0500
TZNAME:EST
DTSTART:20231105T060000
END:STANDARD
BEGIN:DAYLIGHT
TZOFFSETFROM:-0500
TZOFFSETTO:-0400
TZNAME:EDT
DTSTART:20240310T070000
END:DAYLIGHT
BEGIN:STANDARD
TZOFFSETFROM:-0400
TZOFFSETTO:-0500
TZNAME:EST
DTSTART:20241103T060000
END:STANDARD
BEGIN:DAYLIGHT
TZOFFSETFROM:-0500
TZOFFSETTO:-0400
TZNAME:EDT
DTSTART:20250309T070000
END:DAYLIGHT
BEGIN:STANDARD
TZOFFSETFROM:-0400
TZOFFSETTO:-0500
TZNAME:EST
DTSTART:20251102T060000
END:STANDARD
END:VTIMEZONE
BEGIN:VEVENT
DTSTART;TZID=America/New_York:20240807T173000
DTEND;TZID=America/New_York:20240807T200000
DTSTAMP:20260424T002937
CREATED:20240617T151032Z
LAST-MODIFIED:20240730T170645Z
UID:10000394-1723051800-1723060800@www.madriverglen.com
SUMMARY:Stark's Pub Live Summer Music
DESCRIPTION:Stark’s Pub offers an unparalleled family dining atmosphere you can’t find anywhere else in the Mad River Valley. The Pub is open during the off-season from Memorial Day weekend through Green & Gold weekend. Dinner is served Wednesday through Saturday from 4:30 to 8:30 PM with brunch offered on Sundays from 10:00 AM until 2:00 PM. Thanks to our friends at Lawson’s Finest Liquids for supporting local artists & good vibes year-round in Stark’s Pub. \n\nSUMMER MUSIC SCHEDULE: \n05/26 Evan Jennison & Friends \n06/02 Madigan Linnane \n06/05 Brett Hughes \n06/12 Fun Dip \n06/16 Jim Goodwin \n06/19 John Lackard Blues \n06/26 Brett Hughes \n06/28 Seth Yacovone Band \n06/30 Music by Cooper \n07/13 Nicholas Cassarino and Friends \n07/14 Rob Pierce \n07/17 Brett Hughes with Pappy \n07/24 Ragged Company \n07/31 Lowell Thompson & Brett Hughes \n08/03 Madigan Linnane – canceled \n08/07 Al’s Pals \n08/11 Lowell Thompson \n08/15 Honeywell \n08/21 The Horse Traders \n08/24 Bad Management \n08/28 Sugar Shack \n09/27 Nicholas Cassarino and Friends \n09/28 Evan Jennison & Friends
URL:https://www.madriverglen.com/calendar/starks-pub-live-summer-music-15/
ATTACH;FMTTYPE=image/jpeg:https://www.madriverglen.com/wp-content/uploads/2024/06/ALSPALS-e1735498723586.jpg
END:VEVENT
BEGIN:VEVENT
DTSTART;TZID=America/New_York:20240811T113000
DTEND;TZID=America/New_York:20240811T140000
DTSTAMP:20260424T002937
CREATED:20240617T151346Z
LAST-MODIFIED:20240730T170710Z
UID:10000395-1723375800-1723384800@www.madriverglen.com
SUMMARY:Stark's Pub Live Summer Music
DESCRIPTION:Stark’s Pub offers an unparalleled family dining atmosphere you can’t find anywhere else in the Mad River Valley. The Pub is open during the off-season from Memorial Day weekend through Green & Gold weekend. Dinner is served Wednesday through Saturday from 4:30 to 8:30 PM with brunch offered on Sundays from 10:00 AM until 2:00 PM. Thanks to our friends at Lawson’s Finest Liquids for supporting local artists & good vibes year-round in Stark’s Pub. \n\nSUMMER MUSIC SCHEDULE: \n05/26 Evan Jennison & Friends \n06/02 Madigan Linnane \n06/05 Brett Hughes \n06/12 Fun Dip \n06/16 Jim Goodwin \n06/19 John Lackard Blues \n06/26 Brett Hughes \n06/28 Seth Yacovone Band \n06/30 Music by Cooper \n07/13 Nicholas Cassarino and Friends \n07/14 Rob Pierce \n07/17 Brett Hughes with Pappy \n07/24 Ragged Company \n07/31 Lowell Thompson & Brett Hughes \n08/03 Madigan Linnane – canceled \n08/07 Al’s Pals \n08/11 Lowell Thompson \n08/15 Honeywell \n08/21 The Horse Traders \n08/24 Bad Management \n08/28 Sugar Shack \n09/27 Nicholas Cassarino and Friends \n09/28 Evan Jennison & Friends
URL:https://www.madriverglen.com/calendar/starks-pub-live-summer-music-16/
ATTACH;FMTTYPE=image/jpeg:https://www.madriverglen.com/wp-content/uploads/2024/06/LT-scaled.jpg
END:VEVENT
BEGIN:VEVENT
DTSTART;TZID=America/New_York:20240815T173000
DTEND;TZID=America/New_York:20240815T200000
DTSTAMP:20260424T002937
CREATED:20240617T151704Z
LAST-MODIFIED:20240730T170734Z
UID:10000396-1723743000-1723752000@www.madriverglen.com
SUMMARY:Stark's Pub Live Summer Music
DESCRIPTION:Stark’s Pub offers an unparalleled family dining atmosphere you can’t find anywhere else in the Mad River Valley. The Pub is open during the off-season from Memorial Day weekend through Green & Gold weekend. Dinner is served Wednesday through Saturday from 4:30 to 8:30 PM with brunch offered on Sundays from 10:00 AM until 2:00 PM. Thanks to our friends at Lawson’s Finest Liquids for supporting local artists & good vibes year-round in Stark’s Pub. \n\nSUMMER MUSIC SCHEDULE: \n05/26 Evan Jennison & Friends \n06/02 Madigan Linnane \n06/05 Brett Hughes \n06/12 Fun Dip \n06/16 Jim Goodwin \n06/19 John Lackard Blues \n06/26 Brett Hughes \n06/28 Seth Yacovone Band \n06/30 Music by Cooper \n07/13 Nicholas Cassarino and Friends \n07/14 Rob Pierce \n07/17 Brett Hughes with Pappy \n07/24 Ragged Company \n07/31 Lowell Thompson & Brett Hughes \n08/03 Madigan Linnane – canceled \n08/07 Al’s Pals \n08/11 Lowell Thompson \n08/15 Honeywell \n08/21 The Horse Traders \n08/24 Bad Management \n08/28 Sugar Shack \n09/27 Nicholas Cassarino and Friends \n09/28 Evan Jennison & Friends
URL:https://www.madriverglen.com/calendar/starks-pub-live-summer-music-17/
ATTACH;FMTTYPE=image/jpeg:https://www.madriverglen.com/wp-content/uploads/2024/06/HONEYWELL.jpg
END:VEVENT
BEGIN:VEVENT
DTSTART;TZID=America/New_York:20240821T173000
DTEND;TZID=America/New_York:20240821T200000
DTSTAMP:20260424T002937
CREATED:20240617T152210Z
LAST-MODIFIED:20240730T170757Z
UID:10000397-1724261400-1724270400@www.madriverglen.com
SUMMARY:Stark's Pub Live Summer Music
DESCRIPTION:Stark’s Pub offers an unparalleled family dining atmosphere you can’t find anywhere else in the Mad River Valley. The Pub is open during the off-season from Memorial Day weekend through Green & Gold weekend. Dinner is served Wednesday through Saturday from 4:30 to 8:30 PM with brunch offered on Sundays from 10:00 AM until 2:00 PM. Thanks to our friends at Lawson’s Finest Liquids for supporting local artists & good vibes year-round in Stark’s Pub. \n\nSUMMER MUSIC SCHEDULE: \n05/26 Evan Jennison & Friends \n06/02 Madigan Linnane \n06/05 Brett Hughes \n06/12 Fun Dip \n06/16 Jim Goodwin \n06/19 John Lackard Blues \n06/26 Brett Hughes \n06/28 Seth Yacovone Band \n06/30 Music by Cooper \n07/13 Nicholas Cassarino and Friends \n07/14 Rob Pierce \n07/17 Brett Hughes with Pappy \n07/24 Ragged Company \n07/31 Lowell Thompson & Brett Hughes \n08/03 Madigan Linnane – canceled \n08/07 Al’s Pals \n08/11 Lowell Thompson \n08/15 Honeywell \n08/21 The Horse Traders \n08/24 Bad Management \n08/28 Sugar Shack \n09/27 Nicholas Cassarino and Friends \n09/28 Evan Jennison & Friends
URL:https://www.madriverglen.com/calendar/starks-pub-live-summer-music-18/
ATTACH;FMTTYPE=image/jpeg:https://www.madriverglen.com/wp-content/uploads/2024/06/HORSETRADERS-scaled.jpg
END:VEVENT
BEGIN:VEVENT
DTSTART;TZID=America/New_York:20240824T090000
DTEND;TZID=America/New_York:20240824T160000
DTSTAMP:20260424T002937
CREATED:20240624T154136Z
LAST-MODIFIED:20240730T151751Z
UID:10000399-1724490000-1724515200@www.madriverglen.com
SUMMARY:Volunteer Mountain Work Day
DESCRIPTION:Volunteer Mountain Work Days will once again utilize pre-registration and limit the total group size. Space is extremely limited\, don’t wait\, register online! \nEvents will be confirmed by 6:00 pm the day prior via the contact email provided. A wait list will be maintained with open slots filled by 6:00 pm the day prior. \nAny minors that register must be at least 12 years of age\, accompanied by their legal guardian/parent throughout the day\, no dogs or swinging tools (hatchet\, axe\, maul) are allowed. \n  \nGeneral information:  The purpose of Volunteer Mountain Work Days is the maintenance of MRG’s legendary tree skiing and regeneration zones in our mountain forest. This involves cutting lines as well as setting aside areas for new trees to grow. Everything is done with hand tools. Work days are organized and led by Lars Bruns in consultation with ski area management. Volunteer Mountain Work Days are a great chance to get out on the mountain\, care for your favorite terrain\, and learn about how northeastern mountain forests grow. It is hard work\, but also fun and satisfying to see a ski line take shape\, and how trees will grow in response to care. \nWe welcome both experienced veterans and newcomers to the mountain work days. Each person who works a full day receives a complimentary day pass voucher for each day she or he works. \nSummer/Fall 2024 Schedule \n\nAugust 24th\nSeptember 21st\nSeptember 28th\nOctober 26th\n\n  \nLogistics \n  \n\nReport at 9:00 am at the Cricket Club picnic table.  We’re back down at 3:30 – 4:00 pm.\nMost of the time we hike from the base\, so be physically fit and prepared to hike the mountain top to bottom.\nMost days are held rain or shine – Working in the rain is fun!\nBring work gloves\, hiking boots\, drinks & lunch.\nLoppers are the most useful tool to bring. Make sure they are in good working order.\nWork days navigate our gnarly terrain; no dogs or kids under 12 please. Minors under the age of 18 must register and be accompanied by a parent or legal guardian.\n\nThe incidence of Lyme Disease is increasing rapidly in Vermont. This disease is debilitating and hard to get rid of. More Info on how to protect yourself while thrashing around the woods of Stark Mountain. \nThe following tools are not allowed: All power tools such as chain saws\, and swinging tools such as hatchets or axes. \nOutfitting for Rain Events: \n\nOuter layer – The primary function is to hold in heat\, as well as keep water out for as long as possible.\n\nGoretex shell or other rainwear\nWaterproof pant shell – old ski pants work well\nWaterproof gaiters (Goretex)\nWaterproof boots beforehand\nBrimmed synthetic hat and fleece hat\nIf the weather is warm\, then staying warm is not a problem. Fast-drying shorts\, gaiters\, and a rain shell may be sufficient.\n\n\nInner layers – No cotton – must keep one warm when wet.\n\nWool or synthetic shirt and long underwear\nFleece\nWool socks\nThin windbreaker underneath the shell to hold even more heat in\n\n\nOther Tips\n\nPut dry (synthetic) clothing in a garbage bag\nBring a second synthetic inner layer shirt (in the garbage bag) to change into at lunch\nPut first aid kit in a waterproof bag\nA thermos of hot tea or soup. Caffeine constricts capillaries and should be avoided\nBring backup gloves. Cold hands will not warm up in wet gloves
URL:https://www.madriverglen.com/calendar/volunteer-mountain-work-day-4/
ATTACH;FMTTYPE=image/jpeg:https://www.madriverglen.com/wp-content/uploads/2023/08/IMG_8570-e1752518721531.jpg
END:VEVENT
BEGIN:VEVENT
DTSTART;TZID=America/New_York:20240824T203000
DTEND;TZID=America/New_York:20240824T233000
DTSTAMP:20260424T002937
CREATED:20240625T145650Z
LAST-MODIFIED:20240724T180624Z
UID:10000406-1724531400-1724542200@www.madriverglen.com
SUMMARY:Stark's Pub After Dark
DESCRIPTION:AFTER DARK SUMMER MUSIC SERIES \nThe “After Dark” summer music series is a new late-night music series that will feature a different band each month over the summer. \nThe After Dark shows are free and open to anyone 21 years of age or older. \nThanks to our sponsor Forbin’s Finest for keeping the vibe high and the late night tunes elevated. \n \n  \nAFTER DARK MUSIC SCHEDULE: \n06/28 Seth Yacovone Band \n08/24 Bad Management \n09/27 Nicholas Cassarino and Friends
URL:https://www.madriverglen.com/calendar/starks-pub-after-dark-3/
ATTACH;FMTTYPE=image/jpeg:https://www.madriverglen.com/wp-content/uploads/2024/05/badmanagement.jpg
END:VEVENT
BEGIN:VEVENT
DTSTART;TZID=America/New_York:20240828T173000
DTEND;TZID=America/New_York:20240828T200000
DTSTAMP:20260424T002937
CREATED:20240617T155440Z
LAST-MODIFIED:20240730T170842Z
UID:10000398-1724866200-1724875200@www.madriverglen.com
SUMMARY:Stark's Pub Live Summer Music
DESCRIPTION:Stark’s Pub offers an unparalleled family dining atmosphere you can’t find anywhere else in the Mad River Valley. The Pub is open during the off-season from Memorial Day weekend through Green & Gold weekend. Dinner is served Wednesday through Saturday from 4:30 to 8:30 PM with brunch offered on Sundays from 10:00 AM until 2:00 PM. Thanks to our friends at Lawson’s Finest Liquids for supporting local artists & good vibes year-round in Stark’s Pub. \n\nSUMMER MUSIC SCHEDULE: \n05/26 Evan Jennison & Friends \n06/02 Madigan Linnane \n06/05 Brett Hughes \n06/12 Fun Dip \n06/16 Jim Goodwin \n06/19 John Lackard Blues \n06/26 Brett Hughes \n06/28 Seth Yacovone Band \n06/30 Music by Cooper \n07/13 Nicholas Cassarino and Friends \n07/14 Rob Pierce \n07/17 Brett Hughes with Pappy \n07/24 Ragged Company \n07/31 Lowell Thompson & Brett Hughes \n08/03 Madigan Linnane – canceled \n08/07 Al’s Pals \n08/11 Lowell Thompson \n08/15 Honeywell \n08/21 The Horse Traders \n08/24 Bad Management \n08/28 Sugar Shack \n09/27 Nicholas Cassarino and Friends \n09/28 Evan Jennison & Friends
URL:https://www.madriverglen.com/calendar/starks-pub-live-summer-music-19/
ATTACH;FMTTYPE=image/png:https://www.madriverglen.com/wp-content/uploads/2024/06/Screenshot-2024-06-17-at-11.52.24 AM.png
END:VEVENT
BEGIN:VEVENT
DTSTART;TZID=America/New_York:20240831T140000
DTEND;TZID=America/New_York:20240831T163000
DTSTAMP:20260424T002937
CREATED:20240827T150255Z
LAST-MODIFIED:20240827T150512Z
UID:10000467-1725112800-1725121800@www.madriverglen.com
SUMMARY:Family-Friendly Nature Hikes with the Stark Mountain Foundation
DESCRIPTION:Discover the Wonders of Nature with Family-Friendly Nature Hikes at Mad River Glen \nWaitsfield\, VT– This summer and early fall\, Stark Mountain Foundation and Mad River Glen invite you to embark on three\, family-friendly\, nature hikes. Guided by naturalist Amanda Palumbo\, these hikes offer a special chance to discover the beauty of our local environment and delve into the captivating world of plant life around us. Tailored for families with children ages 5 and up\, these hikes are designed to be accessible and enjoyable for nature lovers of all ages. \nDon’t miss out on this fantastic opportunity to connect with nature on Stark Mountain! Please visit our website for more detailed information about hiking on Stark Mountain. starkmountain.org \nHike Details: \n\nDates: August 31st\, October 5th\, and October 12th\, 2:00-4:30pm\nLocation: Stark Mountain Trail to Kent Thomas Nature Center (Meet at the flagpole in front of the Mad River Glen Basebox).\nDuration:5 hours\, depending on the group.\nAges: 5 years and up (Accompanied by an adult).\nCost: Free\, but you must pre-register.\nWhat to Pack: Hat\, sunglasses\, water\, snacks\, sunscreen\, bug spray\, raincoat\, and sturdy shoes.\nPre-registration Required: The hike will be limited to the first people to register. Please click on the link to register. ly/NatureHikes
URL:https://www.madriverglen.com/calendar/family-friendly-nature-hikes-with-the-stark-mountain-foundation/2024-08-31/
ATTACH;FMTTYPE=image/jpeg:https://www.madriverglen.com/wp-content/uploads/2024/07/SMF_BANNER-steward-educate-play-scaled.jpg
END:VEVENT
END:VCALENDAR