BEGIN:VCALENDAR
VERSION:2.0
PRODID:-//Mad River Glen, Vermont - ECPv6.15.17//NONSGML v1.0//EN
CALSCALE:GREGORIAN
METHOD:PUBLISH
X-ORIGINAL-URL:https://www.madriverglen.com
X-WR-CALDESC:Events for Mad River Glen, Vermont
REFRESH-INTERVAL;VALUE=DURATION:PT1H
X-Robots-Tag:noindex
X-PUBLISHED-TTL:PT1H
BEGIN:VTIMEZONE
TZID:America/New_York
BEGIN:DAYLIGHT
TZOFFSETFROM:-0500
TZOFFSETTO:-0400
TZNAME:EDT
DTSTART:20230312T070000
END:DAYLIGHT
BEGIN:STANDARD
TZOFFSETFROM:-0400
TZOFFSETTO:-0500
TZNAME:EST
DTSTART:20231105T060000
END:STANDARD
BEGIN:DAYLIGHT
TZOFFSETFROM:-0500
TZOFFSETTO:-0400
TZNAME:EDT
DTSTART:20240310T070000
END:DAYLIGHT
BEGIN:STANDARD
TZOFFSETFROM:-0400
TZOFFSETTO:-0500
TZNAME:EST
DTSTART:20241103T060000
END:STANDARD
BEGIN:DAYLIGHT
TZOFFSETFROM:-0500
TZOFFSETTO:-0400
TZNAME:EDT
DTSTART:20250309T070000
END:DAYLIGHT
BEGIN:STANDARD
TZOFFSETFROM:-0400
TZOFFSETTO:-0500
TZNAME:EST
DTSTART:20251102T060000
END:STANDARD
END:VTIMEZONE
BEGIN:VEVENT
DTSTART;TZID=America/New_York:20241002T173000
DTEND;TZID=America/New_York:20241002T200000
DTSTAMP:20260423T213235
CREATED:20240828T143102Z
LAST-MODIFIED:20240828T143102Z
UID:10000477-1727890200-1727899200@www.madriverglen.com
SUMMARY:Stark's Pub Live Summer Music
DESCRIPTION:Stark’s Pub offers an unparalleled family dining atmosphere you can’t find anywhere else in the Mad River Valley. The Pub is open during the off-season from Memorial Day weekend through Green & Gold weekend. Dinner is served Wednesday through Saturday from 4:30 to 8:30 PM with brunch offered on Sundays from 10:00 AM until 2:00 PM. Thanks to our friends at Lawson’s Finest Liquids for supporting local artists & good vibes year-round in Stark’s Pub. \n\nSUMMER MUSIC SCHEDULE: \n05/26 Evan Jennison & Friends \n06/02 Madigan Linnane \n06/05 Brett Hughes \n06/12 Fun Dip \n06/16 Jim Goodwin \n06/19 John Lackard Blues \n06/26 Brett Hughes \n06/28 Seth Yacovone Band \n06/30 Music by Cooper \n07/13 Nicholas Cassarino and Friends \n07/14 Rob Pierce \n07/17 Brett Hughes with Pappy \n07/24 Ragged Company \n07/31 Lowell Thompson & Brett Hughes \n08/03 Madigan Lianne – canceled \n08/07 Al’s Pals \n08/11 Lowell Thompson \n08/15 Honeywell \n08/21 The Horse Traders \n08/24 Bad Management \n08/28 Sugar Shack \n09/05 Al’s Pals \n09/07 Madigan Lianne \n09/08 Rob Pierce \n09/11 Lowell Thompson \n09/18 Fun Dip \n09/22 Lowell Thompson \n09/27 Nicholas Cassarino and Friends \n09/28 Evan Jennison & Friends \n10/02 Easy Street Duo \n10/06 Morning Dudes \n10/09 Medicine Tribe Trio
URL:https://www.madriverglen.com/calendar/starks-pub-live-summer-music-26/
ATTACH;FMTTYPE=image/png:https://www.madriverglen.com/wp-content/uploads/2023/07/Screenshot-2023-07-19-at-2.32.51-PM.png
END:VEVENT
BEGIN:VEVENT
DTSTART;TZID=America/New_York:20241005T093000
DTEND;TZID=America/New_York:20241005T203000
DTSTAMP:20260423T213235
CREATED:20240509T123233Z
LAST-MODIFIED:20241005T175307Z
UID:10000334-1728120600-1728160200@www.madriverglen.com
SUMMARY:Green & Gold Weekend
DESCRIPTION:Foliage lift rides are available on America’s favorite Single Chair both Saturday and Sunday\, first chair up is at 10 AM and the last chair is loaded at 2:30 PM. Foliage lift ride tickets are good for a round trip from base to summit and back down again\, the cost is $20 for adults and $15 for juniors and seniors (free for season pass holders). Foliage lift ride tickets can be purchased in person at the ticket window. Stark’s Pub\, the General Store and Ticket Booth will all be open\, please see our operational hours listed below. \nStark’s Pub: Lunch & Dinner 11:00 AM – 8:30 PM (Dinner service begins at 4:30) \nMad Shack: 10:00 AM – 1:00 PM \nLift Operations: 10:00 AM – 2:30 PM \nGeneral Store: 9:30 AM – 4:00 PM \nTicket Office: 9:30 AM – 3:00 PM \nSaturday events: \nStark Mountain Foundation Presents: Geologic History of Stark Mountain 1:00 PM – 1:45 PM (3rd floor) Register HERE! \nMRG Homeowner’s Meeting 2:30 PM – 4:00 PM (3rd floor) \nCo-op Shareholder’s Town Meeting 5:00 – 6:00 PM (3rd floor and via Zoom)
URL:https://www.madriverglen.com/calendar/green-gold-weekend-3/
CATEGORIES:Co-Op
ATTACH;FMTTYPE=image/jpeg:https://www.madriverglen.com/wp-content/uploads/2023/07/1E7A1462-scaled-e1740597405145.jpg
END:VEVENT
BEGIN:VEVENT
DTSTART;TZID=America/New_York:20241005T140000
DTEND;TZID=America/New_York:20241005T163000
DTSTAMP:20260423T213235
CREATED:20240827T150255Z
LAST-MODIFIED:20240827T150512Z
UID:10000468-1728136800-1728145800@www.madriverglen.com
SUMMARY:Family-Friendly Nature Hikes with the Stark Mountain Foundation
DESCRIPTION:Discover the Wonders of Nature with Family-Friendly Nature Hikes at Mad River Glen \nWaitsfield\, VT– This summer and early fall\, Stark Mountain Foundation and Mad River Glen invite you to embark on three\, family-friendly\, nature hikes. Guided by naturalist Amanda Palumbo\, these hikes offer a special chance to discover the beauty of our local environment and delve into the captivating world of plant life around us. Tailored for families with children ages 5 and up\, these hikes are designed to be accessible and enjoyable for nature lovers of all ages. \nDon’t miss out on this fantastic opportunity to connect with nature on Stark Mountain! Please visit our website for more detailed information about hiking on Stark Mountain. starkmountain.org \nHike Details: \n\nDates: August 31st\, October 5th\, and October 12th\, 2:00-4:30pm\nLocation: Stark Mountain Trail to Kent Thomas Nature Center (Meet at the flagpole in front of the Mad River Glen Basebox).\nDuration:5 hours\, depending on the group.\nAges: 5 years and up (Accompanied by an adult).\nCost: Free\, but you must pre-register.\nWhat to Pack: Hat\, sunglasses\, water\, snacks\, sunscreen\, bug spray\, raincoat\, and sturdy shoes.\nPre-registration Required: The hike will be limited to the first people to register. Please click on the link to register. ly/NatureHikes
URL:https://www.madriverglen.com/calendar/family-friendly-nature-hikes-with-the-stark-mountain-foundation/2024-10-05/
ATTACH;FMTTYPE=image/jpeg:https://www.madriverglen.com/wp-content/uploads/2024/07/SMF_BANNER-steward-educate-play-scaled.jpg
END:VEVENT
BEGIN:VEVENT
DTSTART;VALUE=DATE:20241006
DTEND;VALUE=DATE:20241007
DTSTAMP:20260423T213235
CREATED:20240509T123340Z
LAST-MODIFIED:20241009T153043Z
UID:10000335-1728172800-1728259199@www.madriverglen.com
SUMMARY:Green & Gold Weekend
DESCRIPTION:Foliage lift rides are available on America’s favorite Single Chair both Saturday and Sunday\, first chair up is at 10 AM and the last chair is loaded at 2:30 PM. Foliage lift ride tickets are good for a round trip from base to summit and back down again\, the cost is $20 for adults and $15 for juniors and seniors (free for season pass holders). Foliage lift ride tickets can be purchased in person at the ticket window. Stark’s Pub\, the General Store and Ticket Booth will all be open\, please see our operational hours listed below. \nStark’s Pub: Lunch & Chicken BBQ 11:00 AM  – 6:00 PM \nLive Music: 2:30 – 5:00 PM \nMad Shack: Closed \nLift Operations: 10:00 AM – 2:30 PM \nGeneral Store: 9:30 AM – 4:00 PM \nTicket Office: 9:30 AM – 3:00 PM \nSunday events: \nAllen Clark Memorial Hill Climb at 9:00 AM – 11:30 AM
URL:https://www.madriverglen.com/calendar/green-gold-weekend-4/
ATTACH;FMTTYPE=image/jpeg:https://www.madriverglen.com/wp-content/uploads/2023/07/0I9A7353-scaled-e1740597461789.jpg
END:VEVENT
BEGIN:VEVENT
DTSTART;TZID=America/New_York:20241006T143000
DTEND;TZID=America/New_York:20241006T170000
DTSTAMP:20260423T213235
CREATED:20240828T143131Z
LAST-MODIFIED:20241002T173511Z
UID:10000478-1728225000-1728234000@www.madriverglen.com
SUMMARY:Stark's Pub Live Summer Music
DESCRIPTION:Stark’s Pub offers an unparalleled family dining atmosphere you can’t find anywhere else in the Mad River Valley. The Pub is open during the off-season from Memorial Day weekend through Green & Gold weekend. Dinner is served Wednesday through Saturday from 4:30 to 8:30 PM with brunch offered on Sundays from 10:00 AM until 2:00 PM. Thanks to our friends at Lawson’s Finest Liquids for supporting local artists & good vibes year-round in Stark’s Pub. \n\nSUMMER MUSIC SCHEDULE: \n05/26 Evan Jennison & Friends \n06/02 Madigan Linnane \n06/05 Brett Hughes \n06/12 Fun Dip \n06/16 Jim Goodwin \n06/19 John Lackard Blues \n06/26 Brett Hughes \n06/28 Seth Yacovone Band \n06/30 Music by Cooper \n07/13 Nicholas Cassarino and Friends \n07/14 Rob Pierce \n07/17 Brett Hughes with Pappy \n07/24 Ragged Company \n07/31 Lowell Thompson & Brett Hughes \n08/03 Madigan Lianne – canceled \n08/07 Al’s Pals \n08/11 Lowell Thompson \n08/15 Honeywell \n08/21 The Horse Traders \n08/24 Bad Management \n08/28 Sugar Shack \n09/05 Al’s Pals \n09/07 Madigan Lianne \n09/08 Rob Pierce \n09/11 Lowell Thompson \n09/18 Fun Dip \n09/22 Lowell Thompson \n09/27 Nicholas Cassarino and Friends \n09/28 Evan Jennison & Friends \n10/02 Easy Street Duo \n10/06 Morning Dudes \n10/09 Medicine Tribe Trio \n10/13 Running In Circles
URL:https://www.madriverglen.com/calendar/starks-pub-live-summer-music-27/
ATTACH;FMTTYPE=image/jpeg:https://www.madriverglen.com/wp-content/uploads/2024/08/Screen-Shot-2024-09-25-at-3.51.48-PM-1.jpeg
END:VEVENT
BEGIN:VEVENT
DTSTART;TZID=America/New_York:20241009T173000
DTEND;TZID=America/New_York:20241009T200000
DTSTAMP:20260423T213235
CREATED:20240828T143240Z
LAST-MODIFIED:20241002T171518Z
UID:10000479-1728495000-1728504000@www.madriverglen.com
SUMMARY:Stark's Pub Live Summer Music
DESCRIPTION:Stark’s Pub offers an unparalleled family dining atmosphere you can’t find anywhere else in the Mad River Valley. The Pub is open during the off-season from Memorial Day weekend through Green & Gold weekend. Dinner is served Wednesday through Saturday from 4:30 to 8:30 PM with brunch offered on Sundays from 10:00 AM until 2:00 PM. Thanks to our friends at Lawson’s Finest Liquids for supporting local artists & good vibes year-round in Stark’s Pub. \n\nSUMMER MUSIC SCHEDULE: \n05/26 Evan Jennison & Friends \n06/02 Madigan Linnane \n06/05 Brett Hughes \n06/12 Fun Dip \n06/16 Jim Goodwin \n06/19 John Lackard Blues \n06/26 Brett Hughes \n06/28 Seth Yacovone Band \n06/30 Music by Cooper \n07/13 Nicholas Cassarino and Friends \n07/14 Rob Pierce \n07/17 Brett Hughes with Pappy \n07/24 Ragged Company \n07/31 Lowell Thompson & Brett Hughes \n08/03 Madigan Lianne – canceled \n08/07 Al’s Pals \n08/11 Lowell Thompson \n08/15 Honeywell \n08/21 The Horse Traders \n08/24 Bad Management \n08/28 Sugar Shack \n09/05 Al’s Pals \n09/07 Madigan Lianne \n09/08 Rob Pierce \n09/11 Lowell Thompson \n09/18 Fun Dip \n09/22 Lowell Thompson \n09/27 Nicholas Cassarino and Friends \n09/28 Evan Jennison & Friends \n10/02 Easy Street Duo \n10/06 Morning Dudes \n10/09 Medicine Tribe Trio \n10/13 Running In Circles
URL:https://www.madriverglen.com/calendar/starks-pub-live-summer-music-28/
ATTACH;FMTTYPE=image/jpeg:https://www.madriverglen.com/wp-content/uploads/2023/07/0I9A0777-scaled.jpg
END:VEVENT
BEGIN:VEVENT
DTSTART;VALUE=DATE:20241012
DTEND;VALUE=DATE:20241013
DTSTAMP:20260423T213235
CREATED:20240509T123804Z
LAST-MODIFIED:20241010T121347Z
UID:10000338-1728691200-1728777599@www.madriverglen.com
SUMMARY:Foliage Weekend
DESCRIPTION:Take a foliage lift ride on America’s favorite Single Chair\, first chair up is at 10 AM and the last chair is loaded at 2:30 PM. Foliage lift ride tickets are good for a round trip from base to summit and back down again\, the cost is $20 for adults and $15 for juniors and seniors (free for season pass holders). Foliage lift ride tickets can be purchased in person at the ticket window. Stark’s Pub\, the General Store and Ticket Booth will all be open\, please see our operational hours listed below. \nStark’s Pub: 11:00 AM – 8:30 PM (Dinner service begins at 4:30)\nClosed: Monday\, October 14th through Thanksgiving\, will re-open Friday\, November 29th \nMad Shack: 10:00 AM – 1:00 PM \nLift Operations: 10:00 AM – 2:30 PM \nGeneral Store: 9:30 AM – 4:00 PM \nTicket Office: 9:30 AM – 3:00 PM
URL:https://www.madriverglen.com/calendar/foliage-weekend-3/
ATTACH;FMTTYPE=image/jpeg:https://www.madriverglen.com/wp-content/uploads/2020/07/1E7A1449-scaled-e1740597522472.jpg
END:VEVENT
BEGIN:VEVENT
DTSTART;TZID=America/New_York:20241012T140000
DTEND;TZID=America/New_York:20241012T163000
DTSTAMP:20260423T213235
CREATED:20240827T150255Z
LAST-MODIFIED:20240827T150512Z
UID:10000469-1728741600-1728750600@www.madriverglen.com
SUMMARY:Family-Friendly Nature Hikes with the Stark Mountain Foundation
DESCRIPTION:Discover the Wonders of Nature with Family-Friendly Nature Hikes at Mad River Glen \nWaitsfield\, VT– This summer and early fall\, Stark Mountain Foundation and Mad River Glen invite you to embark on three\, family-friendly\, nature hikes. Guided by naturalist Amanda Palumbo\, these hikes offer a special chance to discover the beauty of our local environment and delve into the captivating world of plant life around us. Tailored for families with children ages 5 and up\, these hikes are designed to be accessible and enjoyable for nature lovers of all ages. \nDon’t miss out on this fantastic opportunity to connect with nature on Stark Mountain! Please visit our website for more detailed information about hiking on Stark Mountain. starkmountain.org \nHike Details: \n\nDates: August 31st\, October 5th\, and October 12th\, 2:00-4:30pm\nLocation: Stark Mountain Trail to Kent Thomas Nature Center (Meet at the flagpole in front of the Mad River Glen Basebox).\nDuration:5 hours\, depending on the group.\nAges: 5 years and up (Accompanied by an adult).\nCost: Free\, but you must pre-register.\nWhat to Pack: Hat\, sunglasses\, water\, snacks\, sunscreen\, bug spray\, raincoat\, and sturdy shoes.\nPre-registration Required: The hike will be limited to the first people to register. Please click on the link to register. ly/NatureHikes
URL:https://www.madriverglen.com/calendar/family-friendly-nature-hikes-with-the-stark-mountain-foundation/2024-10-12/
ATTACH;FMTTYPE=image/jpeg:https://www.madriverglen.com/wp-content/uploads/2024/07/SMF_BANNER-steward-educate-play-scaled.jpg
END:VEVENT
BEGIN:VEVENT
DTSTART;VALUE=DATE:20241013
DTEND;VALUE=DATE:20241014
DTSTAMP:20260423T213235
CREATED:20240509T123846Z
LAST-MODIFIED:20241010T121403Z
UID:10000339-1728777600-1728863999@www.madriverglen.com
SUMMARY:Foliage Weekend
DESCRIPTION:Take a foliage lift ride on America’s favorite Single Chair\, first chair up is at 10 AM and the last chair is loaded at 2:30 PM. Foliage lift ride tickets are good for a round trip from base to summit and back down again\, the cost is $20 for adults and $15 for juniors and seniors (free for season pass holders). Foliage lift ride tickets can be purchased in person at the ticket window. Stark’s Pub\, the General Store and Ticket Booth will all be open\, please see our operational hours listed below. \nStark’s Pub: 10:00 AM – 3:00 PM (Brunch from 10:00 AM – 12:00 PM)\nClosed: Monday\, October 14th through Thanksgiving\, will re-open Friday\, November 29th \nMad Shack: Closed \nLift Operations: 10:00 AM – 2:30 PM \nGeneral Store: 9:30 AM – 4:00 PM \nTicket Office: 9:30 AM – 3:00 PM
URL:https://www.madriverglen.com/calendar/foliage-weekend-4/
ATTACH;FMTTYPE=image/jpeg:https://www.madriverglen.com/wp-content/uploads/2023/07/1E7A1580-scaled-e1740597585594.jpg
END:VEVENT
BEGIN:VEVENT
DTSTART;TZID=America/New_York:20241013T143000
DTEND;TZID=America/New_York:20241013T163000
DTSTAMP:20260423T213235
CREATED:20241002T171836Z
LAST-MODIFIED:20241002T171836Z
UID:10000489-1728829800-1728837000@www.madriverglen.com
SUMMARY:Stark's Pub Live Summer Music
DESCRIPTION:Stark’s Pub offers an unparalleled family dining atmosphere you can’t find anywhere else in the Mad River Valley. The Pub is open during the off-season from Memorial Day weekend through Green & Gold weekend. Dinner is served Wednesday through Saturday from 4:30 to 8:30 PM with brunch offered on Sundays from 10:00 AM until 2:00 PM. Thanks to our friends at Lawson’s Finest Liquids for supporting local artists & good vibes year-round in Stark’s Pub. \n\nSUMMER MUSIC SCHEDULE: \n05/26 Evan Jennison & Friends \n06/02 Madigan Linnane \n06/05 Brett Hughes \n06/12 Fun Dip \n06/16 Jim Goodwin \n06/19 John Lackard Blues \n06/26 Brett Hughes \n06/28 Seth Yacovone Band \n06/30 Music by Cooper \n07/13 Nicholas Cassarino and Friends \n07/14 Rob Pierce \n07/17 Brett Hughes with Pappy \n07/24 Ragged Company \n07/31 Lowell Thompson & Brett Hughes \n08/03 Madigan Lianne – canceled \n08/07 Al’s Pals \n08/11 Lowell Thompson \n08/15 Honeywell \n08/21 The Horse Traders \n08/24 Bad Management \n08/28 Sugar Shack \n09/05 Al’s Pals \n09/07 Madigan Lianne \n09/08 Rob Pierce \n09/11 Lowell Thompson \n09/18 Fun Dip \n09/22 Lowell Thompson \n09/27 Nicholas Cassarino and Friends \n09/28 Evan Jennison & Friends \n10/02 Easy Street Duo \n10/06 Morning Dudes \n10/09 Medicine Tribe Trio \n10/13 Running In Circles
URL:https://www.madriverglen.com/calendar/starks-pub-live-summer-music-24/
ATTACH;FMTTYPE=image/jpeg:https://www.madriverglen.com/wp-content/uploads/2024/10/0I9A0222-scaled.jpg
END:VEVENT
BEGIN:VEVENT
DTSTART;TZID=America/New_York:20241019T080000
DTEND;TZID=America/New_York:20241019T100000
DTSTAMP:20260423T213235
CREATED:20241007T132838Z
LAST-MODIFIED:20241021T133733Z
UID:10000482-1729324800-1729332000@www.madriverglen.com
SUMMARY:Co-op Board of Trustees Meeting
DESCRIPTION:The Co-op’s Board of Trustees meets monthly\, except July and August. All Co-op Shareholders are encouraged to attend Board meetings. Stay abreast of what is happening at America’s only skier-owned mountain by checking out the latest Board Meeting Minutes. If you have a comment\, question or concern for the board you can reach them by emailing coopboard@madriverglen.com \nTopic: MRG Board of Trustees Meeting \nPlease download and import the following iCalendar (.ics) files to your calendar system. \nJoin Zoom Meeting https://us02web.zoom.us/j/89742773994?pwd=SklZemdlRXd3L1VDeGhySFlxQ1VEZz09 \nMeeting ID: 897 4277 3994 \nPasscode: 818016 \nOne tap mobile \n+13017158592\,\,89742773994#\,\,\,\,*818016# US (Washington DC) \n+13126266799\,\,89742773994#\,\,\,\,*818016# US (Chicago) \nDial by your location \n+1 301 715 8592 US (Washington DC) \n+1 312 626 6799 US (Chicago) \n+1 929 205 6099 US (New York) \n+1 253 215 8782 US (Tacoma) \n+1 346 248 7799 US (Houston) \n+1 669 900 6833 US (San Jose) \nMeeting ID: 897 4277 3994 \nPasscode: 818016 \nFind your local number: https://us02web.zoom.us/u/kcEGUfhmt
URL:https://www.madriverglen.com/calendar/co-op-board-of-trustees-meeting-3-2/2024-10-19/
CATEGORIES:Co-Op
ATTACH;FMTTYPE=image/jpeg:https://www.madriverglen.com/wp-content/uploads/2023/07/Shareholder-meeting-JEB-009-scaled-e1734539176487.jpg
END:VEVENT
BEGIN:VEVENT
DTSTART;TZID=America/New_York:20241026T090000
DTEND;TZID=America/New_York:20241026T160000
DTSTAMP:20260423T213235
CREATED:20240624T154241Z
LAST-MODIFIED:20240730T152741Z
UID:10000402-1729933200-1729958400@www.madriverglen.com
SUMMARY:Volunteer Mountain Work Day
DESCRIPTION:Volunteer Mountain Work Days will once again utilize pre-registration and limit the total group size. Space is extremely limited\, don’t wait\, register online! \nEvents will be confirmed by 6:00 pm the day prior via the contact email provided. A wait list will be maintained with open slots filled by 6:00 pm the day prior. \nAny minors that register must be at least 12 years of age\, accompanied by their legal guardian/parent throughout the day\, no dogs or swinging tools (hatchet\, axe\, maul) are allowed. \n  \nGeneral information:  The purpose of Volunteer Mountain Work Days is the maintenance of MRG’s legendary tree skiing and regeneration zones in our mountain forest. This involves cutting lines as well as setting aside areas for new trees to grow. Everything is done with hand tools. Work days are organized and led by Lars Bruns in consultation with ski area management. Volunteer Mountain Work Days are a great chance to get out on the mountain\, care for your favorite terrain\, and learn about how northeastern mountain forests grow. It is hard work\, but also fun and satisfying to see a ski line take shape\, and how trees will grow in response to care. \nWe welcome both experienced veterans and newcomers to the mountain work days. Each person who works a full day receives a complimentary day pass voucher for each day she or he works. \nSummer/Fall 2024 Schedule \n\nAugust 24th\nSeptember 21st\nSeptember 28th\nOctober 26th\n\n  \nLogistics \n  \n\nReport at 9:00 am at the Cricket Club picnic table.  We’re back down at 3:30 – 4:00 pm.\nMost of the time we hike from the base\, so be physically fit and prepared to hike the mountain top to bottom.\nMost days are held rain or shine – Working in the rain is fun!\nBring work gloves\, hiking boots\, drinks & lunch.\nLoppers are the most useful tool to bring. Make sure they are in good working order.\nWork days navigate our gnarly terrain; no dogs or kids under 12 please. Minors under the age of 18 must register and be accompanied by a parent or legal guardian.\n\nThe incidence of Lyme Disease is increasing rapidly in Vermont. This disease is debilitating and hard to get rid of. More Info on how to protect yourself while thrashing around the woods of Stark Mountain. \nThe following tools are not allowed: All power tools such as chain saws\, and swinging tools such as hatchets or axes. \nOutfitting for Rain Events: \n\nOuter layer – The primary function is to hold in heat\, as well as keep water out for as long as possible.\n\nGoretex shell or other rainwear\nWaterproof pant shell – old ski pants work well\nWaterproof gaiters (Goretex)\nWaterproof boots beforehand\nBrimmed synthetic hat and fleece hat\nIf the weather is warm\, then staying warm is not a problem. Fast-drying shorts\, gaiters\, and a rain shell may be sufficient.\n\n\nInner layers – No cotton – must keep one warm when wet.\n\nWool or synthetic shirt and long underwear\nFleece\nWool socks\nThin windbreaker underneath the shell to hold even more heat in\n\n\nOther Tips\n\nPut dry (synthetic) clothing in a garbage bag\nBring a second synthetic inner layer shirt (in the garbage bag) to change into at lunch\nPut first aid kit in a waterproof bag\nA thermos of hot tea or soup. Caffeine constricts capillaries and should be avoided\nBring backup gloves. Cold hands will not warm up in wet gloves
URL:https://www.madriverglen.com/calendar/volunteer-mountain-work-day-7/
ATTACH;FMTTYPE=image/jpeg:https://www.madriverglen.com/wp-content/uploads/2023/08/IMG_8570-e1752518721531.jpg
END:VEVENT
END:VCALENDAR