BEGIN:VCALENDAR
VERSION:2.0
PRODID:-//Mad River Glen, Vermont - ECPv6.15.17//NONSGML v1.0//EN
CALSCALE:GREGORIAN
METHOD:PUBLISH
X-ORIGINAL-URL:https://www.madriverglen.com
X-WR-CALDESC:Events for Mad River Glen, Vermont
REFRESH-INTERVAL;VALUE=DURATION:PT1H
X-Robots-Tag:noindex
X-PUBLISHED-TTL:PT1H
BEGIN:VTIMEZONE
TZID:America/New_York
BEGIN:DAYLIGHT
TZOFFSETFROM:-0500
TZOFFSETTO:-0400
TZNAME:EDT
DTSTART:20240310T070000
END:DAYLIGHT
BEGIN:STANDARD
TZOFFSETFROM:-0400
TZOFFSETTO:-0500
TZNAME:EST
DTSTART:20241103T060000
END:STANDARD
BEGIN:DAYLIGHT
TZOFFSETFROM:-0500
TZOFFSETTO:-0400
TZNAME:EDT
DTSTART:20250309T070000
END:DAYLIGHT
BEGIN:STANDARD
TZOFFSETFROM:-0400
TZOFFSETTO:-0500
TZNAME:EST
DTSTART:20251102T060000
END:STANDARD
BEGIN:DAYLIGHT
TZOFFSETFROM:-0500
TZOFFSETTO:-0400
TZNAME:EDT
DTSTART:20260308T070000
END:DAYLIGHT
BEGIN:STANDARD
TZOFFSETFROM:-0400
TZOFFSETTO:-0500
TZNAME:EST
DTSTART:20261101T060000
END:STANDARD
END:VTIMEZONE
BEGIN:VEVENT
DTSTART;TZID=America/New_York:20250517T080000
DTEND;TZID=America/New_York:20250517T090000
DTSTAMP:20260423T051138
CREATED:20250226T185815Z
LAST-MODIFIED:20250313T151451Z
UID:10000681-1747468800-1747472400@www.madriverglen.com
SUMMARY:Co-op Board of Trustees Meeting
DESCRIPTION:The Co-op’s Board of Trustees meets monthly\, except July and August. All Co-op Shareholders are encouraged to attend Board meetings. Stay abreast of what is happening at America’s only skier-owned mountain by checking out the latest Board Meeting Minutes. If you have a comment\, question or concern for the board you can reach them by emailing coopboard@madriverglen.com \nJoin via Google Meet: https://meet.google.com/jhi-umff-poa
URL:https://www.madriverglen.com/calendar/co-op-board-of-trustees-meeting-4/2025-05-17/
CATEGORIES:Co-Op
ATTACH;FMTTYPE=image/jpeg:https://www.madriverglen.com/wp-content/uploads/2025/02/Shareholder-meeting-JEB-016-scaled-e1740596258670.jpg
END:VEVENT
BEGIN:VEVENT
DTSTART;TZID=America/New_York:20250521T163000
DTEND;TZID=America/New_York:20250521T203000
DTSTAMP:20260423T051138
CREATED:20250404T133319Z
LAST-MODIFIED:20250513T164953Z
UID:10000700-1747845000-1747859400@www.madriverglen.com
SUMMARY:Stark's Pub Opens for Summer!
DESCRIPTION:Stark’s Pub offers a one-of-a-kind family dining experience you won’t find anywhere else in the Mad River Valley. Open daily during the ski season from 11:00 AM to 5:30 PM whenever the mountain is running\, and throughout the summer—from Memorial Day through peak foliage in October—Stark’s Pub serves dinner Wednesday through Saturday from 4:30 to 8:30 PM. \nIn the warmer months\, enjoy stunning mountain views while dining al fresco on the deck or from the comfort of the cozy indoor seating. The atmosphere is relaxed and family-friendly\, with yard games to entertain kids and miles of scenic hiking trails just steps from your table. \nWhether you’re winding down after a day on the slopes or hiking in the Green Mountains\, Stark’s Pub is the perfect spot to refuel and reconnect. Don’t miss our live music performances—après-ski in the winter and on Wednesday summer evenings. For a full schedule of musical guests\, visit our event calendar. \nA special thanks to Lawson’s Finest Liquids for helping us support local artists and keep the good vibes going all year long at Stark’s Pub.
URL:https://www.madriverglen.com/calendar/starks-pub-opens-for-summer/
END:VEVENT
BEGIN:VEVENT
DTSTART;TZID=America/New_York:20250521T170000
DTEND;TZID=America/New_York:20250521T200000
DTSTAMP:20260423T051138
CREATED:20250508T120742Z
LAST-MODIFIED:20250515T131244Z
UID:10000712-1747846800-1747857600@www.madriverglen.com
SUMMARY:Live Music in Stark's Pub
DESCRIPTION:Stark’s Pub offers a one-of-a-kind family dining experience you won’t find anywhere else in the Mad River Valley. Open daily during the ski season from 11:00 AM to 5:30 PM whenever the mountain is running\, and throughout the summer—from Memorial Day through peak foliage in October—Stark’s Pub serves dinner Wednesday through Saturday from 4:30 to 8:30 PM. \nIn the warmer months\, enjoy stunning mountain views while dining al fresco on the deck or from the comfort of the cozy indoor seating. The atmosphere is relaxed and family-friendly\, with yard games to entertain kids and miles of scenic hiking trails just steps from your table. \nWhether you’re winding down after a day on the slopes or hiking in the Green Mountains\, Stark’s Pub is the perfect spot to refuel and reconnect. Don’t miss our live music performances—après-ski in the winter and on Wednesday summer evenings. For a full schedule of musical guests\, visit our event calendar. \nA special thanks to our friends at Lawson’s Finest Liquids for helping us support local artists and keep the good vibes going all year long at Stark’s Pub. \n\n  \nMAY 21st: Al’s Pals \nMAY 28th: Brisson Boss & Pelletier \nJUNE 4th: Brett Hughes \nJUNE 11th: Rob & Bob \nJUNE 18th: Russ Lawton & Friends \nJUNE 25th: Madigan
URL:https://www.madriverglen.com/calendar/live-music-in-starks-pub-13/
ATTACH;FMTTYPE=image/jpeg:https://www.madriverglen.com/wp-content/uploads/2025/05/Als-Pals.jpg
END:VEVENT
BEGIN:VEVENT
DTSTART;TZID=America/New_York:20250525T130000
DTEND;TZID=America/New_York:20250525T160000
DTSTAMP:20260423T051138
CREATED:20250518T154339Z
LAST-MODIFIED:20250518T161159Z
UID:10000725-1748178000-1748188800@www.madriverglen.com
SUMMARY:Live Music at the Mad Shack
DESCRIPTION:Thanks to our friends at Lawson’s Finest Liquids for supporting local artists & good vibes year-round in Stark’s Pub. \n\n  \nMAY 25th: Sara Whitehair Band \n 
URL:https://www.madriverglen.com/calendar/live-music-in-starks-pub-18/
ATTACH;FMTTYPE=image/png:https://www.madriverglen.com/wp-content/uploads/2025/05/Screenshot-2025-05-18-at-11.40.39 AM-scaled-e1747582981732.png
END:VEVENT
BEGIN:VEVENT
DTSTART;TZID=America/New_York:20250528T170000
DTEND;TZID=America/New_York:20250528T200000
DTSTAMP:20260423T051138
CREATED:20250512T150019Z
LAST-MODIFIED:20250518T154450Z
UID:10000714-1748451600-1748462400@www.madriverglen.com
SUMMARY:Live Music in Stark's Pub
DESCRIPTION:Stark’s Pub offers an unparalleled family dining atmosphere you can’t find anywhere else in the Mad River Valley. The Pub is open weekly Wednesday to Saturday during the summer months from May 21st through October 12th. Dinner is served from 4:30 to 8:30 PM featuring nightly specials\, a kids menu and some of your favorite Pub classics. Thanks to our friends at Lawson’s Finest Liquids for supporting local artists & good vibes year-round in Stark’s Pub. \n\n  \nMAY 21st: Al’s Pals \nMAY 25th: Sara Whitehair Band \nMAY 28th: Brisson Boss & Pelletier \nJUNE 4th: Brett Hughes \nJUNE 11th: Rob & Bob \nJUNE 18th: Russ Lawton & Friends \nJUNE 25th: Madigan
URL:https://www.madriverglen.com/calendar/live-music-in-starks-pub-14/
ATTACH;FMTTYPE=image/jpeg:https://www.madriverglen.com/wp-content/uploads/2025/05/Brisson-Boss-Pelletier-1.jpg
END:VEVENT
BEGIN:VEVENT
DTSTART;TZID=America/New_York:20250531T140000
DTEND;TZID=America/New_York:20250531T160000
DTSTAMP:20260423T051138
CREATED:20250512T155427Z
LAST-MODIFIED:20250518T154630Z
UID:10000716-1748700000-1748707200@www.madriverglen.com
SUMMARY:Guided Naturalist Hikes
DESCRIPTION:The Stark Mountain Foundation is excited to announce a new series of free\, family-friendly naturalist hikes on Stark Mountain\, led by Vermont Master Naturalist Gene O. Desideraggio. These guided hikes offer a unique opportunity to explore the mountain’s diverse ecosystems throughout the changing seasons. From vibrant spring wildflowers to the brilliant colors of fall foliage\, participants will immerse themselves in the natural beauty of the Green Mountains. Along the way\, Gene will help hikers discover signs of wildlife\, listen for bird calls echoing through the forest\, spot animal tracks on the trail\, or even find a well-worn bear tree. \nAfter each hike\, participants are invited to unwind at the Mad River Glen Stark’s Pub\, where they can grab a bite or a drink and enjoy the stunning mountain views. \nThe hikes are free\, but registration is required and space is limited. We kindly ask that participants register when they are confident they can attend. \nTo register or learn more\, visit bit.ly/NatureHikes2025 \n\nAges: 5+ (Accompanied by a supervising adult)\nCost: Free\nWhen: 2:00 to 4:00 PM on the last Saturday of every month: May 31\, June 28\, July 26\, August 30\, September 27\, and October 25\nMeeting Spot: Flagpole in front of the Basebox\nDuration: Approximately 2 hours depending on the pace of the group\nWhat to Bring: Hat\, sunglasses\, water\, snacks\, sunscreen\, bug spray\, raincoat\, sturdy\nPlease note that restrooms won’t be available until after the hike.
URL:https://www.madriverglen.com/calendar/guided-naturalist-hikes/2025-05-31/
CATEGORIES:Stark Mountain Foundation
ATTACH;FMTTYPE=image/jpeg:https://www.madriverglen.com/wp-content/uploads/2025/05/IMG_3924-scaled-e1747583181508.jpg
END:VEVENT
END:VCALENDAR