BEGIN:VCALENDAR
VERSION:2.0
PRODID:-//Mad River Glen, Vermont - ECPv6.15.17//NONSGML v1.0//EN
CALSCALE:GREGORIAN
METHOD:PUBLISH
X-WR-CALNAME:Mad River Glen, Vermont
X-ORIGINAL-URL:https://www.madriverglen.com
X-WR-CALDESC:Events for Mad River Glen, Vermont
REFRESH-INTERVAL;VALUE=DURATION:PT1H
X-Robots-Tag:noindex
X-PUBLISHED-TTL:PT1H
BEGIN:VTIMEZONE
TZID:America/New_York
BEGIN:DAYLIGHT
TZOFFSETFROM:-0500
TZOFFSETTO:-0400
TZNAME:EDT
DTSTART:20250309T070000
END:DAYLIGHT
BEGIN:STANDARD
TZOFFSETFROM:-0400
TZOFFSETTO:-0500
TZNAME:EST
DTSTART:20251102T060000
END:STANDARD
BEGIN:DAYLIGHT
TZOFFSETFROM:-0500
TZOFFSETTO:-0400
TZNAME:EDT
DTSTART:20260308T070000
END:DAYLIGHT
BEGIN:STANDARD
TZOFFSETFROM:-0400
TZOFFSETTO:-0500
TZNAME:EST
DTSTART:20261101T060000
END:STANDARD
BEGIN:DAYLIGHT
TZOFFSETFROM:-0500
TZOFFSETTO:-0400
TZNAME:EDT
DTSTART:20270314T070000
END:DAYLIGHT
BEGIN:STANDARD
TZOFFSETFROM:-0400
TZOFFSETTO:-0500
TZNAME:EST
DTSTART:20271107T060000
END:STANDARD
END:VTIMEZONE
BEGIN:VEVENT
DTSTART;TZID=America/New_York:20261212T090000
DTEND;TZID=America/New_York:20261212T153000
DTSTAMP:20260423T183303
CREATED:20260313T133435Z
LAST-MODIFIED:20260313T133435Z
UID:10001135-1797066000-1797089400@www.madriverglen.com
SUMMARY:Opening Day of the 2026/2027 Ski Season
DESCRIPTION:December 11\, 1948 Mad River Glen opened to the public for the first time\, whisking skiers 2000 vertical feet to the summit of Stark Mountain on the Single. The American Steel & Wire Company had installed nearly 600 of these state-of-the-art aerial tramway systems across the country and together with Roland Palmedo brought lift-served skiing to the Mad River Valley.
URL:https://www.madriverglen.com/calendar/opening-day-of-the-2026-2027-ski-season/
CATEGORIES:Events
ATTACH;FMTTYPE=image/jpeg:https://www.madriverglen.com/wp-content/uploads/2023/07/Opening-Day-1949-Miss-VT-Gen-Stark-and-George-Neill-e1740597737947.jpg
END:VEVENT
BEGIN:VEVENT
DTSTART;VALUE=DATE:20261225
DTEND;VALUE=DATE:20261226
DTSTAMP:20260423T183303
CREATED:20250226T192404Z
LAST-MODIFIED:20250331T144050Z
UID:10000701-1798156800-1798243199@www.madriverglen.com
SUMMARY:Christmas Day: Closed
DESCRIPTION:In celebration of the festive season\, we would like to let you know that we will be closed on Christmas Day. This special time of year allows us to embrace the joy of being with loved ones\, and as our team prepares for the exciting ski season ahead\, we truly value these moments of togetherness. \nWe appreciate your understanding and look forward to welcoming you back when we reopen on December 26th. \nWishing you and your loved ones a Merry Christmas filled with warmth\, joy\, and happiness!
URL:https://www.madriverglen.com/calendar/christmas-day-closed/2026-12-25/
ATTACH;FMTTYPE=image/jpeg:https://www.madriverglen.com/wp-content/uploads/2025/02/I9A0848-scaled-e1743432044541.jpg
END:VEVENT
END:VCALENDAR