BEGIN:VCALENDAR
VERSION:2.0
PRODID:-//Mad River Glen, Vermont - ECPv6.15.17//NONSGML v1.0//EN
CALSCALE:GREGORIAN
METHOD:PUBLISH
X-WR-CALNAME:Mad River Glen, Vermont
X-ORIGINAL-URL:https://www.madriverglen.com
X-WR-CALDESC:Events for Mad River Glen, Vermont
REFRESH-INTERVAL;VALUE=DURATION:PT1H
X-Robots-Tag:noindex
X-PUBLISHED-TTL:PT1H
BEGIN:VTIMEZONE
TZID:America/New_York
BEGIN:DAYLIGHT
TZOFFSETFROM:-0500
TZOFFSETTO:-0400
TZNAME:EDT
DTSTART:20220313T070000
END:DAYLIGHT
BEGIN:STANDARD
TZOFFSETFROM:-0400
TZOFFSETTO:-0500
TZNAME:EST
DTSTART:20221106T060000
END:STANDARD
BEGIN:DAYLIGHT
TZOFFSETFROM:-0500
TZOFFSETTO:-0400
TZNAME:EDT
DTSTART:20230312T070000
END:DAYLIGHT
BEGIN:STANDARD
TZOFFSETFROM:-0400
TZOFFSETTO:-0500
TZNAME:EST
DTSTART:20231105T060000
END:STANDARD
BEGIN:DAYLIGHT
TZOFFSETFROM:-0500
TZOFFSETTO:-0400
TZNAME:EDT
DTSTART:20240310T070000
END:DAYLIGHT
BEGIN:STANDARD
TZOFFSETFROM:-0400
TZOFFSETTO:-0500
TZNAME:EST
DTSTART:20241103T060000
END:STANDARD
END:VTIMEZONE
BEGIN:VEVENT
DTSTART;TZID=America/New_York:20230827T113000
DTEND;TZID=America/New_York:20230827T140000
DTSTAMP:20260422T184400
CREATED:20230719T193858Z
LAST-MODIFIED:20230720T163910Z
UID:10000031-1693135800-1693144800@www.madriverglen.com
SUMMARY:Sunday Brunch & Live Music
DESCRIPTION:This summer we’ll be hosting live music every other Sunday during brunch service. This selection of local artists features toned-down tunes to help you keep those Sunday scaries at bay. Thanks to Lawson’s Finest Liquids for supporting local artists & good vibes by sponsoring year-round music in Stark’s Pub.\n\n7/16 Ragged Trio\n\n7/30 Alex Budney and Friends\n\n8/13 Dave O\n\n8/27 Evan Jennison\n\n9/10 Music by Cooper\n\n9/24 Rob Pierce and Friends\n\n10/8 Ragged Trio
URL:https://www.madriverglen.com/calendar/sunday-brunch-6/
LOCATION:Stark’s Pub\, 57 Schuss Pass Rd\, Waitsfield\, VT\, 05673\, United States
ATTACH;FMTTYPE=image/jpeg:https://www.madriverglen.com/wp-content/uploads/2023/07/7C1C607C-935B-4E8F-90E7-B3854B42AD45_1_105_c.jpeg
END:VEVENT
BEGIN:VEVENT
DTSTART;TZID=America/New_York:20230823T180000
DTEND;TZID=America/New_York:20230823T203000
DTSTAMP:20260422T184400
CREATED:20230719T184546Z
LAST-MODIFIED:20230725T190902Z
UID:10000020-1692813600-1692822600@www.madriverglen.com
SUMMARY:Summer Live Music Series
DESCRIPTION:Stark’s Pub offers an unparalleled family dining atmosphere you can’t find anywhere else in the Mad River Valley. The Pub is open during the summer months from Memorial Day through Indigenous Peoples’ Day. Dinner is served on Wednesday\, Thursday\, Friday and Saturday nights from 4:30 to 8:30 PM with brunch offered on Sundays from 10:00 AM until 2:00 PM. Thanks to our friends at Lawson’s Finest Liquids for supporting local artists & good vibes year-round in Stark’s Pub. \n\n  \n7/12 Medicine Tribe Trio \n7/19 Evan Jennison \n7/26 Polvo de Oro \n8/2 Phineas Gage \n8/9 Brission Boss and Pelletier \n8/16 Ragged Company \n8/23 Atom and the Orbits \n8/30 Danielle Keegan and friends \n9/6 Jaded Ravins \n9/13 Alex Budney and Friends \n9/20 Easy Street Duo \n9/27 She Was Right \n10/4 TBD
URL:https://www.madriverglen.com/calendar/live-music-in-starks-pub-7/
LOCATION:Stark’s Pub\, 57 Schuss Pass Rd\, Waitsfield\, VT\, 05673\, United States
ATTACH;FMTTYPE=image/png:https://www.madriverglen.com/wp-content/uploads/2023/07/Screenshot-2023-07-19-at-2.45.26-PM.png
END:VEVENT
BEGIN:VEVENT
DTSTART;TZID=America/New_York:20230819T090000
DTEND;TZID=America/New_York:20230819T160000
DTSTAMP:20260422T184400
CREATED:20230801T175650Z
LAST-MODIFIED:20230801T175650Z
UID:10000213-1692435600-1692460800@www.madriverglen.com
SUMMARY:Volunteer Mountain Work Day
DESCRIPTION:Volunteer Mountain Work Days will once again utilize pre-registration and limit the total group size. Space is extremely limited\, don’t wait\, register online by clicking this link. \nRegistration/Contact information will ensure that we can communicate with participants in the event that covid precautions may be needed or in case severe weather is likely (this will reduce the risk of needing to take shelter in on-mountain facilities where social distancing is unable to be maintained). Events will be confirmed by 6:00 pm the day prior via the contact email provided. A wait list will be maintained with open slots filled by 6:00 pm the day prior. \nAny minors that register must be at least 12 years of age\, accompanied by their legal guardian/parent throughout the day\, no dogs are allowed. \n  \nGeneral information:  The purpose of Volunteer Mountain Work Days is the maintenance of MRG’s legendary tree skiing and regeneration zones in our mountain forest. This involves cutting lines as well as setting aside areas for new trees to grow. Everything is done with hand tools. Work days are organized and led by Lars Bruns in consultation with ski area management. Volunteer Mountain Work Days are a great chance to get out on the mountain\, care for your favorite terrain\, and learn about how northeastern mountain forests grow. It is hard work\, but also fun and satisfying to see a ski line take shape\, and how trees will grow in response to care. \nWe welcome both experienced veterans and newcomers to the mountain work days. Each person who works a full day receives a complimentary day pass voucher for each day she or he works. \nRegistration Required – Summer/Fall 2023 Schedule (all Saturdays) \n\nAugust 19th\nSeptember 23rd\nSeptember 30th\nOctober 7th\nOctober 28th\n\n  \nLogistics \n  \n\nReport at 9:00 am at the Cricket Club picnic table.  We’re back down at 3:30 – 4:00 pm.\nMost of the time we hike from the base\, so be prepared to hike.\nOnly in cases of highly probable severe weather will a work day be canceled (registered participants will be notified via email by 6:00 pm the night prior). Working in the rain is fun!\nBring work gloves\, hiking boots\, drinks & lunch.\nLoppers are the most useful tool to bring. Make sure they are in good working order.\nWork days navigate our gnarly terrain; no dogs or kids under 12 please. Minors under the age of 18 must register and be accompanied by a parent or legal guardian.\n\nThe incidence of Lyme Disease is increasing rapidly in Vermont. This disease is debilitating and hard to get rid of. More Info on how to protect yourself while thrashing around the woods of Stark Mountain. \nThe following tools are not allowed: All power tools such as chain saws\, and swinging tools such as hatchets or axes. \nOutfitting for Rain Events: \n\nOuter layer – The primary function is to hold in heat\, as well as keep water out for as long as possible.\n\nGoretex shell or other rainwear\nWaterproof pant shell – old ski pants work well\nWaterproof gaiters (Goretex)\nWaterproof boots beforehand\nBrimmed synthetic hat and fleece hat\nIf the weather is warm\, then staying warm is not a problem. Fast-drying shorts\, gaiters\, and a rain shell may be sufficient.\n\n\nInner layers – No cotton – must keep one warm when wet.\n\nWool or synthetic shirt and long underwear\nFleece\nWool socks\nThin windbreaker underneath the shell to hold even more heat in\n\n\nOther Tips\n\nPut dry (synthetic) clothing in a garbage bag\nBring a second synthetic inner layer shirt (in the garbage bag) to change into at lunch\nPut first aid kit in a waterproof bag\nA thermos of hot tea or soup. Caffeine constricts capillaries and should be avoided\nBring backup gloves. Cold hands will not warm up in wet gloves
URL:https://www.madriverglen.com/calendar/volunteer-mountain-work-day/2023-08-19/
ATTACH;FMTTYPE=image/jpeg:https://www.madriverglen.com/wp-content/uploads/2023/08/Resized_20210821_110129.jpeg
END:VEVENT
BEGIN:VEVENT
DTSTART;TZID=America/New_York:20230816T180000
DTEND;TZID=America/New_York:20230816T203000
DTSTAMP:20260422T184400
CREATED:20230719T183636Z
LAST-MODIFIED:20230725T190937Z
UID:10000019-1692208800-1692217800@www.madriverglen.com
SUMMARY:Summer Live Music Series
DESCRIPTION:Stark’s Pub offers an unparalleled family dining atmosphere you can’t find anywhere else in the Mad River Valley. The Pub is open during the summer months from Memorial Day through Indigenous Peoples’ Day. Dinner is served on Wednesday\, Thursday\, Friday and Saturday nights from 4:30 to 8:30 PM with brunch offered on Sundays from 10:00 AM until 2:00 PM. Thanks to our friends at Lawson’s Finest Liquids for supporting local artists & good vibes year-round in Stark’s Pub. \n\n  \n7/12 Medicine Tribe Trio \n7/19 Evan Jennison \n7/26 Polvo de Oro \n8/2 Phineas Gage \n8/9 Brission Boss and Pelletier \n8/16 Ragged Company \n8/23 Atom and the Orbits \n8/30 Danielle Keegan and friends \n9/6 Jaded Ravins \n9/13 Alex Budney and Friends \n9/20 Easy Street Duo \n9/27 She Was Right \n10/4 TBD
URL:https://www.madriverglen.com/calendar/live-music-in-starks-pub-4/
LOCATION:Stark’s Pub\, 57 Schuss Pass Rd\, Waitsfield\, VT\, 05673\, United States
ATTACH;FMTTYPE=image/png:https://www.madriverglen.com/wp-content/uploads/2023/07/Screenshot-2023-07-19-at-2.35.28-PM.png
END:VEVENT
BEGIN:VEVENT
DTSTART;TZID=America/New_York:20230813T113000
DTEND;TZID=America/New_York:20230813T140000
DTSTAMP:20260422T184400
CREATED:20230719T193134Z
LAST-MODIFIED:20230719T193136Z
UID:10000030-1691926200-1691935200@www.madriverglen.com
SUMMARY:Sunday Brunch & Live Music
DESCRIPTION:This summer we’ll be hosting live music every other Sunday during brunch service. This selection of local artists features toned-down tunes to help you keep those Sunday scaries at bay. Thanks to Lawson’s Finest Liquids for supporting local artists & good vibes by sponsoring year-round music in Stark’s Pub.\n\n7/16 Ragged Trio\n\n7/30 Alex Budney and Friends\n\n8/13 Dave O\n\n8/27 Evan Jennison\n\n9/10 Music by Cooper\n\n9/24 Rob Pierce and Friends\n\n10/8 Ragged Trio
URL:https://www.madriverglen.com/calendar/sunday-brunch-2/
LOCATION:Stark’s Pub\, 57 Schuss Pass Rd\, Waitsfield\, VT\, 05673\, United States
ATTACH;FMTTYPE=image/png:https://www.madriverglen.com/wp-content/uploads/2023/07/Screenshot-2023-07-19-at-3.30.51-PM.png
END:VEVENT
BEGIN:VEVENT
DTSTART;TZID=America/New_York:20230809T180000
DTEND;TZID=America/New_York:20230809T203000
DTSTAMP:20260422T184400
CREATED:20230725T170758Z
LAST-MODIFIED:20230726T191832Z
UID:10000018-1691604000-1691613000@www.madriverglen.com
SUMMARY:Summer Live Music Series
DESCRIPTION:Stark’s Pub offers an unparalleled family dining atmosphere you can’t find anywhere else in the Mad River Valley. The Pub is open during the summer months from Memorial Day through Indigenous Peoples’ Day. Dinner is served on Wednesday\, Thursday\, Friday and Saturday nights from 4:30 to 8:30 PM with brunch offered on Sundays from 10:00 AM until 2:00 PM. Thanks to our friends at Lawson’s Finest Liquids for supporting local artists & good vibes year-round in Stark’s Pub. \n\n  \n7/12 Medicine Tribe Trio \n7/19 Evan Jennison \n7/26 Running In Circles \n8/2 Phineas Gage \n8/9 Brission Boss and Pelletier \n8/16 Ragged Company \n8/23 Atom and the Orbits \n8/30 Danielle Keegan and friends \n9/6 Jaded Ravins \n9/13 Alex Budney and Friends \n9/20 Easy Street Duo \n9/27 She Was Right \n10/4 TBD
URL:https://www.madriverglen.com/calendar/live-music-in-starks-pub-9/
LOCATION:Stark’s Pub\, 57 Schuss Pass Rd\, Waitsfield\, VT\, 05673\, United States
ATTACH;FMTTYPE=image/png:https://www.madriverglen.com/wp-content/uploads/2023/07/Screenshot-2023-07-25-at-1.07.23-PM.png
END:VEVENT
BEGIN:VEVENT
DTSTART;TZID=America/New_York:20230802T180000
DTEND;TZID=America/New_York:20230802T203000
DTSTAMP:20260422T184400
CREATED:20230725T155753Z
LAST-MODIFIED:20230727T165434Z
UID:10000017-1690999200-1691008200@www.madriverglen.com
SUMMARY:Summer Live Music Series
DESCRIPTION:Stark’s Pub offers an unparalleled family dining atmosphere you can’t find anywhere else in the Mad River Valley. The Pub is open during the summer months from Memorial Day through Indigenous Peoples’ Day. Dinner is served on Wednesday\, Thursday\, Friday and Saturday nights from 4:30 to 8:30 PM with brunch offered on Sundays from 10:00 AM until 2:00 PM. Thanks to our friends at Lawson’s Finest Liquids for supporting local artists & good vibes year-round in Stark’s Pub. \n\n  \n7/12 Medicine Tribe Trio \n7/19 Evan Jennison \n7/26 Running In Circles \n8/2 Phineas Gage \n8/9 Brission Boss and Pelletier \n8/16 Ragged Company \n8/23 Atom and the Orbits \n8/30 Danielle Keegan and friends \n9/6 Jaded Ravins \n9/13 Alex Budney and Friends \n9/20 Easy Street Duo \n9/27 She Was Right \n10/4 TBD
URL:https://www.madriverglen.com/calendar/live-music-in-starks-pub-8/
LOCATION:Stark’s Pub\, 57 Schuss Pass Rd\, Waitsfield\, VT\, 05673\, United States
ATTACH;FMTTYPE=image/png:https://www.madriverglen.com/wp-content/uploads/2023/07/Phineas-Gage-e1690476868743.png
END:VEVENT
BEGIN:VEVENT
DTSTART;TZID=America/New_York:20230730T113000
DTEND;TZID=America/New_York:20230730T140000
DTSTAMP:20260422T184400
CREATED:20230719T193718Z
LAST-MODIFIED:20230719T193719Z
UID:10000029-1690716600-1690725600@www.madriverglen.com
SUMMARY:Sunday Brunch & Live Music
DESCRIPTION:This summer we’ll be hosting live music every other Sunday during brunch service. This selection of local artists features toned-down tunes to help you keep those Sunday scaries at bay. Thanks to Lawson’s Finest Liquids for supporting local artists & good vibes by sponsoring year-round music in Stark’s Pub.\n\n7/16 Ragged Trio\n\n7/30 Alex Budney and Friends\n\n8/13 Dave O\n\n8/27 Evan Jennison\n\n9/10 Music by Cooper\n\n9/24 Rob Pierce and Friends\n\n10/8 Ragged Trio
URL:https://www.madriverglen.com/calendar/sunday-brunch-5/
LOCATION:Stark’s Pub\, 57 Schuss Pass Rd\, Waitsfield\, VT\, 05673\, United States
ATTACH;FMTTYPE=image/png:https://www.madriverglen.com/wp-content/uploads/2023/07/Screenshot-2023-07-19-at-3.36.43-PM.png
END:VEVENT
BEGIN:VEVENT
DTSTART;TZID=America/New_York:20230726T180000
DTEND;TZID=America/New_York:20230726T203000
DTSTAMP:20260422T184400
CREATED:20230726T170205Z
LAST-MODIFIED:20230726T170206Z
UID:10000016-1690394400-1690403400@www.madriverglen.com
SUMMARY:Summer Live Music Series
DESCRIPTION:Stark’s Pub offers an unparalleled family dining atmosphere you can’t find anywhere else in the Mad River Valley. The Pub is open during the summer months from Memorial Day through Indigenous Peoples’ Day. Dinner is served on Wednesday\, Thursday\, Friday and Saturday nights from 4:30 to 8:30 PM with brunch offered on Sundays from 10:00 AM until 2:00 PM. Thanks to our friends at Lawson’s Finest Liquids for supporting local artists & good vibes year-round in Stark’s Pub. \n\n  \n7/12 Medicine Tribe Trio \n7/19 Evan Jennison \n7/26 Running In Circles \n8/2 Phineas Gage \n8/9 Brission Boss and Pelletier \n8/16 Ragged Company \n8/23 Atom and the Orbits \n8/30 Danielle Keegan and friends \n9/6 Jaded Ravins \n9/13 Alex Budney and Friends \n9/20 Easy Street Duo \n9/27 She Was Right \n10/4 TBD
URL:https://www.madriverglen.com/calendar/live-music-in-starks-pub-11/
LOCATION:Stark’s Pub\, 57 Schuss Pass Rd\, Waitsfield\, VT\, 05673\, United States
ATTACH;FMTTYPE=image/jpeg:https://www.madriverglen.com/wp-content/uploads/2023/07/IMG_2246-e1690390917326.jpeg
END:VEVENT
BEGIN:VEVENT
DTSTART;TZID=America/New_York:20230722T160000
DTEND;TZID=America/New_York:20230722T180000
DTSTAMP:20260422T184400
CREATED:20230712T140446Z
LAST-MODIFIED:20231023T192112Z
UID:10000061-1690041600-1690048800@www.madriverglen.com
SUMMARY:Celebration of Life for Betsy Pratt
DESCRIPTION:Mad River Glen would like to invite you to join us as we gather family and friends to celebrate the life and legacy of Elizabeth Love Stratton Pratt. Everyone is encouraged to come and share their stories as we remember our co-op’s founder\, steward of Stark Mountain and trailblazing entrepreneur\, Betsy Pratt. \n\nThe Celebration of Life will take place at Mad River Glen on Saturday\, July 22nd from 4:00 until 6:00 PM. Friends and family will gather to share their photos and memories. General Stark’s Pub will be open during the service offering a cash bar and hors d’oeuvres. At 6:00 pm we will transition over to offer a casual dinner service with burgers and hot dogs offered outside on the grill. \n\nStark’s Pub will not open for regular dinner service on Saturday but will return with regular brunch service on Sunday\, July 23rd from 10:00 am until 2:00 pm.
URL:https://www.madriverglen.com/calendar/celebration-of-life-for-betsy-pratt/
CATEGORIES:Co-Op
ATTACH;FMTTYPE=image/png:https://www.madriverglen.com/wp-content/uploads/2022/10/Screenshot-2022-10-31-at-9.51.29-AM.png
END:VEVENT
BEGIN:VEVENT
DTSTART;TZID=America/New_York:20230719T180000
DTEND;TZID=America/New_York:20230719T203000
DTSTAMP:20260422T184400
CREATED:20230719T184040Z
LAST-MODIFIED:20230725T190508Z
UID:10000015-1689789600-1689798600@www.madriverglen.com
SUMMARY:Summer Live Music Series
DESCRIPTION:Stark’s Pub offers an unparalleled family dining atmosphere you can’t find anywhere else in the Mad River Valley. The Pub is open during the summer months from Memorial Day through Indigenous Peoples’ Day. Dinner is served on Wednesday\, Thursday\, Friday and Saturday nights from 4:30 to 8:30 PM with brunch offered on Sundays from 10:00 AM until 2:00 PM. Thanks to our friends at Lawson’s Finest Liquids for supporting local artists & good vibes year-round in Stark’s Pub. \n\n  \n7/12 Medicine Tribe Trio \n7/19 Evan Jennison \n7/26 Polvo de Oro \n8/2 TBD \n8/9 Brission Boss and Pelletier \n8/16 Ragged Company \n8/23 Atom and the Orbits \n8/30 Danielle Keegan and friends \n9/6 Jaded Ravins \n9/13 Alex Budney and Friends \n9/20 Easy Street Duo \n9/27 She Was Right \n10/4 TBD
URL:https://www.madriverglen.com/calendar/live-music-in-starks-pub-5/
LOCATION:Stark’s Pub\, 57 Schuss Pass Rd\, Waitsfield\, VT\, 05673\, United States
ATTACH;FMTTYPE=image/png:https://www.madriverglen.com/wp-content/uploads/2023/07/Screenshot-2023-07-19-at-2.40.09-PM.png
END:VEVENT
BEGIN:VEVENT
DTSTART;TZID=America/New_York:20230716T113000
DTEND;TZID=America/New_York:20230716T140000
DTSTAMP:20260422T184400
CREATED:20230712T135640Z
LAST-MODIFIED:20231004T184015Z
UID:10000028-1689507000-1689516000@www.madriverglen.com
SUMMARY:Sunday Brunch & Live Music
DESCRIPTION:This summer we’ll be hosting live music every other Sunday during brunch service. This selection of local artists features toned-down tunes to help you keep those Sunday scaries at bay. Thanks to Lawson’s Finest Liquids for supporting local artists & good vibes by sponsoring year-round music in Stark’s Pub.\n\n7/16 Ragged Trio\n\n7/30 Alex Budney and Friends\n\n8/13 Dave O\n\n8/27 Evan Jennison\n\n9/10 Music by Cooper\n\n9/24 Rob Pierce and Friends\n\n10/8 Ragged Trio
URL:https://www.madriverglen.com/calendar/sunday-brunch/2023-07-16/
LOCATION:Stark’s Pub\, 57 Schuss Pass Rd\, Waitsfield\, VT\, 05673\, United States
ATTACH;FMTTYPE=image/jpeg:https://www.madriverglen.com/wp-content/uploads/2021/06/0I9A0042-scaled.jpg
END:VEVENT
BEGIN:VEVENT
DTSTART;TZID=America/New_York:20230712T180000
DTEND;TZID=America/New_York:20230712T203000
DTSTAMP:20260422T184400
CREATED:20230710T172005Z
LAST-MODIFIED:20231002T170049Z
UID:10000014-1689184800-1689193800@www.madriverglen.com
SUMMARY:Summer Live Music Series
DESCRIPTION:Stark’s Pub offers an unparalleled family dining atmosphere you can’t find anywhere else in the Mad River Valley. The Pub is open during the summer months from Memorial Day through Indigenous Peoples’ Day. Dinner is served on Wednesday\, Thursday\, Friday and Saturday nights from 4:30 to 8:30 PM with brunch offered on Sundays from 10:00 AM until 2:00 PM. Thanks to our friends at Lawson’s Finest Liquids for supporting local artists & good vibes year-round in Stark’s Pub. \n\n  \n7/12 Medicine Tribe Trio \n7/19 Evan Jennison \n7/26 Running In Circles \n8/2 Phineas Gage \n8/9 Brission Boss and Pelletier \n8/16 Ragged Company \n8/23 Atom and the Orbits \n8/30 Danielle Keegan and friends \n9/6 Jaded Ravins \n9/13 Alex Budney and Friends \n9/20 Easy Street Duo \n9/27 She Was Right \n10/4 Brett Hughes & the Paradise Posse
URL:https://www.madriverglen.com/calendar/live-music-in-starks-pub/2023-07-12/
LOCATION:Stark’s Pub\, 57 Schuss Pass Rd\, Waitsfield\, VT\, 05673\, United States
ATTACH;FMTTYPE=image/png:https://www.madriverglen.com/wp-content/uploads/2023/07/Screenshot-2023-10-02-at-8.03.32-AM.png
END:VEVENT
END:VCALENDAR