BEGIN:VCALENDAR
VERSION:2.0
PRODID:-//Mad River Glen, Vermont - ECPv6.15.17//NONSGML v1.0//EN
CALSCALE:GREGORIAN
METHOD:PUBLISH
X-WR-CALNAME:Mad River Glen, Vermont
X-ORIGINAL-URL:https://www.madriverglen.com
X-WR-CALDESC:Events for Mad River Glen, Vermont
REFRESH-INTERVAL;VALUE=DURATION:PT1H
X-Robots-Tag:noindex
X-PUBLISHED-TTL:PT1H
BEGIN:VTIMEZONE
TZID:America/New_York
BEGIN:DAYLIGHT
TZOFFSETFROM:-0500
TZOFFSETTO:-0400
TZNAME:EDT
DTSTART:20220313T070000
END:DAYLIGHT
BEGIN:STANDARD
TZOFFSETFROM:-0400
TZOFFSETTO:-0500
TZNAME:EST
DTSTART:20221106T060000
END:STANDARD
BEGIN:DAYLIGHT
TZOFFSETFROM:-0500
TZOFFSETTO:-0400
TZNAME:EDT
DTSTART:20230312T070000
END:DAYLIGHT
BEGIN:STANDARD
TZOFFSETFROM:-0400
TZOFFSETTO:-0500
TZNAME:EST
DTSTART:20231105T060000
END:STANDARD
BEGIN:DAYLIGHT
TZOFFSETFROM:-0500
TZOFFSETTO:-0400
TZNAME:EDT
DTSTART:20240310T070000
END:DAYLIGHT
BEGIN:STANDARD
TZOFFSETFROM:-0400
TZOFFSETTO:-0500
TZNAME:EST
DTSTART:20241103T060000
END:STANDARD
END:VTIMEZONE
BEGIN:VEVENT
DTSTART;TZID=America/New_York:20230726T180000
DTEND;TZID=America/New_York:20230726T203000
DTSTAMP:20260423T013623
CREATED:20230726T170205Z
LAST-MODIFIED:20230726T170206Z
UID:10000016-1690394400-1690403400@www.madriverglen.com
SUMMARY:Summer Live Music Series
DESCRIPTION:Stark’s Pub offers an unparalleled family dining atmosphere you can’t find anywhere else in the Mad River Valley. The Pub is open during the summer months from Memorial Day through Indigenous Peoples’ Day. Dinner is served on Wednesday\, Thursday\, Friday and Saturday nights from 4:30 to 8:30 PM with brunch offered on Sundays from 10:00 AM until 2:00 PM. Thanks to our friends at Lawson’s Finest Liquids for supporting local artists & good vibes year-round in Stark’s Pub. \n\n  \n7/12 Medicine Tribe Trio \n7/19 Evan Jennison \n7/26 Running In Circles \n8/2 Phineas Gage \n8/9 Brission Boss and Pelletier \n8/16 Ragged Company \n8/23 Atom and the Orbits \n8/30 Danielle Keegan and friends \n9/6 Jaded Ravins \n9/13 Alex Budney and Friends \n9/20 Easy Street Duo \n9/27 She Was Right \n10/4 TBD
URL:https://www.madriverglen.com/calendar/live-music-in-starks-pub-11/
LOCATION:Stark’s Pub\, 57 Schuss Pass Rd\, Waitsfield\, VT\, 05673\, United States
ATTACH;FMTTYPE=image/jpeg:https://www.madriverglen.com/wp-content/uploads/2023/07/IMG_2246-e1690390917326.jpeg
END:VEVENT
BEGIN:VEVENT
DTSTART;TZID=America/New_York:20230722T160000
DTEND;TZID=America/New_York:20230722T180000
DTSTAMP:20260423T013623
CREATED:20230712T140446Z
LAST-MODIFIED:20231023T192112Z
UID:10000061-1690041600-1690048800@www.madriverglen.com
SUMMARY:Celebration of Life for Betsy Pratt
DESCRIPTION:Mad River Glen would like to invite you to join us as we gather family and friends to celebrate the life and legacy of Elizabeth Love Stratton Pratt. Everyone is encouraged to come and share their stories as we remember our co-op’s founder\, steward of Stark Mountain and trailblazing entrepreneur\, Betsy Pratt. \n\nThe Celebration of Life will take place at Mad River Glen on Saturday\, July 22nd from 4:00 until 6:00 PM. Friends and family will gather to share their photos and memories. General Stark’s Pub will be open during the service offering a cash bar and hors d’oeuvres. At 6:00 pm we will transition over to offer a casual dinner service with burgers and hot dogs offered outside on the grill. \n\nStark’s Pub will not open for regular dinner service on Saturday but will return with regular brunch service on Sunday\, July 23rd from 10:00 am until 2:00 pm.
URL:https://www.madriverglen.com/calendar/celebration-of-life-for-betsy-pratt/
CATEGORIES:Co-Op
ATTACH;FMTTYPE=image/png:https://www.madriverglen.com/wp-content/uploads/2022/10/Screenshot-2022-10-31-at-9.51.29-AM.png
END:VEVENT
BEGIN:VEVENT
DTSTART;TZID=America/New_York:20230719T180000
DTEND;TZID=America/New_York:20230719T203000
DTSTAMP:20260423T013623
CREATED:20230719T184040Z
LAST-MODIFIED:20230725T190508Z
UID:10000015-1689789600-1689798600@www.madriverglen.com
SUMMARY:Summer Live Music Series
DESCRIPTION:Stark’s Pub offers an unparalleled family dining atmosphere you can’t find anywhere else in the Mad River Valley. The Pub is open during the summer months from Memorial Day through Indigenous Peoples’ Day. Dinner is served on Wednesday\, Thursday\, Friday and Saturday nights from 4:30 to 8:30 PM with brunch offered on Sundays from 10:00 AM until 2:00 PM. Thanks to our friends at Lawson’s Finest Liquids for supporting local artists & good vibes year-round in Stark’s Pub. \n\n  \n7/12 Medicine Tribe Trio \n7/19 Evan Jennison \n7/26 Polvo de Oro \n8/2 TBD \n8/9 Brission Boss and Pelletier \n8/16 Ragged Company \n8/23 Atom and the Orbits \n8/30 Danielle Keegan and friends \n9/6 Jaded Ravins \n9/13 Alex Budney and Friends \n9/20 Easy Street Duo \n9/27 She Was Right \n10/4 TBD
URL:https://www.madriverglen.com/calendar/live-music-in-starks-pub-5/
LOCATION:Stark’s Pub\, 57 Schuss Pass Rd\, Waitsfield\, VT\, 05673\, United States
ATTACH;FMTTYPE=image/png:https://www.madriverglen.com/wp-content/uploads/2023/07/Screenshot-2023-07-19-at-2.40.09-PM.png
END:VEVENT
BEGIN:VEVENT
DTSTART;TZID=America/New_York:20230716T113000
DTEND;TZID=America/New_York:20230716T140000
DTSTAMP:20260423T013623
CREATED:20230712T135640Z
LAST-MODIFIED:20231004T184015Z
UID:10000028-1689507000-1689516000@www.madriverglen.com
SUMMARY:Sunday Brunch & Live Music
DESCRIPTION:This summer we’ll be hosting live music every other Sunday during brunch service. This selection of local artists features toned-down tunes to help you keep those Sunday scaries at bay. Thanks to Lawson’s Finest Liquids for supporting local artists & good vibes by sponsoring year-round music in Stark’s Pub.\n\n7/16 Ragged Trio\n\n7/30 Alex Budney and Friends\n\n8/13 Dave O\n\n8/27 Evan Jennison\n\n9/10 Music by Cooper\n\n9/24 Rob Pierce and Friends\n\n10/8 Ragged Trio
URL:https://www.madriverglen.com/calendar/sunday-brunch/2023-07-16/
LOCATION:Stark’s Pub\, 57 Schuss Pass Rd\, Waitsfield\, VT\, 05673\, United States
ATTACH;FMTTYPE=image/jpeg:https://www.madriverglen.com/wp-content/uploads/2021/06/0I9A0042-scaled.jpg
END:VEVENT
BEGIN:VEVENT
DTSTART;TZID=America/New_York:20230712T180000
DTEND;TZID=America/New_York:20230712T203000
DTSTAMP:20260423T013623
CREATED:20230710T172005Z
LAST-MODIFIED:20231002T170049Z
UID:10000014-1689184800-1689193800@www.madriverglen.com
SUMMARY:Summer Live Music Series
DESCRIPTION:Stark’s Pub offers an unparalleled family dining atmosphere you can’t find anywhere else in the Mad River Valley. The Pub is open during the summer months from Memorial Day through Indigenous Peoples’ Day. Dinner is served on Wednesday\, Thursday\, Friday and Saturday nights from 4:30 to 8:30 PM with brunch offered on Sundays from 10:00 AM until 2:00 PM. Thanks to our friends at Lawson’s Finest Liquids for supporting local artists & good vibes year-round in Stark’s Pub. \n\n  \n7/12 Medicine Tribe Trio \n7/19 Evan Jennison \n7/26 Running In Circles \n8/2 Phineas Gage \n8/9 Brission Boss and Pelletier \n8/16 Ragged Company \n8/23 Atom and the Orbits \n8/30 Danielle Keegan and friends \n9/6 Jaded Ravins \n9/13 Alex Budney and Friends \n9/20 Easy Street Duo \n9/27 She Was Right \n10/4 Brett Hughes & the Paradise Posse
URL:https://www.madriverglen.com/calendar/live-music-in-starks-pub/2023-07-12/
LOCATION:Stark’s Pub\, 57 Schuss Pass Rd\, Waitsfield\, VT\, 05673\, United States
ATTACH;FMTTYPE=image/png:https://www.madriverglen.com/wp-content/uploads/2023/07/Screenshot-2023-10-02-at-8.03.32-AM.png
END:VEVENT
END:VCALENDAR