BEGIN:VCALENDAR
VERSION:2.0
PRODID:-//Mad River Glen, Vermont - ECPv6.15.17//NONSGML v1.0//EN
CALSCALE:GREGORIAN
METHOD:PUBLISH
X-WR-CALNAME:Mad River Glen, Vermont
X-ORIGINAL-URL:https://www.madriverglen.com
X-WR-CALDESC:Events for Mad River Glen, Vermont
REFRESH-INTERVAL;VALUE=DURATION:PT1H
X-Robots-Tag:noindex
X-PUBLISHED-TTL:PT1H
BEGIN:VTIMEZONE
TZID:America/New_York
BEGIN:DAYLIGHT
TZOFFSETFROM:-0500
TZOFFSETTO:-0400
TZNAME:EDT
DTSTART:20230312T070000
END:DAYLIGHT
BEGIN:STANDARD
TZOFFSETFROM:-0400
TZOFFSETTO:-0500
TZNAME:EST
DTSTART:20231105T060000
END:STANDARD
BEGIN:DAYLIGHT
TZOFFSETFROM:-0500
TZOFFSETTO:-0400
TZNAME:EDT
DTSTART:20240310T070000
END:DAYLIGHT
BEGIN:STANDARD
TZOFFSETFROM:-0400
TZOFFSETTO:-0500
TZNAME:EST
DTSTART:20241103T060000
END:STANDARD
BEGIN:DAYLIGHT
TZOFFSETFROM:-0500
TZOFFSETTO:-0400
TZNAME:EDT
DTSTART:20250309T070000
END:DAYLIGHT
BEGIN:STANDARD
TZOFFSETFROM:-0400
TZOFFSETTO:-0500
TZNAME:EST
DTSTART:20251102T060000
END:STANDARD
END:VTIMEZONE
BEGIN:VEVENT
DTSTART;TZID=America/New_York:20240905T173000
DTEND;TZID=America/New_York:20240905T200000
DTSTAMP:20260424T020355
CREATED:20240828T142045Z
LAST-MODIFIED:20240828T142045Z
UID:10000470-1725557400-1725566400@www.madriverglen.com
SUMMARY:Stark's Pub Live Summer Music
DESCRIPTION:Stark’s Pub offers an unparalleled family dining atmosphere you can’t find anywhere else in the Mad River Valley. The Pub is open during the off-season from Memorial Day weekend through Green & Gold weekend. Dinner is served Wednesday through Saturday from 4:30 to 8:30 PM with brunch offered on Sundays from 10:00 AM until 2:00 PM. Thanks to our friends at Lawson’s Finest Liquids for supporting local artists & good vibes year-round in Stark’s Pub. \n\nSUMMER MUSIC SCHEDULE: \n05/26 Evan Jennison & Friends \n06/02 Madigan Linnane \n06/05 Brett Hughes \n06/12 Fun Dip \n06/16 Jim Goodwin \n06/19 John Lackard Blues \n06/26 Brett Hughes \n06/28 Seth Yacovone Band \n06/30 Music by Cooper \n07/13 Nicholas Cassarino and Friends \n07/14 Rob Pierce \n07/17 Brett Hughes with Pappy \n07/24 Ragged Company \n07/31 Lowell Thompson & Brett Hughes \n08/03 Madigan Lianne – canceled \n08/07 Al’s Pals \n08/11 Lowell Thompson \n08/15 Honeywell \n08/21 The Horse Traders \n08/24 Bad Management \n08/28 Sugar Shack \n09/05 Al’s Pals \n09/07 Madigan Lianne \n09/08 Rob Pierce \n09/11 Lowell Thompson \n09/18 Fun Dip \n09/22 Lowell Thompson \n09/27 Nicholas Cassarino and Friends \n09/28 Evan Jennison & Friends \n10/02 Easy Street Duo \n10/06 Morning Dudes \n10/09 Medicine Tribe Trio
URL:https://www.madriverglen.com/calendar/starks-pub-live-summer-music-14/
ATTACH;FMTTYPE=image/jpeg:https://www.madriverglen.com/wp-content/uploads/2024/06/ALSPALS-e1735498723586.jpg
END:VEVENT
BEGIN:VEVENT
DTSTART;TZID=America/New_York:20240907T173000
DTEND;TZID=America/New_York:20240907T200000
DTSTAMP:20260424T020355
CREATED:20240828T142149Z
LAST-MODIFIED:20240828T142149Z
UID:10000471-1725730200-1725739200@www.madriverglen.com
SUMMARY:Stark's Pub Live Summer Music
DESCRIPTION:Stark’s Pub offers an unparalleled family dining atmosphere you can’t find anywhere else in the Mad River Valley. The Pub is open during the off-season from Memorial Day weekend through Green & Gold weekend. Dinner is served Wednesday through Saturday from 4:30 to 8:30 PM with brunch offered on Sundays from 10:00 AM until 2:00 PM. Thanks to our friends at Lawson’s Finest Liquids for supporting local artists & good vibes year-round in Stark’s Pub. \n\nSUMMER MUSIC SCHEDULE: \n05/26 Evan Jennison & Friends \n06/02 Madigan Linnane \n06/05 Brett Hughes \n06/12 Fun Dip \n06/16 Jim Goodwin \n06/19 John Lackard Blues \n06/26 Brett Hughes \n06/28 Seth Yacovone Band \n06/30 Music by Cooper \n07/13 Nicholas Cassarino and Friends \n07/14 Rob Pierce \n07/17 Brett Hughes with Pappy \n07/24 Ragged Company \n07/31 Lowell Thompson & Brett Hughes \n08/03 Madigan Lianne – canceled \n08/07 Al’s Pals \n08/11 Lowell Thompson \n08/15 Honeywell \n08/21 The Horse Traders \n08/24 Bad Management \n08/28 Sugar Shack \n09/05 Al’s Pals \n09/07 Madigan Lianne \n09/08 Rob Pierce \n09/11 Lowell Thompson \n09/18 Fun Dip \n09/22 Lowell Thompson \n09/27 Nicholas Cassarino and Friends \n09/28 Evan Jennison & Friends \n10/02 Easy Street Duo \n10/06 Morning Dudes \n10/09 Medicine Tribe Trio
URL:https://www.madriverglen.com/calendar/starks-pub-live-summer-music-20/
ATTACH;FMTTYPE=image/png:https://www.madriverglen.com/wp-content/uploads/2024/05/Screenshot-2024-05-29-at-9.01.46 AM.png
END:VEVENT
BEGIN:VEVENT
DTSTART;TZID=America/New_York:20240908T113000
DTEND;TZID=America/New_York:20240908T140000
DTSTAMP:20260424T020355
CREATED:20240828T142308Z
LAST-MODIFIED:20240828T142308Z
UID:10000472-1725795000-1725804000@www.madriverglen.com
SUMMARY:Stark's Pub Live Summer Music
DESCRIPTION:Stark’s Pub offers an unparalleled family dining atmosphere you can’t find anywhere else in the Mad River Valley. The Pub is open during the off-season from Memorial Day weekend through Green & Gold weekend. Dinner is served Wednesday through Saturday from 4:30 to 8:30 PM with brunch offered on Sundays from 10:00 AM until 2:00 PM. Thanks to our friends at Lawson’s Finest Liquids for supporting local artists & good vibes year-round in Stark’s Pub. \n\nSUMMER MUSIC SCHEDULE: \n05/26 Evan Jennison & Friends \n06/02 Madigan Linnane \n06/05 Brett Hughes \n06/12 Fun Dip \n06/16 Jim Goodwin \n06/19 John Lackard Blues \n06/26 Brett Hughes \n06/28 Seth Yacovone Band \n06/30 Music by Cooper \n07/13 Nicholas Cassarino and Friends \n07/14 Rob Pierce \n07/17 Brett Hughes with Pappy \n07/24 Ragged Company \n07/31 Lowell Thompson & Brett Hughes \n08/03 Madigan Lianne – canceled \n08/07 Al’s Pals \n08/11 Lowell Thompson \n08/15 Honeywell \n08/21 The Horse Traders \n08/24 Bad Management \n08/28 Sugar Shack \n09/05 Al’s Pals \n09/07 Madigan Lianne \n09/08 Rob Pierce \n09/11 Lowell Thompson \n09/18 Fun Dip \n09/22 Lowell Thompson \n09/27 Nicholas Cassarino and Friends \n09/28 Evan Jennison & Friends \n10/02 Easy Street Duo \n10/06 Morning Dudes \n10/09 Medicine Tribe Trio
URL:https://www.madriverglen.com/calendar/starks-pub-live-summer-music-21/
ATTACH;FMTTYPE=image/jpeg:https://www.madriverglen.com/wp-content/uploads/2024/06/ROB-PIERCE-e1734547519776.jpg
END:VEVENT
END:VCALENDAR