BEGIN:VCALENDAR
VERSION:2.0
PRODID:-//Mad River Glen, Vermont - ECPv6.15.17//NONSGML v1.0//EN
CALSCALE:GREGORIAN
METHOD:PUBLISH
X-WR-CALNAME:Mad River Glen, Vermont
X-ORIGINAL-URL:https://www.madriverglen.com
X-WR-CALDESC:Events for Mad River Glen, Vermont
REFRESH-INTERVAL;VALUE=DURATION:PT1H
X-Robots-Tag:noindex
X-PUBLISHED-TTL:PT1H
BEGIN:VTIMEZONE
TZID:America/New_York
BEGIN:DAYLIGHT
TZOFFSETFROM:-0500
TZOFFSETTO:-0400
TZNAME:EDT
DTSTART:20230312T070000
END:DAYLIGHT
BEGIN:STANDARD
TZOFFSETFROM:-0400
TZOFFSETTO:-0500
TZNAME:EST
DTSTART:20231105T060000
END:STANDARD
BEGIN:DAYLIGHT
TZOFFSETFROM:-0500
TZOFFSETTO:-0400
TZNAME:EDT
DTSTART:20240310T070000
END:DAYLIGHT
BEGIN:STANDARD
TZOFFSETFROM:-0400
TZOFFSETTO:-0500
TZNAME:EST
DTSTART:20241103T060000
END:STANDARD
BEGIN:DAYLIGHT
TZOFFSETFROM:-0500
TZOFFSETTO:-0400
TZNAME:EDT
DTSTART:20250309T070000
END:DAYLIGHT
BEGIN:STANDARD
TZOFFSETFROM:-0400
TZOFFSETTO:-0500
TZNAME:EST
DTSTART:20251102T060000
END:STANDARD
END:VTIMEZONE
BEGIN:VEVENT
DTSTART;TZID=America/New_York:20240909T070000
DTEND;TZID=America/New_York:20240920T150000
DTSTAMP:20260424T114330
CREATED:20230712T140801Z
LAST-MODIFIED:20240415T183124Z
UID:10000062-1725865200-1726844400@www.madriverglen.com
SUMMARY:Mow Crew
DESCRIPTION:Mow Some Grass\, Earn Your Pass\nMow some grass\, earn your pass! Mow crew is the best way to get an intimate look at all of the nooks and crannies of Stark Mountain\, burn some calories and make new ski buddies. At the end of the 10 days of work you’ll have earned some cash for your pocket and a full season’s pass for the upcoming winter. \nA little run down on how we mow our trails…  We use hand scythes to cut the grass\, ferns and shrubs on the steepest slopes here at Mad River Glen. Most of the beginner and intermediate terrain is mowed with a tractor\, mow crew steps in to finish off the areas the tractor can’t go. We mow and move in a line shoulder-to-shoulder hiking up the trails as we go. It can be tough work but the camaraderie makes it so much fun! Truly\, it is rewarding and at the end of the 10 days\, you’ll have a full season ski pass and some cash in your pocket. Not only that but you will likely have learned something about the terrain you didn’t already know and you’ll have gained a couple of new ski buddies. \nThe day begins at 7:00 am and we mow until about 3:00 pm with many short breaks in between. A backpack with a hydration pack is highly recommended and you should also pack yourself enough food to get you through the day. There will be water stations along the route to refill your containers and likely a ride down on the chairlift at the end of the day to ease the knees. Most people wear pants and long sleeves to fend off bugs and protect them from the sun but a few hardy folks go shorts and tees\, everyone wears hiking boots – no exceptions. We will provide the scythe\, a pair of work gloves\, a sharpening stone/tools and water. \nIf you’re interested in joining the mow crew this fall please send an email to ry@madriverglen.com.
URL:https://www.madriverglen.com/calendar/join-our-mow-crew/
ATTACH;FMTTYPE=image/jpeg:https://www.madriverglen.com/wp-content/uploads/2023/07/9194339D-B7B5-4DB6-A8CB-7174621E0C47_1_105_c.jpeg
END:VEVENT
BEGIN:VEVENT
DTSTART;TZID=America/New_York:20240911T173000
DTEND;TZID=America/New_York:20240911T200000
DTSTAMP:20260424T114330
CREATED:20240828T142448Z
LAST-MODIFIED:20240828T142448Z
UID:10000473-1726075800-1726084800@www.madriverglen.com
SUMMARY:Stark's Pub Live Summer Music
DESCRIPTION:Stark’s Pub offers an unparalleled family dining atmosphere you can’t find anywhere else in the Mad River Valley. The Pub is open during the off-season from Memorial Day weekend through Green & Gold weekend. Dinner is served Wednesday through Saturday from 4:30 to 8:30 PM with brunch offered on Sundays from 10:00 AM until 2:00 PM. Thanks to our friends at Lawson’s Finest Liquids for supporting local artists & good vibes year-round in Stark’s Pub. \n\nSUMMER MUSIC SCHEDULE: \n05/26 Evan Jennison & Friends \n06/02 Madigan Linnane \n06/05 Brett Hughes \n06/12 Fun Dip \n06/16 Jim Goodwin \n06/19 John Lackard Blues \n06/26 Brett Hughes \n06/28 Seth Yacovone Band \n06/30 Music by Cooper \n07/13 Nicholas Cassarino and Friends \n07/14 Rob Pierce \n07/17 Brett Hughes with Pappy \n07/24 Ragged Company \n07/31 Lowell Thompson & Brett Hughes \n08/03 Madigan Lianne – canceled \n08/07 Al’s Pals \n08/11 Lowell Thompson \n08/15 Honeywell \n08/21 The Horse Traders \n08/24 Bad Management \n08/28 Sugar Shack \n09/05 Al’s Pals \n09/07 Madigan Lianne \n09/08 Rob Pierce \n09/11 Lowell Thompson \n09/18 Fun Dip \n09/22 Lowell Thompson \n09/27 Nicholas Cassarino and Friends \n09/28 Evan Jennison & Friends \n10/02 Easy Street Duo \n10/06 Morning Dudes \n10/09 Medicine Tribe Trio
URL:https://www.madriverglen.com/calendar/starks-pub-live-summer-music-22/
ATTACH;FMTTYPE=image/png:https://www.madriverglen.com/wp-content/uploads/2024/06/Screenshot-2024-06-17-at-11.04.05 AM.png
END:VEVENT
BEGIN:VEVENT
DTSTART;TZID=America/New_York:20240914T120000
DTEND;TZID=America/New_York:20240914T160000
DTSTAMP:20260424T114330
CREATED:20230712T141626Z
LAST-MODIFIED:20241218T185920Z
UID:10000227-1726315200-1726329600@www.madriverglen.com
SUMMARY:Siptemberfest
DESCRIPTION:STARK’S PUB WILL BE CLOSED ON SATURDAY\, SEPTEMBER 14TH FOR SIPTEMBERFEST. THE PUB WILL RE-OPEN ON SUNDAY\, SEPTEMBER 15TH FOR BRUNCH BETWEEN 10am – 2pm. \nBack in 2008\, three folks who really like beer\, really like festivals and really like Mad River Glen\, decided we wanted to bring the fun of a beer fest back to the Valley and that the only way it was going to happen was if we pulled up our bootstraps and did it ourselves! \nAlthough Siptemberfest has grown over the years it is still the greatest little beer festival in the state of Vermont. There are still only around 24 brewers and roughly 800 tickets for sale\, making it the Best Little Beer Fest in Vermont. For more information check out the official SIPtemberfest website.
URL:https://www.madriverglen.com/calendar/siptemberfest/2024-09-14/
ATTACH;FMTTYPE=image/jpeg:https://www.madriverglen.com/wp-content/uploads/2023/07/0I9A3995-scaled-e1734548353906.jpg
ORGANIZER;CN="Meg's Events":MAILTO:therealmegsevents@gmail.com
END:VEVENT
END:VCALENDAR