BEGIN:VCALENDAR
VERSION:2.0
PRODID:-//Mad River Glen, Vermont - ECPv6.15.17//NONSGML v1.0//EN
CALSCALE:GREGORIAN
METHOD:PUBLISH
X-ORIGINAL-URL:https://www.madriverglen.com
X-WR-CALDESC:Events for Mad River Glen, Vermont
REFRESH-INTERVAL;VALUE=DURATION:PT1H
X-Robots-Tag:noindex
X-PUBLISHED-TTL:PT1H
BEGIN:VTIMEZONE
TZID:America/New_York
BEGIN:DAYLIGHT
TZOFFSETFROM:-0500
TZOFFSETTO:-0400
TZNAME:EDT
DTSTART:20230312T070000
END:DAYLIGHT
BEGIN:STANDARD
TZOFFSETFROM:-0400
TZOFFSETTO:-0500
TZNAME:EST
DTSTART:20231105T060000
END:STANDARD
BEGIN:DAYLIGHT
TZOFFSETFROM:-0500
TZOFFSETTO:-0400
TZNAME:EDT
DTSTART:20240310T070000
END:DAYLIGHT
BEGIN:STANDARD
TZOFFSETFROM:-0400
TZOFFSETTO:-0500
TZNAME:EST
DTSTART:20241103T060000
END:STANDARD
BEGIN:DAYLIGHT
TZOFFSETFROM:-0500
TZOFFSETTO:-0400
TZNAME:EDT
DTSTART:20250309T070000
END:DAYLIGHT
BEGIN:STANDARD
TZOFFSETFROM:-0400
TZOFFSETTO:-0500
TZNAME:EST
DTSTART:20251102T060000
END:STANDARD
END:VTIMEZONE
BEGIN:VEVENT
DTSTART;TZID=America/New_York:20240909T070000
DTEND;TZID=America/New_York:20240920T150000
DTSTAMP:20260424T020739
CREATED:20230712T140801Z
LAST-MODIFIED:20240415T183124Z
UID:10000062-1725865200-1726844400@www.madriverglen.com
SUMMARY:Mow Crew
DESCRIPTION:Mow Some Grass\, Earn Your Pass\nMow some grass\, earn your pass! Mow crew is the best way to get an intimate look at all of the nooks and crannies of Stark Mountain\, burn some calories and make new ski buddies. At the end of the 10 days of work you’ll have earned some cash for your pocket and a full season’s pass for the upcoming winter. \nA little run down on how we mow our trails…  We use hand scythes to cut the grass\, ferns and shrubs on the steepest slopes here at Mad River Glen. Most of the beginner and intermediate terrain is mowed with a tractor\, mow crew steps in to finish off the areas the tractor can’t go. We mow and move in a line shoulder-to-shoulder hiking up the trails as we go. It can be tough work but the camaraderie makes it so much fun! Truly\, it is rewarding and at the end of the 10 days\, you’ll have a full season ski pass and some cash in your pocket. Not only that but you will likely have learned something about the terrain you didn’t already know and you’ll have gained a couple of new ski buddies. \nThe day begins at 7:00 am and we mow until about 3:00 pm with many short breaks in between. A backpack with a hydration pack is highly recommended and you should also pack yourself enough food to get you through the day. There will be water stations along the route to refill your containers and likely a ride down on the chairlift at the end of the day to ease the knees. Most people wear pants and long sleeves to fend off bugs and protect them from the sun but a few hardy folks go shorts and tees\, everyone wears hiking boots – no exceptions. We will provide the scythe\, a pair of work gloves\, a sharpening stone/tools and water. \nIf you’re interested in joining the mow crew this fall please send an email to ry@madriverglen.com.
URL:https://www.madriverglen.com/calendar/join-our-mow-crew/
ATTACH;FMTTYPE=image/jpeg:https://www.madriverglen.com/wp-content/uploads/2023/07/9194339D-B7B5-4DB6-A8CB-7174621E0C47_1_105_c.jpeg
END:VEVENT
BEGIN:VEVENT
DTSTART;TZID=America/New_York:20240918T173000
DTEND;TZID=America/New_York:20240918T200000
DTSTAMP:20260424T020739
CREATED:20240828T142539Z
LAST-MODIFIED:20240828T142539Z
UID:10000474-1726680600-1726689600@www.madriverglen.com
SUMMARY:Stark's Pub Live Summer Music
DESCRIPTION:Stark’s Pub offers an unparalleled family dining atmosphere you can’t find anywhere else in the Mad River Valley. The Pub is open during the off-season from Memorial Day weekend through Green & Gold weekend. Dinner is served Wednesday through Saturday from 4:30 to 8:30 PM with brunch offered on Sundays from 10:00 AM until 2:00 PM. Thanks to our friends at Lawson’s Finest Liquids for supporting local artists & good vibes year-round in Stark’s Pub. \n\nSUMMER MUSIC SCHEDULE: \n05/26 Evan Jennison & Friends \n06/02 Madigan Linnane \n06/05 Brett Hughes \n06/12 Fun Dip \n06/16 Jim Goodwin \n06/19 John Lackard Blues \n06/26 Brett Hughes \n06/28 Seth Yacovone Band \n06/30 Music by Cooper \n07/13 Nicholas Cassarino and Friends \n07/14 Rob Pierce \n07/17 Brett Hughes with Pappy \n07/24 Ragged Company \n07/31 Lowell Thompson & Brett Hughes \n08/03 Madigan Lianne – canceled \n08/07 Al’s Pals \n08/11 Lowell Thompson \n08/15 Honeywell \n08/21 The Horse Traders \n08/24 Bad Management \n08/28 Sugar Shack \n09/05 Al’s Pals \n09/07 Madigan Lianne \n09/08 Rob Pierce \n09/11 Lowell Thompson \n09/18 Fun Dip \n09/22 Lowell Thompson \n09/27 Nicholas Cassarino and Friends \n09/28 Evan Jennison & Friends \n10/02 Easy Street Duo \n10/06 Morning Dudes \n10/09 Medicine Tribe Trio
URL:https://www.madriverglen.com/calendar/starks-pub-live-summer-music-23/
ATTACH;FMTTYPE=image/png:https://www.madriverglen.com/wp-content/uploads/2024/05/Screenshot-2024-05-29-at-9.04.53 AM-e1735485656151.png
END:VEVENT
BEGIN:VEVENT
DTSTART;TZID=America/New_York:20240921T080000
DTEND;TZID=America/New_York:20240921T090000
DTSTAMP:20260424T020739
CREATED:20240905T164225Z
LAST-MODIFIED:20241007T132805Z
UID:10000481-1726905600-1726909200@www.madriverglen.com
SUMMARY:Co-op Board of Trustees Meeting
DESCRIPTION:The Co-op’s Board of Trustees meets monthly\, except July and August. All Co-op Shareholders are encouraged to attend Board meetings. Stay abreast of what is happening at America’s only skier-owned mountain by checking out the latest Board Meeting Minutes. If you have a comment\, question or concern for the board you can reach them by emailing coopboard@madriverglen.com \nTopic: MRG Board of Trustees Meeting \nPlease download and import the following iCalendar (.ics) files to your calendar system. \nJoin Zoom Meeting https://us02web.zoom.us/j/89742773994?pwd=SklZemdlRXd3L1VDeGhySFlxQ1VEZz09 \nMeeting ID: 897 4277 3994 \nPasscode: 818016 \nOne tap mobile \n+13017158592\,\,89742773994#\,\,\,\,*818016# US (Washington DC) \n+13126266799\,\,89742773994#\,\,\,\,*818016# US (Chicago) \nDial by your location \n+1 301 715 8592 US (Washington DC) \n+1 312 626 6799 US (Chicago) \n+1 929 205 6099 US (New York) \n+1 253 215 8782 US (Tacoma) \n+1 346 248 7799 US (Houston) \n+1 669 900 6833 US (San Jose) \nMeeting ID: 897 4277 3994 \nPasscode: 818016 \nFind your local number: https://us02web.zoom.us/u/kcEGUfhmt
URL:https://www.madriverglen.com/calendar/co-op-board-of-trustees-meeting-3/
CATEGORIES:Co-Op
ATTACH;FMTTYPE=image/jpeg:https://www.madriverglen.com/wp-content/uploads/2023/07/Shareholder-meeting-JEB-009-scaled-e1734539176487.jpg
END:VEVENT
BEGIN:VEVENT
DTSTART;TZID=America/New_York:20240921T090000
DTEND;TZID=America/New_York:20240921T160000
DTSTAMP:20260424T020739
CREATED:20240624T154202Z
LAST-MODIFIED:20240730T151830Z
UID:10000400-1726909200-1726934400@www.madriverglen.com
SUMMARY:Volunteer Mountain Work Day
DESCRIPTION:Volunteer Mountain Work Days will once again utilize pre-registration and limit the total group size. Space is extremely limited\, don’t wait\, register online! \nEvents will be confirmed by 6:00 pm the day prior via the contact email provided. A wait list will be maintained with open slots filled by 6:00 pm the day prior. \nAny minors that register must be at least 12 years of age\, accompanied by their legal guardian/parent throughout the day\, no dogs or swinging tools (hatchet\, axe\, maul) are allowed. \n  \nGeneral information:  The purpose of Volunteer Mountain Work Days is the maintenance of MRG’s legendary tree skiing and regeneration zones in our mountain forest. This involves cutting lines as well as setting aside areas for new trees to grow. Everything is done with hand tools. Work days are organized and led by Lars Bruns in consultation with ski area management. Volunteer Mountain Work Days are a great chance to get out on the mountain\, care for your favorite terrain\, and learn about how northeastern mountain forests grow. It is hard work\, but also fun and satisfying to see a ski line take shape\, and how trees will grow in response to care. \nWe welcome both experienced veterans and newcomers to the mountain work days. Each person who works a full day receives a complimentary day pass voucher for each day she or he works. \nSummer/Fall 2024 Schedule \n\nAugust 24th\nSeptember 21st\nSeptember 28th\nOctober 26th\n\n  \nLogistics \n  \n\nReport at 9:00 am at the Cricket Club picnic table.  We’re back down at 3:30 – 4:00 pm.\nMost of the time we hike from the base\, so be physically fit and prepared to hike the mountain top to bottom.\nMost days are held rain or shine – Working in the rain is fun!\nBring work gloves\, hiking boots\, drinks & lunch.\nLoppers are the most useful tool to bring. Make sure they are in good working order.\nWork days navigate our gnarly terrain; no dogs or kids under 12 please. Minors under the age of 18 must register and be accompanied by a parent or legal guardian.\n\nThe incidence of Lyme Disease is increasing rapidly in Vermont. This disease is debilitating and hard to get rid of. More Info on how to protect yourself while thrashing around the woods of Stark Mountain. \nThe following tools are not allowed: All power tools such as chain saws\, and swinging tools such as hatchets or axes. \nOutfitting for Rain Events: \n\nOuter layer – The primary function is to hold in heat\, as well as keep water out for as long as possible.\n\nGoretex shell or other rainwear\nWaterproof pant shell – old ski pants work well\nWaterproof gaiters (Goretex)\nWaterproof boots beforehand\nBrimmed synthetic hat and fleece hat\nIf the weather is warm\, then staying warm is not a problem. Fast-drying shorts\, gaiters\, and a rain shell may be sufficient.\n\n\nInner layers – No cotton – must keep one warm when wet.\n\nWool or synthetic shirt and long underwear\nFleece\nWool socks\nThin windbreaker underneath the shell to hold even more heat in\n\n\nOther Tips\n\nPut dry (synthetic) clothing in a garbage bag\nBring a second synthetic inner layer shirt (in the garbage bag) to change into at lunch\nPut first aid kit in a waterproof bag\nA thermos of hot tea or soup. Caffeine constricts capillaries and should be avoided\nBring backup gloves. Cold hands will not warm up in wet gloves
URL:https://www.madriverglen.com/calendar/volunteer-mountain-work-day-5/
ATTACH;FMTTYPE=image/jpeg:https://www.madriverglen.com/wp-content/uploads/2023/08/IMG_8570-e1752518721531.jpg
END:VEVENT
BEGIN:VEVENT
DTSTART;TZID=America/New_York:20240922T113000
DTEND;TZID=America/New_York:20240922T140000
DTSTAMP:20260424T020739
CREATED:20240828T142934Z
LAST-MODIFIED:20240828T142934Z
UID:10000476-1727004600-1727013600@www.madriverglen.com
SUMMARY:Stark's Pub Live Summer Music
DESCRIPTION:Stark’s Pub offers an unparalleled family dining atmosphere you can’t find anywhere else in the Mad River Valley. The Pub is open during the off-season from Memorial Day weekend through Green & Gold weekend. Dinner is served Wednesday through Saturday from 4:30 to 8:30 PM with brunch offered on Sundays from 10:00 AM until 2:00 PM. Thanks to our friends at Lawson’s Finest Liquids for supporting local artists & good vibes year-round in Stark’s Pub. \n\nSUMMER MUSIC SCHEDULE: \n05/26 Evan Jennison & Friends \n06/02 Madigan Linnane \n06/05 Brett Hughes \n06/12 Fun Dip \n06/16 Jim Goodwin \n06/19 John Lackard Blues \n06/26 Brett Hughes \n06/28 Seth Yacovone Band \n06/30 Music by Cooper \n07/13 Nicholas Cassarino and Friends \n07/14 Rob Pierce \n07/17 Brett Hughes with Pappy \n07/24 Ragged Company \n07/31 Lowell Thompson & Brett Hughes \n08/03 Madigan Lianne – canceled \n08/07 Al’s Pals \n08/11 Lowell Thompson \n08/15 Honeywell \n08/21 The Horse Traders \n08/24 Bad Management \n08/28 Sugar Shack \n09/05 Al’s Pals \n09/07 Madigan Lianne \n09/08 Rob Pierce \n09/11 Lowell Thompson \n09/18 Fun Dip \n09/22 Lowell Thompson \n09/27 Nicholas Cassarino and Friends \n09/28 Evan Jennison & Friends \n10/02 Easy Street Duo \n10/06 Morning Dudes \n10/09 Medicine Tribe Trio
URL:https://www.madriverglen.com/calendar/starks-pub-live-summer-music-25/
ATTACH;FMTTYPE=image/jpeg:https://www.madriverglen.com/wp-content/uploads/2024/06/LT-scaled.jpg
END:VEVENT
END:VCALENDAR