BEGIN:VCALENDAR
VERSION:2.0
PRODID:-//Mad River Glen, Vermont - ECPv6.15.17//NONSGML v1.0//EN
CALSCALE:GREGORIAN
METHOD:PUBLISH
X-ORIGINAL-URL:https://www.madriverglen.com
X-WR-CALDESC:Events for Mad River Glen, Vermont
REFRESH-INTERVAL;VALUE=DURATION:PT1H
X-Robots-Tag:noindex
X-PUBLISHED-TTL:PT1H
BEGIN:VTIMEZONE
TZID:America/New_York
BEGIN:DAYLIGHT
TZOFFSETFROM:-0500
TZOFFSETTO:-0400
TZNAME:EDT
DTSTART:20230312T070000
END:DAYLIGHT
BEGIN:STANDARD
TZOFFSETFROM:-0400
TZOFFSETTO:-0500
TZNAME:EST
DTSTART:20231105T060000
END:STANDARD
BEGIN:DAYLIGHT
TZOFFSETFROM:-0500
TZOFFSETTO:-0400
TZNAME:EDT
DTSTART:20240310T070000
END:DAYLIGHT
BEGIN:STANDARD
TZOFFSETFROM:-0400
TZOFFSETTO:-0500
TZNAME:EST
DTSTART:20241103T060000
END:STANDARD
BEGIN:DAYLIGHT
TZOFFSETFROM:-0500
TZOFFSETTO:-0400
TZNAME:EDT
DTSTART:20250309T070000
END:DAYLIGHT
BEGIN:STANDARD
TZOFFSETFROM:-0400
TZOFFSETTO:-0500
TZNAME:EST
DTSTART:20251102T060000
END:STANDARD
END:VTIMEZONE
BEGIN:VEVENT
DTSTART;VALUE=DATE:20240930
DTEND;VALUE=DATE:20241001
DTSTAMP:20260424T002936
CREATED:20230717T182044Z
LAST-MODIFIED:20250331T143800Z
UID:10000125-1727654400-1727740799@www.madriverglen.com
SUMMARY:Fall Sales Deadline Day
DESCRIPTION:Today is the deadline for the best deals on Season Passes\, Stark Mountain Cards and Kids’ Seasonal Programs. \n  \nSeptember 30th also marks the fiscal year for the Co-op\, APR is due and Mad Money from the previous season expires. \n  \n*Please note that Stark Mountain Cards are NOT available to purchase following the September 30th deadline.
URL:https://www.madriverglen.com/calendar/fall-sales-deadline-day/2024-09-30/
CATEGORIES:Co-Op
ATTACH;FMTTYPE=image/jpeg:https://www.madriverglen.com/wp-content/uploads/2023/07/I9A1093-scaled-e1743431871154.jpg
END:VEVENT
BEGIN:VEVENT
DTSTART;TZID=America/New_York:20241002T173000
DTEND;TZID=America/New_York:20241002T200000
DTSTAMP:20260424T002936
CREATED:20240828T143102Z
LAST-MODIFIED:20240828T143102Z
UID:10000477-1727890200-1727899200@www.madriverglen.com
SUMMARY:Stark's Pub Live Summer Music
DESCRIPTION:Stark’s Pub offers an unparalleled family dining atmosphere you can’t find anywhere else in the Mad River Valley. The Pub is open during the off-season from Memorial Day weekend through Green & Gold weekend. Dinner is served Wednesday through Saturday from 4:30 to 8:30 PM with brunch offered on Sundays from 10:00 AM until 2:00 PM. Thanks to our friends at Lawson’s Finest Liquids for supporting local artists & good vibes year-round in Stark’s Pub. \n\nSUMMER MUSIC SCHEDULE: \n05/26 Evan Jennison & Friends \n06/02 Madigan Linnane \n06/05 Brett Hughes \n06/12 Fun Dip \n06/16 Jim Goodwin \n06/19 John Lackard Blues \n06/26 Brett Hughes \n06/28 Seth Yacovone Band \n06/30 Music by Cooper \n07/13 Nicholas Cassarino and Friends \n07/14 Rob Pierce \n07/17 Brett Hughes with Pappy \n07/24 Ragged Company \n07/31 Lowell Thompson & Brett Hughes \n08/03 Madigan Lianne – canceled \n08/07 Al’s Pals \n08/11 Lowell Thompson \n08/15 Honeywell \n08/21 The Horse Traders \n08/24 Bad Management \n08/28 Sugar Shack \n09/05 Al’s Pals \n09/07 Madigan Lianne \n09/08 Rob Pierce \n09/11 Lowell Thompson \n09/18 Fun Dip \n09/22 Lowell Thompson \n09/27 Nicholas Cassarino and Friends \n09/28 Evan Jennison & Friends \n10/02 Easy Street Duo \n10/06 Morning Dudes \n10/09 Medicine Tribe Trio
URL:https://www.madriverglen.com/calendar/starks-pub-live-summer-music-26/
ATTACH;FMTTYPE=image/png:https://www.madriverglen.com/wp-content/uploads/2023/07/Screenshot-2023-07-19-at-2.32.51-PM.png
END:VEVENT
BEGIN:VEVENT
DTSTART;TZID=America/New_York:20241005T093000
DTEND;TZID=America/New_York:20241005T203000
DTSTAMP:20260424T002936
CREATED:20240509T123233Z
LAST-MODIFIED:20241005T175307Z
UID:10000334-1728120600-1728160200@www.madriverglen.com
SUMMARY:Green & Gold Weekend
DESCRIPTION:Foliage lift rides are available on America’s favorite Single Chair both Saturday and Sunday\, first chair up is at 10 AM and the last chair is loaded at 2:30 PM. Foliage lift ride tickets are good for a round trip from base to summit and back down again\, the cost is $20 for adults and $15 for juniors and seniors (free for season pass holders). Foliage lift ride tickets can be purchased in person at the ticket window. Stark’s Pub\, the General Store and Ticket Booth will all be open\, please see our operational hours listed below. \nStark’s Pub: Lunch & Dinner 11:00 AM – 8:30 PM (Dinner service begins at 4:30) \nMad Shack: 10:00 AM – 1:00 PM \nLift Operations: 10:00 AM – 2:30 PM \nGeneral Store: 9:30 AM – 4:00 PM \nTicket Office: 9:30 AM – 3:00 PM \nSaturday events: \nStark Mountain Foundation Presents: Geologic History of Stark Mountain 1:00 PM – 1:45 PM (3rd floor) Register HERE! \nMRG Homeowner’s Meeting 2:30 PM – 4:00 PM (3rd floor) \nCo-op Shareholder’s Town Meeting 5:00 – 6:00 PM (3rd floor and via Zoom)
URL:https://www.madriverglen.com/calendar/green-gold-weekend-3/
CATEGORIES:Co-Op
ATTACH;FMTTYPE=image/jpeg:https://www.madriverglen.com/wp-content/uploads/2023/07/1E7A1462-scaled-e1740597405145.jpg
END:VEVENT
BEGIN:VEVENT
DTSTART;TZID=America/New_York:20241005T140000
DTEND;TZID=America/New_York:20241005T163000
DTSTAMP:20260424T002936
CREATED:20240827T150255Z
LAST-MODIFIED:20240827T150512Z
UID:10000468-1728136800-1728145800@www.madriverglen.com
SUMMARY:Family-Friendly Nature Hikes with the Stark Mountain Foundation
DESCRIPTION:Discover the Wonders of Nature with Family-Friendly Nature Hikes at Mad River Glen \nWaitsfield\, VT– This summer and early fall\, Stark Mountain Foundation and Mad River Glen invite you to embark on three\, family-friendly\, nature hikes. Guided by naturalist Amanda Palumbo\, these hikes offer a special chance to discover the beauty of our local environment and delve into the captivating world of plant life around us. Tailored for families with children ages 5 and up\, these hikes are designed to be accessible and enjoyable for nature lovers of all ages. \nDon’t miss out on this fantastic opportunity to connect with nature on Stark Mountain! Please visit our website for more detailed information about hiking on Stark Mountain. starkmountain.org \nHike Details: \n\nDates: August 31st\, October 5th\, and October 12th\, 2:00-4:30pm\nLocation: Stark Mountain Trail to Kent Thomas Nature Center (Meet at the flagpole in front of the Mad River Glen Basebox).\nDuration:5 hours\, depending on the group.\nAges: 5 years and up (Accompanied by an adult).\nCost: Free\, but you must pre-register.\nWhat to Pack: Hat\, sunglasses\, water\, snacks\, sunscreen\, bug spray\, raincoat\, and sturdy shoes.\nPre-registration Required: The hike will be limited to the first people to register. Please click on the link to register. ly/NatureHikes
URL:https://www.madriverglen.com/calendar/family-friendly-nature-hikes-with-the-stark-mountain-foundation/2024-10-05/
ATTACH;FMTTYPE=image/jpeg:https://www.madriverglen.com/wp-content/uploads/2024/07/SMF_BANNER-steward-educate-play-scaled.jpg
END:VEVENT
BEGIN:VEVENT
DTSTART;VALUE=DATE:20241006
DTEND;VALUE=DATE:20241007
DTSTAMP:20260424T002936
CREATED:20240509T123340Z
LAST-MODIFIED:20241009T153043Z
UID:10000335-1728172800-1728259199@www.madriverglen.com
SUMMARY:Green & Gold Weekend
DESCRIPTION:Foliage lift rides are available on America’s favorite Single Chair both Saturday and Sunday\, first chair up is at 10 AM and the last chair is loaded at 2:30 PM. Foliage lift ride tickets are good for a round trip from base to summit and back down again\, the cost is $20 for adults and $15 for juniors and seniors (free for season pass holders). Foliage lift ride tickets can be purchased in person at the ticket window. Stark’s Pub\, the General Store and Ticket Booth will all be open\, please see our operational hours listed below. \nStark’s Pub: Lunch & Chicken BBQ 11:00 AM  – 6:00 PM \nLive Music: 2:30 – 5:00 PM \nMad Shack: Closed \nLift Operations: 10:00 AM – 2:30 PM \nGeneral Store: 9:30 AM – 4:00 PM \nTicket Office: 9:30 AM – 3:00 PM \nSunday events: \nAllen Clark Memorial Hill Climb at 9:00 AM – 11:30 AM
URL:https://www.madriverglen.com/calendar/green-gold-weekend-4/
ATTACH;FMTTYPE=image/jpeg:https://www.madriverglen.com/wp-content/uploads/2023/07/0I9A7353-scaled-e1740597461789.jpg
END:VEVENT
BEGIN:VEVENT
DTSTART;TZID=America/New_York:20241006T143000
DTEND;TZID=America/New_York:20241006T170000
DTSTAMP:20260424T002936
CREATED:20240828T143131Z
LAST-MODIFIED:20241002T173511Z
UID:10000478-1728225000-1728234000@www.madriverglen.com
SUMMARY:Stark's Pub Live Summer Music
DESCRIPTION:Stark’s Pub offers an unparalleled family dining atmosphere you can’t find anywhere else in the Mad River Valley. The Pub is open during the off-season from Memorial Day weekend through Green & Gold weekend. Dinner is served Wednesday through Saturday from 4:30 to 8:30 PM with brunch offered on Sundays from 10:00 AM until 2:00 PM. Thanks to our friends at Lawson’s Finest Liquids for supporting local artists & good vibes year-round in Stark’s Pub. \n\nSUMMER MUSIC SCHEDULE: \n05/26 Evan Jennison & Friends \n06/02 Madigan Linnane \n06/05 Brett Hughes \n06/12 Fun Dip \n06/16 Jim Goodwin \n06/19 John Lackard Blues \n06/26 Brett Hughes \n06/28 Seth Yacovone Band \n06/30 Music by Cooper \n07/13 Nicholas Cassarino and Friends \n07/14 Rob Pierce \n07/17 Brett Hughes with Pappy \n07/24 Ragged Company \n07/31 Lowell Thompson & Brett Hughes \n08/03 Madigan Lianne – canceled \n08/07 Al’s Pals \n08/11 Lowell Thompson \n08/15 Honeywell \n08/21 The Horse Traders \n08/24 Bad Management \n08/28 Sugar Shack \n09/05 Al’s Pals \n09/07 Madigan Lianne \n09/08 Rob Pierce \n09/11 Lowell Thompson \n09/18 Fun Dip \n09/22 Lowell Thompson \n09/27 Nicholas Cassarino and Friends \n09/28 Evan Jennison & Friends \n10/02 Easy Street Duo \n10/06 Morning Dudes \n10/09 Medicine Tribe Trio \n10/13 Running In Circles
URL:https://www.madriverglen.com/calendar/starks-pub-live-summer-music-27/
ATTACH;FMTTYPE=image/jpeg:https://www.madriverglen.com/wp-content/uploads/2024/08/Screen-Shot-2024-09-25-at-3.51.48-PM-1.jpeg
END:VEVENT
END:VCALENDAR