BEGIN:VCALENDAR
VERSION:2.0
PRODID:-//Mad River Glen, Vermont - ECPv6.15.17//NONSGML v1.0//EN
CALSCALE:GREGORIAN
METHOD:PUBLISH
X-ORIGINAL-URL:https://www.madriverglen.com
X-WR-CALDESC:Events for Mad River Glen, Vermont
REFRESH-INTERVAL;VALUE=DURATION:PT1H
X-Robots-Tag:noindex
X-PUBLISHED-TTL:PT1H
BEGIN:VTIMEZONE
TZID:America/New_York
BEGIN:DAYLIGHT
TZOFFSETFROM:-0500
TZOFFSETTO:-0400
TZNAME:EDT
DTSTART:20230312T070000
END:DAYLIGHT
BEGIN:STANDARD
TZOFFSETFROM:-0400
TZOFFSETTO:-0500
TZNAME:EST
DTSTART:20231105T060000
END:STANDARD
BEGIN:DAYLIGHT
TZOFFSETFROM:-0500
TZOFFSETTO:-0400
TZNAME:EDT
DTSTART:20240310T070000
END:DAYLIGHT
BEGIN:STANDARD
TZOFFSETFROM:-0400
TZOFFSETTO:-0500
TZNAME:EST
DTSTART:20241103T060000
END:STANDARD
BEGIN:DAYLIGHT
TZOFFSETFROM:-0500
TZOFFSETTO:-0400
TZNAME:EDT
DTSTART:20250309T070000
END:DAYLIGHT
BEGIN:STANDARD
TZOFFSETFROM:-0400
TZOFFSETTO:-0500
TZNAME:EST
DTSTART:20251102T060000
END:STANDARD
END:VTIMEZONE
BEGIN:VEVENT
DTSTART;TZID=America/New_York:20241207T090000
DTEND;TZID=America/New_York:20241207T153000
DTSTAMP:20260423T182407
CREATED:20240509T124303Z
LAST-MODIFIED:20241205T195629Z
UID:10000340-1733562000-1733585400@www.madriverglen.com
SUMMARY:Opening Day of the 2024/2025 Ski Season
DESCRIPTION:December 11\, 1948 Mad River Glen opened to the public for the first time\, whisking skiers 2000 vertical feet to the summit of Stark Mountain on the Single. The American Steel & Wire Company had installed nearly 600 of these state-of-the-art aerial tramway systems across the country and together with Roland Palmedo brought lift-served skiing to the Mad River Valley.
URL:https://www.madriverglen.com/calendar/opening-day-of-the-2024-2025-ski-season/
ATTACH;FMTTYPE=image/jpeg:https://www.madriverglen.com/wp-content/uploads/2023/07/Opening-Day-1949-Miss-VT-Gen-Stark-and-George-Neill-e1740597737947.jpg
END:VEVENT
END:VCALENDAR