BEGIN:VCALENDAR
VERSION:2.0
PRODID:-//Mad River Glen, Vermont - ECPv6.15.17//NONSGML v1.0//EN
CALSCALE:GREGORIAN
METHOD:PUBLISH
X-WR-CALNAME:Mad River Glen, Vermont
X-ORIGINAL-URL:https://www.madriverglen.com
X-WR-CALDESC:Events for Mad River Glen, Vermont
REFRESH-INTERVAL;VALUE=DURATION:PT1H
X-Robots-Tag:noindex
X-PUBLISHED-TTL:PT1H
BEGIN:VTIMEZONE
TZID:America/New_York
BEGIN:DAYLIGHT
TZOFFSETFROM:-0500
TZOFFSETTO:-0400
TZNAME:EDT
DTSTART:20230312T070000
END:DAYLIGHT
BEGIN:STANDARD
TZOFFSETFROM:-0400
TZOFFSETTO:-0500
TZNAME:EST
DTSTART:20231105T060000
END:STANDARD
BEGIN:DAYLIGHT
TZOFFSETFROM:-0500
TZOFFSETTO:-0400
TZNAME:EDT
DTSTART:20240310T070000
END:DAYLIGHT
BEGIN:STANDARD
TZOFFSETFROM:-0400
TZOFFSETTO:-0500
TZNAME:EST
DTSTART:20241103T060000
END:STANDARD
BEGIN:DAYLIGHT
TZOFFSETFROM:-0500
TZOFFSETTO:-0400
TZNAME:EDT
DTSTART:20250309T070000
END:DAYLIGHT
BEGIN:STANDARD
TZOFFSETFROM:-0400
TZOFFSETTO:-0500
TZNAME:EST
DTSTART:20251102T060000
END:STANDARD
END:VTIMEZONE
BEGIN:VEVENT
DTSTART;VALUE=DATE:20241225
DTEND;VALUE=DATE:20241226
DTSTAMP:20260423T075112
CREATED:20240806T172234Z
LAST-MODIFIED:20241218T181926Z
UID:10000408-1735084800-1735171199@www.madriverglen.com
SUMMARY:Christmas Day: Closed
DESCRIPTION:In celebration of the festive season\, we would like to let you know that we will be closed on Christmas Day. This special time of year allows us to embrace the joy of being with loved ones\, and as our team prepares for the exciting ski season ahead\, we truly value these moments of togetherness. \nWe appreciate your understanding and look forward to welcoming you back when we reopen on December 26th. \nWishing you and your loved ones a Merry Christmas filled with warmth\, joy\, and happiness!
URL:https://www.madriverglen.com/calendar/closed-christmas-day-2/
ATTACH;FMTTYPE=image/jpeg:https://www.madriverglen.com/wp-content/uploads/2023/12/JEB-MRG-2018-064-scaled-e1734545922967.jpg
END:VEVENT
BEGIN:VEVENT
DTSTART;TZID=America/New_York:20241226T153000
DTEND;TZID=America/New_York:20241226T170000
DTSTAMP:20260423T075112
CREATED:20241209T165627Z
LAST-MODIFIED:20241227T150244Z
UID:10000504-1735227000-1735232400@www.madriverglen.com
SUMMARY:Free Cabot Fondue
DESCRIPTION:Join us aprés-ski every Thursday throughout the ski season for FREE FONDUE served with toasted bread thanks to our sponsors Cabot Creamery Cooperative! \nAprés in the Pub on fondue Thursdays is historically a very popular event\, supplies are limited and may run out at any time\, come early\, leave happy.
URL:https://www.madriverglen.com/calendar/free-cabot-fondue/2024-12-26/
CATEGORIES:Aprés
ATTACH;FMTTYPE=image/jpeg:https://www.madriverglen.com/wp-content/uploads/2024/12/cabot-fondue-e1734546022562.jpg
END:VEVENT
BEGIN:VEVENT
DTSTART;TZID=America/New_York:20241227T190000
DTEND;TZID=America/New_York:20241227T220000
DTSTAMP:20260423T075112
CREATED:20241209T174840Z
LAST-MODIFIED:20241218T162101Z
UID:10000572-1735326000-1735336800@www.madriverglen.com
SUMMARY:After Dark Winter Music in Stark's Pub
DESCRIPTION:Once a month we’re hosting a rotation of local bands for late night music in Stark’s Pub. \nRunning in Circles is a four-piece band out of the Mad River Valley playing original and covers spanning rock & roll\, blues and jam. \nPhil Eriksen (keys/vox)\, Max Guyton (bass/vox)\, Ryan Morrison (guitar/vox)\, and Josh Morse (drums/vox).
URL:https://www.madriverglen.com/calendar/after-dark-winter-music-in-starks-pub/
ATTACH;FMTTYPE=image/jpeg:https://www.madriverglen.com/wp-content/uploads/2024/12/running-in-circles-e1734538850582.jpg
END:VEVENT
BEGIN:VEVENT
DTSTART;TZID=America/New_York:20241228T093000
DTEND;TZID=America/New_York:20241228T143000
DTSTAMP:20260423T075112
CREATED:20240806T172807Z
LAST-MODIFIED:20241218T161959Z
UID:10000411-1735378200-1735396200@www.madriverglen.com
SUMMARY:Seasonal Kids' Programs Begin
DESCRIPTION:Welcome to the Mad River Glen ski school! \nSaturday (12.28.24) and Sunday (12.29.24) will be the first days of our season-long kids’ ski school programs! \nOur goal is to infuse our programs with fun and knowledge of safety while teaching techniques that will allow your child to improve their ability. Our commitment to a small instructor/student ratio allows the children who participate in our program to not only have fun and become awesome skiers but develop a strong sense of camaraderie while developing lasting friendships. Check out the information below to learn about all the different programs we have for kids and teens. We look forward to skiing with your kids this winter! Learn more about the detail of our Seasonal Kids Programs. Please don’t hesitate to give us a call or email us with any questions (802) 496-3551 ext. 125 or email skischool@madriverglen.com. \nRead more   \n\n\n 
URL:https://www.madriverglen.com/calendar/seasonal-kids-programs-begin-2/2024-12-28/
ATTACH;FMTTYPE=image/png:https://www.madriverglen.com/wp-content/uploads/2024/08/Screenshot-2024-08-06-at-1.27.35 PM-e1734538787901.png
END:VEVENT
BEGIN:VEVENT
DTSTART;TZID=America/New_York:20241228T103000
DTEND;TZID=America/New_York:20241228T123000
DTSTAMP:20260423T075112
CREATED:20241217T145422Z
LAST-MODIFIED:20250330T114735Z
UID:10000598-1735381800-1735389000@www.madriverglen.com
SUMMARY:Naturalist Guided Snowshoe Tours
DESCRIPTION:Every Saturday and Sunday at 10:30 am Join one of Mad River Glen’s Naturalists for a guided snowshoe trek tailored to your interest in the ecology and wildlife of Stark Mountain! Our outings and content vary each week depending on snow conditions and participants. Learn about the hardwood forests of the Green Mountains as well as our resident moose\, bear\, deer\, fisher\, coyote\, red fox and more! Easy to moderate difficulty. Click here to Request A Reservation today or click here to learn more about our Naturalist Programs. \n\n\n 
URL:https://www.madriverglen.com/calendar/naturalist-guided-snowshoe-tours-3/2024-12-28/
ATTACH;FMTTYPE=image/jpeg:https://www.madriverglen.com/wp-content/uploads/2017/12/VT47MRG19EMB-1-e1734547842697.jpg
END:VEVENT
BEGIN:VEVENT
DTSTART;TZID=America/New_York:20241229T093000
DTEND;TZID=America/New_York:20241229T143000
DTSTAMP:20260423T075112
CREATED:20240806T172807Z
LAST-MODIFIED:20241218T161959Z
UID:10000412-1735464600-1735482600@www.madriverglen.com
SUMMARY:Seasonal Kids' Programs Begin
DESCRIPTION:Welcome to the Mad River Glen ski school! \nSaturday (12.28.24) and Sunday (12.29.24) will be the first days of our season-long kids’ ski school programs! \nOur goal is to infuse our programs with fun and knowledge of safety while teaching techniques that will allow your child to improve their ability. Our commitment to a small instructor/student ratio allows the children who participate in our program to not only have fun and become awesome skiers but develop a strong sense of camaraderie while developing lasting friendships. Check out the information below to learn about all the different programs we have for kids and teens. We look forward to skiing with your kids this winter! Learn more about the detail of our Seasonal Kids Programs. Please don’t hesitate to give us a call or email us with any questions (802) 496-3551 ext. 125 or email skischool@madriverglen.com. \nRead more   \n\n\n 
URL:https://www.madriverglen.com/calendar/seasonal-kids-programs-begin-2/2024-12-29/
ATTACH;FMTTYPE=image/png:https://www.madriverglen.com/wp-content/uploads/2024/08/Screenshot-2024-08-06-at-1.27.35 PM-e1734538787901.png
END:VEVENT
BEGIN:VEVENT
DTSTART;TZID=America/New_York:20241229T103000
DTEND;TZID=America/New_York:20241229T123000
DTSTAMP:20260423T075112
CREATED:20241217T145422Z
LAST-MODIFIED:20250330T114735Z
UID:10000599-1735468200-1735475400@www.madriverglen.com
SUMMARY:Naturalist Guided Snowshoe Tours
DESCRIPTION:Every Saturday and Sunday at 10:30 am Join one of Mad River Glen’s Naturalists for a guided snowshoe trek tailored to your interest in the ecology and wildlife of Stark Mountain! Our outings and content vary each week depending on snow conditions and participants. Learn about the hardwood forests of the Green Mountains as well as our resident moose\, bear\, deer\, fisher\, coyote\, red fox and more! Easy to moderate difficulty. Click here to Request A Reservation today or click here to learn more about our Naturalist Programs. \n\n\n 
URL:https://www.madriverglen.com/calendar/naturalist-guided-snowshoe-tours-3/2024-12-29/
ATTACH;FMTTYPE=image/jpeg:https://www.madriverglen.com/wp-content/uploads/2017/12/VT47MRG19EMB-1-e1734547842697.jpg
END:VEVENT
END:VCALENDAR