BEGIN:VCALENDAR
VERSION:2.0
PRODID:-//Mad River Glen, Vermont - ECPv6.15.17//NONSGML v1.0//EN
CALSCALE:GREGORIAN
METHOD:PUBLISH
X-ORIGINAL-URL:https://www.madriverglen.com
X-WR-CALDESC:Events for Mad River Glen, Vermont
REFRESH-INTERVAL;VALUE=DURATION:PT1H
X-Robots-Tag:noindex
X-PUBLISHED-TTL:PT1H
BEGIN:VTIMEZONE
TZID:America/New_York
BEGIN:DAYLIGHT
TZOFFSETFROM:-0500
TZOFFSETTO:-0400
TZNAME:EDT
DTSTART:20240310T070000
END:DAYLIGHT
BEGIN:STANDARD
TZOFFSETFROM:-0400
TZOFFSETTO:-0500
TZNAME:EST
DTSTART:20241103T060000
END:STANDARD
BEGIN:DAYLIGHT
TZOFFSETFROM:-0500
TZOFFSETTO:-0400
TZNAME:EDT
DTSTART:20250309T070000
END:DAYLIGHT
BEGIN:STANDARD
TZOFFSETFROM:-0400
TZOFFSETTO:-0500
TZNAME:EST
DTSTART:20251102T060000
END:STANDARD
BEGIN:DAYLIGHT
TZOFFSETFROM:-0500
TZOFFSETTO:-0400
TZNAME:EDT
DTSTART:20260308T070000
END:DAYLIGHT
BEGIN:STANDARD
TZOFFSETFROM:-0400
TZOFFSETTO:-0500
TZNAME:EST
DTSTART:20261101T060000
END:STANDARD
END:VTIMEZONE
BEGIN:VEVENT
DTSTART;TZID=America/New_York:20250103T143000
DTEND;TZID=America/New_York:20250103T170000
DTSTAMP:20260423T050259
CREATED:20241209T142233Z
LAST-MODIFIED:20250102T151503Z
UID:10000494-1735914600-1735923600@www.madriverglen.com
SUMMARY:Live Music Aprés in Stark's Pub
DESCRIPTION:Our live music series continues this season on Fridays\, après-ski\, from 2:30 to 5:00 PM! A huge thank you to our friends at Lawson’s Finest Liquids for supporting local musicians. Fridays throughout the ski season\, we’ll showcase a rotating lineup of talented local artists. Be sure to check out our event calendar for a full list of performances. Stark’s Pub is open daily during the winter ski season\, from 11:00 AM to 5:00 PM. Come join us for great music and good times! \n \nWinter Music Schedule: \n12.20 The Caleb Garby Trio \n01.03 Atom & the Orbits \n01.10 Straight Jacket Slumber Party \n01.17 Rob Pierce & Bob \n01.20 Brett Hughes & Lowell Thompson \n01.24 Madigan Linnane \n02.07 Fun Dip \n02.14 Local 28 \n02.28 Brett Hughes & Lowell Thompson \n03.07 John Lackard Trio \n03.14 Clint Bierman & Friends \n03.21 Jaded Ravins \n04.04 Brett Hughes & Lowell Thompson \n04.11 Dave O & Mike Schuster \nThanks to our friends at Lawson’s Finest Liquids for supporting local artists & good vibes year-round in Stark’s Pub.
URL:https://www.madriverglen.com/calendar/live-music-apres-in-starks-pub-2/
CATEGORIES:Aprés
ATTACH;FMTTYPE=image/jpeg:https://www.madriverglen.com/wp-content/uploads/2024/12/Atom-the-Orbits.jpg
END:VEVENT
BEGIN:VEVENT
DTSTART;TZID=America/New_York:20250104T093000
DTEND;TZID=America/New_York:20250104T150000
DTSTAMP:20260423T050259
CREATED:20240806T173336Z
LAST-MODIFIED:20241218T161853Z
UID:10000416-1735983000-1736002800@www.madriverglen.com
SUMMARY:Women's Alpine Ski Clinic
DESCRIPTION:Alpine ski clinics by women\, and for women using positive attitudes\, tactics and techniques to help you achieve your skiing goals. The price per day includes the clinic and lunch. \nDates: Saturdays – January 4\, February 1 & March 1 \nTime: 9:30 am until 3:00 pm \nCost: $249/day or $309/day with lift ticket \nREQUEST NOW
URL:https://www.madriverglen.com/calendar/womens-alpine-ski-clinic-2/2025-01-04/
CATEGORIES:Adult Ski School
ATTACH;FMTTYPE=image/png:https://www.madriverglen.com/wp-content/uploads/2024/08/Screenshot-2024-08-06-at-1.33.06 PM-e1734538722727.png
END:VEVENT
BEGIN:VEVENT
DTSTART;TZID=America/New_York:20250104T103000
DTEND;TZID=America/New_York:20250104T123000
DTSTAMP:20260423T050259
CREATED:20241217T145422Z
LAST-MODIFIED:20250330T114735Z
UID:10000600-1735986600-1735993800@www.madriverglen.com
SUMMARY:Naturalist Guided Snowshoe Tours
DESCRIPTION:Every Saturday and Sunday at 10:30 am Join one of Mad River Glen’s Naturalists for a guided snowshoe trek tailored to your interest in the ecology and wildlife of Stark Mountain! Our outings and content vary each week depending on snow conditions and participants. Learn about the hardwood forests of the Green Mountains as well as our resident moose\, bear\, deer\, fisher\, coyote\, red fox and more! Easy to moderate difficulty. Click here to Request A Reservation today or click here to learn more about our Naturalist Programs. \n\n\n 
URL:https://www.madriverglen.com/calendar/naturalist-guided-snowshoe-tours-3/2025-01-04/
ATTACH;FMTTYPE=image/jpeg:https://www.madriverglen.com/wp-content/uploads/2017/12/VT47MRG19EMB-1-e1734547842697.jpg
END:VEVENT
BEGIN:VEVENT
DTSTART;TZID=America/New_York:20250105T103000
DTEND;TZID=America/New_York:20250105T123000
DTSTAMP:20260423T050259
CREATED:20241217T145422Z
LAST-MODIFIED:20250330T114735Z
UID:10000601-1736073000-1736080200@www.madriverglen.com
SUMMARY:Naturalist Guided Snowshoe Tours
DESCRIPTION:Every Saturday and Sunday at 10:30 am Join one of Mad River Glen’s Naturalists for a guided snowshoe trek tailored to your interest in the ecology and wildlife of Stark Mountain! Our outings and content vary each week depending on snow conditions and participants. Learn about the hardwood forests of the Green Mountains as well as our resident moose\, bear\, deer\, fisher\, coyote\, red fox and more! Easy to moderate difficulty. Click here to Request A Reservation today or click here to learn more about our Naturalist Programs. \n\n\n 
URL:https://www.madriverglen.com/calendar/naturalist-guided-snowshoe-tours-3/2025-01-05/
ATTACH;FMTTYPE=image/jpeg:https://www.madriverglen.com/wp-content/uploads/2017/12/VT47MRG19EMB-1-e1734547842697.jpg
END:VEVENT
END:VCALENDAR