BEGIN:VCALENDAR
VERSION:2.0
PRODID:-//Mad River Glen, Vermont - ECPv6.15.17//NONSGML v1.0//EN
CALSCALE:GREGORIAN
METHOD:PUBLISH
X-ORIGINAL-URL:https://www.madriverglen.com
X-WR-CALDESC:Events for Mad River Glen, Vermont
REFRESH-INTERVAL;VALUE=DURATION:PT1H
X-Robots-Tag:noindex
X-PUBLISHED-TTL:PT1H
BEGIN:VTIMEZONE
TZID:America/New_York
BEGIN:DAYLIGHT
TZOFFSETFROM:-0500
TZOFFSETTO:-0400
TZNAME:EDT
DTSTART:20240310T070000
END:DAYLIGHT
BEGIN:STANDARD
TZOFFSETFROM:-0400
TZOFFSETTO:-0500
TZNAME:EST
DTSTART:20241103T060000
END:STANDARD
BEGIN:DAYLIGHT
TZOFFSETFROM:-0500
TZOFFSETTO:-0400
TZNAME:EDT
DTSTART:20250309T070000
END:DAYLIGHT
BEGIN:STANDARD
TZOFFSETFROM:-0400
TZOFFSETTO:-0500
TZNAME:EST
DTSTART:20251102T060000
END:STANDARD
BEGIN:DAYLIGHT
TZOFFSETFROM:-0500
TZOFFSETTO:-0400
TZNAME:EDT
DTSTART:20260308T070000
END:DAYLIGHT
BEGIN:STANDARD
TZOFFSETFROM:-0400
TZOFFSETTO:-0500
TZNAME:EST
DTSTART:20261101T060000
END:STANDARD
END:VTIMEZONE
BEGIN:VEVENT
DTSTART;TZID=America/New_York:20250120T143000
DTEND;TZID=America/New_York:20250120T170000
DTSTAMP:20260423T062157
CREATED:20241229T145939Z
LAST-MODIFIED:20250102T151641Z
UID:10000657-1737383400-1737392400@www.madriverglen.com
SUMMARY:Live Music Aprés in Stark's Pub
DESCRIPTION:Our live music series continues this season on Fridays\, après-ski\, from 2:30 to 5:00 PM! A huge thank you to our friends at Lawson’s Finest Liquids for supporting local musicians. Fridays throughout the ski season\, we’ll showcase a rotating lineup of talented local artists. Be sure to check out our event calendar for a full list of performances. Stark’s Pub is open daily during the winter ski season\, from 11:00 AM to 5:00 PM. Come join us for great music and good times! \n \nWinter Music Schedule: \n12.20 The Caleb Garby Trio \n01.03 Atom & the Orbits \n01.10 Straight Jacket Slumber Party \n01.17 Rob Pierce & Bob \n01.20 Brett Hughes & Lowell Thompson \n01.24 Madigan Linnane \n02.07 Fun Dip \n02.14 Local 28 \n02.28 Brett Hughes & Lowell Thompson \n03.07 John Lackard Trio \n03.14 Clint Bierman & Friends \n03.21 Jaded Ravins \n04.04 Brett Hughes & Lowell Thompson \n04.11 Dave O & Mike Schuster \nThanks to our friends at Lawson’s Finest Liquids for supporting local artists & good vibes year-round in Stark’s Pub.
URL:https://www.madriverglen.com/calendar/live-music-apres-in-starks-pub-14/
CATEGORIES:Aprés
ATTACH;FMTTYPE=image/jpeg:https://www.madriverglen.com/wp-content/uploads/2024/12/BRETTLOWELL.jpg
END:VEVENT
BEGIN:VEVENT
DTSTART;TZID=America/New_York:20250123T100000
DTEND;TZID=America/New_York:20250123T120000
DTSTAMP:20260423T062157
CREATED:20240806T174240Z
LAST-MODIFIED:20241218T162741Z
UID:10000445-1737626400-1737633600@www.madriverglen.com
SUMMARY:Women's Mid-Week Alpine Clinic
DESCRIPTION:The Women’s Mid-Week clinics are for women and taught by women using positive attitude\, tactics and techniques to help you achieve your skiing goals. This eight-week program meets for 2-hour sessions on Thursday mornings. \nDates: Thursdays – January 9\, 16\, 23\, 30 February 6\, 13\, 27 & March 6 (No session 02.20.25) \nTime: 10:00 am until 12:00 pm \nCost: $349 – 8 week session \nREQUEST NOW
URL:https://www.madriverglen.com/calendar/womens-mid-week-alpine-clinic-2/2025-01-23/
CATEGORIES:Adult Ski School
ATTACH;FMTTYPE=image/png:https://www.madriverglen.com/wp-content/uploads/2024/08/Screenshot-2024-08-06-at-1.42.15 PM-e1734539252677.png
END:VEVENT
BEGIN:VEVENT
DTSTART;TZID=America/New_York:20250123T123000
DTEND;TZID=America/New_York:20250123T143000
DTSTAMP:20260423T062157
CREATED:20250122T191616Z
LAST-MODIFIED:20250122T192212Z
UID:10000674-1737635400-1737642600@www.madriverglen.com
SUMMARY:Fayston Elementary School Ski Program
DESCRIPTION:Welcoming 1st through 6th grade students from the Fayston Elementary School for an afternoon of skiing!
URL:https://www.madriverglen.com/calendar/fayston-elementary-school-ski-program/
ATTACH;FMTTYPE=image/jpeg:https://www.madriverglen.com/wp-content/uploads/2025/01/Waitsfield-Elementary-School-e1737486392920.jpeg
END:VEVENT
BEGIN:VEVENT
DTSTART;TZID=America/New_York:20250123T153000
DTEND;TZID=America/New_York:20250123T170000
DTSTAMP:20260423T062157
CREATED:20241209T165627Z
LAST-MODIFIED:20241227T150244Z
UID:10000508-1737646200-1737651600@www.madriverglen.com
SUMMARY:Free Cabot Fondue
DESCRIPTION:Join us aprés-ski every Thursday throughout the ski season for FREE FONDUE served with toasted bread thanks to our sponsors Cabot Creamery Cooperative! \nAprés in the Pub on fondue Thursdays is historically a very popular event\, supplies are limited and may run out at any time\, come early\, leave happy.
URL:https://www.madriverglen.com/calendar/free-cabot-fondue/2025-01-23/
CATEGORIES:Aprés
ATTACH;FMTTYPE=image/jpeg:https://www.madriverglen.com/wp-content/uploads/2024/12/cabot-fondue-e1734546022562.jpg
END:VEVENT
BEGIN:VEVENT
DTSTART;TZID=America/New_York:20250124T143000
DTEND;TZID=America/New_York:20250124T170000
DTSTAMP:20260423T062157
CREATED:20241209T144007Z
LAST-MODIFIED:20250102T151725Z
UID:10000497-1737729000-1737738000@www.madriverglen.com
SUMMARY:Live Music Aprés in Stark's Pub
DESCRIPTION:Our live music series continues this season on Fridays\, après-ski\, from 2:30 to 5:00 PM! A huge thank you to our friends at Lawson’s Finest Liquids for supporting local musicians. Fridays throughout the ski season\, we’ll showcase a rotating lineup of talented local artists. Be sure to check out our event calendar for a full list of performances. Stark’s Pub is open daily during the winter ski season\, from 11:00 AM to 5:00 PM. Come join us for great music and good times! \n \nWinter Music Schedule: \n12.20 The Caleb Garby Trio \n01.03 Atom & the Orbits \n01.10 Straight Jacket Slumber Party \n01.17 Rob Pierce & Bob \n01.20 Brett Hughes & Lowell Thompson \n01.24 Madigan Linnane \n02.07 Fun Dip \n02.14 Local 28 \n02.28 Brett Hughes & Lowell Thompson \n03.07 John Lackard Trio \n03.14 Clint Bierman & Friends \n03.21 Jaded Ravins \n04.04 Brett Hughes & Lowell Thompson \n04.11 Dave O & Mike Schuster \nThanks to our friends at Lawson’s Finest Liquids for supporting local artists & good vibes year-round in Stark’s Pub.
URL:https://www.madriverglen.com/calendar/live-music-apres-in-starks-pub-5/
CATEGORIES:Aprés
ATTACH;FMTTYPE=image/jpeg:https://www.madriverglen.com/wp-content/uploads/2024/12/MADIGAN-LINNANE.jpg
END:VEVENT
BEGIN:VEVENT
DTSTART;TZID=America/New_York:20250125T103000
DTEND;TZID=America/New_York:20250125T123000
DTSTAMP:20260423T062157
CREATED:20241217T145422Z
LAST-MODIFIED:20250330T114735Z
UID:10000606-1737801000-1737808200@www.madriverglen.com
SUMMARY:Naturalist Guided Snowshoe Tours
DESCRIPTION:Every Saturday and Sunday at 10:30 am Join one of Mad River Glen’s Naturalists for a guided snowshoe trek tailored to your interest in the ecology and wildlife of Stark Mountain! Our outings and content vary each week depending on snow conditions and participants. Learn about the hardwood forests of the Green Mountains as well as our resident moose\, bear\, deer\, fisher\, coyote\, red fox and more! Easy to moderate difficulty. Click here to Request A Reservation today or click here to learn more about our Naturalist Programs. \n\n\n 
URL:https://www.madriverglen.com/calendar/naturalist-guided-snowshoe-tours-3/2025-01-25/
ATTACH;FMTTYPE=image/jpeg:https://www.madriverglen.com/wp-content/uploads/2017/12/VT47MRG19EMB-1-e1734547842697.jpg
END:VEVENT
BEGIN:VEVENT
DTSTART;TZID=America/New_York:20250125T170000
DTEND;TZID=America/New_York:20250125T180000
DTSTAMP:20260423T062157
CREATED:20241212T132424Z
LAST-MODIFIED:20241222T192919Z
UID:10000492-1737824400-1737828000@www.madriverglen.com
SUMMARY:Turtles to Toads
DESCRIPTION:Discover Vermont’s Reptiles and Amphibians at Mad River Glen \nThe Stark Mountain Foundation invites nature lovers of all ages to an exciting and educational event on Saturday\, January 25th\, at 5:00 PM in the Basebox at Mad River Glen. This engaging program will introduce attendees to the fascinating world of Vermont’s reptiles and amphibians—some of the state’s most misunderstood yet captivating creatures. \nLed by expert staff from the Southern Vermont Natural History Museum\, the evening will feature an interactive slideshow that explores the lives\, habitats\, and ecological importance of these remarkable animals. Guests will have the rare opportunity to see live reptiles and amphibians up close and engage with touchable artifacts\, making this a hands-on experience perfect for families\, children\, and nature enthusiasts alike. \nFor those who may feel uneasy around snakes or other creatures\, this program is designed to foster understanding and appreciation\, offering an opportunity to see these animals in a new light. \nThe event begins at 5:00 PM and is free to attend. Pre-registration is encouraged at (https://bit.ly/411QxhJ). Don’t miss this chance to embark on an unforgettable journey into Vermont’s wild side!
URL:https://www.madriverglen.com/calendar/turtles-to-toads/
CATEGORIES:Stark Mountain Foundation
ATTACH;FMTTYPE=image/jpeg:https://www.madriverglen.com/wp-content/uploads/2024/12/Image-12-9-24-at-8.30 AM-e1734548413501.jpeg
END:VEVENT
BEGIN:VEVENT
DTSTART;TZID=America/New_York:20250126T090000
DTEND;TZID=America/New_York:20250126T150000
DTSTAMP:20260423T062157
CREATED:20250106T165533Z
LAST-MODIFIED:20250106T165533Z
UID:10000669-1737882000-1737903600@www.madriverglen.com
SUMMARY:Telemark & Alpine Touring Demo Day
DESCRIPTION:Mountain Ops from Stowe VT will set up a tent offering a demo space for skiers to test uphill equipment for both Alpine Touring and Telemark gear. This will be a free event where ticket holders and pass holders can try demo equipment and access our in-bounds uphill route on the Sunnyside of the mountain.  \nWhether you’re a seasoned backcountry enthusiast or a curious newcomer\, this is your chance to experience the latest in telemark and alpine touring (AT) equipment firsthand. \nThroughout the day\, you’ll have the opportunity to demo a wide range of telemark and AT skis\, boots\, and bindings from leading brands. Whether you’re interested in lightweight touring setups or aggressive backcountry performance gear\, there will be something for every style and skill level. \nDon’t miss this unique opportunity to test drive the latest telemark and AT gear. Grab your skis\, pack your sense of adventure\, and join us for a day of exploration\, education\, and excitement! \nEquipment will come from a wide variety of brands including Wonder Alpine Skis\, DPS\, ATK\, Dynafit\, and Scarpa \nMountain Ops from Stowe will provide demo boots and skis for both Alpine Touring and Telemark. \n 
URL:https://www.madriverglen.com/calendar/telemark-alpine-touring-demo-day/
ATTACH;FMTTYPE=image/jpeg:https://www.madriverglen.com/wp-content/uploads/2025/01/IMG_6652-scaled-e1736182517715.jpg
END:VEVENT
BEGIN:VEVENT
DTSTART;TZID=America/New_York:20250126T103000
DTEND;TZID=America/New_York:20250126T123000
DTSTAMP:20260423T062157
CREATED:20241217T145422Z
LAST-MODIFIED:20250330T114735Z
UID:10000607-1737887400-1737894600@www.madriverglen.com
SUMMARY:Naturalist Guided Snowshoe Tours
DESCRIPTION:Every Saturday and Sunday at 10:30 am Join one of Mad River Glen’s Naturalists for a guided snowshoe trek tailored to your interest in the ecology and wildlife of Stark Mountain! Our outings and content vary each week depending on snow conditions and participants. Learn about the hardwood forests of the Green Mountains as well as our resident moose\, bear\, deer\, fisher\, coyote\, red fox and more! Easy to moderate difficulty. Click here to Request A Reservation today or click here to learn more about our Naturalist Programs. \n\n\n 
URL:https://www.madriverglen.com/calendar/naturalist-guided-snowshoe-tours-3/2025-01-26/
ATTACH;FMTTYPE=image/jpeg:https://www.madriverglen.com/wp-content/uploads/2017/12/VT47MRG19EMB-1-e1734547842697.jpg
END:VEVENT
END:VCALENDAR