BEGIN:VCALENDAR
VERSION:2.0
PRODID:-//Mad River Glen, Vermont - ECPv6.15.17//NONSGML v1.0//EN
CALSCALE:GREGORIAN
METHOD:PUBLISH
X-ORIGINAL-URL:https://www.madriverglen.com
X-WR-CALDESC:Events for Mad River Glen, Vermont
REFRESH-INTERVAL;VALUE=DURATION:PT1H
X-Robots-Tag:noindex
X-PUBLISHED-TTL:PT1H
BEGIN:VTIMEZONE
TZID:America/New_York
BEGIN:DAYLIGHT
TZOFFSETFROM:-0500
TZOFFSETTO:-0400
TZNAME:EDT
DTSTART:20240310T070000
END:DAYLIGHT
BEGIN:STANDARD
TZOFFSETFROM:-0400
TZOFFSETTO:-0500
TZNAME:EST
DTSTART:20241103T060000
END:STANDARD
BEGIN:DAYLIGHT
TZOFFSETFROM:-0500
TZOFFSETTO:-0400
TZNAME:EDT
DTSTART:20250309T070000
END:DAYLIGHT
BEGIN:STANDARD
TZOFFSETFROM:-0400
TZOFFSETTO:-0500
TZNAME:EST
DTSTART:20251102T060000
END:STANDARD
BEGIN:DAYLIGHT
TZOFFSETFROM:-0500
TZOFFSETTO:-0400
TZNAME:EDT
DTSTART:20260308T070000
END:DAYLIGHT
BEGIN:STANDARD
TZOFFSETFROM:-0400
TZOFFSETTO:-0500
TZNAME:EST
DTSTART:20261101T060000
END:STANDARD
END:VTIMEZONE
BEGIN:VEVENT
DTSTART;TZID=America/New_York:20250310T093000
DTEND;TZID=America/New_York:20250310T120000
DTSTAMP:20260423T003757
CREATED:20240806T174735Z
LAST-MODIFIED:20241218T182712Z
UID:10000463-1741599000-1741608000@www.madriverglen.com
SUMMARY:Graybeard's Clinic
DESCRIPTION:The Graybeard’s Clinic is designed for men who are intermediate to advanced skiers. The clinic will focus on learning to fully enjoy the Mad River Glen skiing experience by deepening fundamental skills and then applying those skills to the varied terrain that makes Mad River special. Participants will learn to ski groomers and the bumps better and with more confidence – making it more fun and joyful. We will also focus on specific mechanics that are a bit easier on your body\, thus enhancing your overall ski experience here at Mad River Glen and wherever your skis may take you. \nThe clinic will be led by Rick Ruback who has been coaching ski racing at Mad River for over twenty years. Rick is excited to bring some racing skills and drills into adult teaching as a way to help the participants improve their skiing. Joining Rick will be a collection of some of the most experienced members of the Mad River Glen Ski School. \nDates: Mondays January 27 February 3\, 10 & 24\, March 3\, 10 & 17 \nTime: 9:30 am – 12:00 pm \nCost: $349 7 week session (valid ticket or pass required) \nREQUEST A RESERVATION
URL:https://www.madriverglen.com/calendar/graybeards-clinic/2025-03-10/
CATEGORIES:Adult Ski School
ATTACH;FMTTYPE=image/png:https://www.madriverglen.com/wp-content/uploads/2024/08/Screenshot-2024-08-06-at-1.47.14 PM-e1734546424397.png
END:VEVENT
BEGIN:VEVENT
DTSTART;TZID=America/New_York:20250313T153000
DTEND;TZID=America/New_York:20250313T170000
DTSTAMP:20260423T003757
CREATED:20241209T165627Z
LAST-MODIFIED:20241227T150244Z
UID:10000515-1741879800-1741885200@www.madriverglen.com
SUMMARY:Free Cabot Fondue
DESCRIPTION:Join us aprés-ski every Thursday throughout the ski season for FREE FONDUE served with toasted bread thanks to our sponsors Cabot Creamery Cooperative! \nAprés in the Pub on fondue Thursdays is historically a very popular event\, supplies are limited and may run out at any time\, come early\, leave happy.
URL:https://www.madriverglen.com/calendar/free-cabot-fondue/2025-03-13/
CATEGORIES:Aprés
ATTACH;FMTTYPE=image/jpeg:https://www.madriverglen.com/wp-content/uploads/2024/12/cabot-fondue-e1734546022562.jpg
END:VEVENT
BEGIN:VEVENT
DTSTART;TZID=America/New_York:20250314T143000
DTEND;TZID=America/New_York:20250314T170000
DTSTAMP:20260423T003757
CREATED:20241222T175709Z
LAST-MODIFIED:20250102T152805Z
UID:10000652-1741962600-1741971600@www.madriverglen.com
SUMMARY:Live Music Aprés in Stark's Pub
DESCRIPTION:Our live music series continues this season on Fridays\, après-ski\, from 2:30 to 5:00 PM! A huge thank you to our friends at Lawson’s Finest Liquids for supporting local musicians. Fridays throughout the ski season\, we’ll showcase a rotating lineup of talented local artists. Be sure to check out our event calendar for a full list of performances. Stark’s Pub is open daily during the winter ski season\, from 11:00 AM to 5:00 PM. Come join us for great music and good times! \n \nWinter Music Schedule: \n12.20 The Caleb Garby Trio \n01.03 Atom & the Orbits \n01.10 Straight Jacket Slumber Party \n01.17 Rob Pierce & Bob \n01.20 Brett Hughes & Lowell Thompson \n01.24 Madigan Linnane \n02.07 Fun Dip \n02.14 Local 28 \n02.28 Brett Hughes & Lowell Thompson \n03.07 John Lackard Trio \n03.14 Clint Bierman & Friends \n03.21 Jaded Ravins \n04.04 Brett Hughes & Lowell Thompson \n04.11 Dave O & Mike Schuster \nThanks to our friends at Lawson’s Finest Liquids for supporting local artists & good vibes year-round in Stark’s Pub.
URL:https://www.madriverglen.com/calendar/live-music-apres-in-starks-pub-13/
CATEGORIES:Aprés
ATTACH;FMTTYPE=image/jpeg:https://www.madriverglen.com/wp-content/uploads/2024/12/Clint-Bierman.jpg
END:VEVENT
BEGIN:VEVENT
DTSTART;TZID=America/New_York:20250315T103000
DTEND;TZID=America/New_York:20250315T123000
DTSTAMP:20260423T003757
CREATED:20241217T145422Z
LAST-MODIFIED:20250330T114735Z
UID:10000620-1742034600-1742041800@www.madriverglen.com
SUMMARY:Naturalist Guided Snowshoe Tours
DESCRIPTION:Every Saturday and Sunday at 10:30 am Join one of Mad River Glen’s Naturalists for a guided snowshoe trek tailored to your interest in the ecology and wildlife of Stark Mountain! Our outings and content vary each week depending on snow conditions and participants. Learn about the hardwood forests of the Green Mountains as well as our resident moose\, bear\, deer\, fisher\, coyote\, red fox and more! Easy to moderate difficulty. Click here to Request A Reservation today or click here to learn more about our Naturalist Programs. \n\n\n 
URL:https://www.madriverglen.com/calendar/naturalist-guided-snowshoe-tours-3/2025-03-15/
ATTACH;FMTTYPE=image/jpeg:https://www.madriverglen.com/wp-content/uploads/2017/12/VT47MRG19EMB-1-e1734547842697.jpg
END:VEVENT
BEGIN:VEVENT
DTSTART;TZID=America/New_York:20250315T160000
DTEND;TZID=America/New_York:20250315T180000
DTSTAMP:20260423T003757
CREATED:20241218T151427Z
LAST-MODIFIED:20250313T181541Z
UID:10000631-1742054400-1742061600@www.madriverglen.com
SUMMARY:Rockefeller Challenge
DESCRIPTION:An event only to be found here on the slopes of Mad River Glen\, the Rockefeller Challenge is an annual test of fearlessness and speed. Starting on the Practice Slope\, competitors try to carry their speed down a designated race lane\, through the base area and up the Rockefeller trail. Like the sport of ski jumping where the skier who goes the farthest wins\, the person to makes it the furthest up the Rockefeller trail\, is victorious and crowned a racing titan. Proceeds to benefit MRG Ski Club. \nEvent Date: March 15\, 2025 \nRegister Online Here! \nEntry Fee: $25 entry \n \nField Limit: 100 competitors\, all ages \nAthlete Lift: Tentatively 4:20 pm \nEvent Begins: 4:30 pm \nOther: Rockefeller and Racing Triple Crown shirts will be available for purchase at bib pickup on the day of the event. Clothing is required\, no added weights\, speedsuits\, lycra or gravity enhancing devices! \nAwards: by age group and gender \nDisclaimer: Weather and conditions dependent\, no refunds on entry fee in the event of cancellation. We reserve the right to change or modify any of the perimeters of the race including but not limited to start time\, location\, course\, finish and awards in the interest of event security. \nThe MRG Racing Triple Crown combines three celebrated legacy events and crowns an overall category champions! \n\n\n\nThe storied Kandahar is MRG’s modern version of a full mountain ski race. It rewards those who can ski gates as well as terrain and conditions on the trail.\nThe Dash For Cash is a new event that will pit racers head to head on a dual panel course with pro jump.\nThe Rockefeller Challenge is a test of fearlessness and speed where competitors tuck straight downhill and glide uphill to find the skier who goes the furthest.\n\n\n\nCombine and register for all three events and save! \nA valid lift ticket or season pass is required. Lift ticket not included in the entry fee. \nAges 10 & up as of 1/1/25. You must complete a registration for each family member who will be racing. Please log in below (if you are already in MRG’s system) or create a new account for each racer. \nDisclaimer: Weather and conditions dependent. There are no refunds on the entry fee for any reason\, including in the event of date change\, cancellation\, or inability to participate. We reserve the right to change or modify any of the perimeters of the race including but not limited to start time\, date\, location\, course\, finish and awards in the interest of event security.
URL:https://www.madriverglen.com/calendar/rockefeller-challenge-2/
CATEGORIES:Race
ATTACH;FMTTYPE=image/jpeg:https://www.madriverglen.com/wp-content/uploads/2023/07/P1050168-scaled-e1734547382564.jpg
END:VEVENT
BEGIN:VEVENT
DTSTART;TZID=America/New_York:20250315T170000
DTEND;TZID=America/New_York:20250315T180000
DTSTAMP:20260423T003757
CREATED:20240516T170341Z
LAST-MODIFIED:20250313T151513Z
UID:10000371-1742058000-1742061600@www.madriverglen.com
SUMMARY:Co-op Board of Trustees Meeting
DESCRIPTION:The Co-op’s Board of Trustees meets monthly\, except July and August. All Co-op Shareholders are encouraged to attend Board meetings. Stay abreast of what is happening at America’s only skier-owned mountain by checking out the latest Board Meeting Minutes. If you have a comment\, question or concern for the board you can reach them by emailing coopboard@madriverglen.com \nJoin via Google Meet: https://meet.google.com/jhi-umff-poa
URL:https://www.madriverglen.com/calendar/co-op-board-of-trustees-meeting/2025-03-15/
CATEGORIES:Co-Op
ATTACH;FMTTYPE=image/jpeg:https://www.madriverglen.com/wp-content/uploads/2023/07/Shareholder-meeting-JEB-009-scaled-e1734539176487.jpg
END:VEVENT
BEGIN:VEVENT
DTSTART;TZID=America/New_York:20250316T103000
DTEND;TZID=America/New_York:20250316T123000
DTSTAMP:20260423T003757
CREATED:20241217T145422Z
LAST-MODIFIED:20250330T114735Z
UID:10000621-1742121000-1742128200@www.madriverglen.com
SUMMARY:Naturalist Guided Snowshoe Tours
DESCRIPTION:Every Saturday and Sunday at 10:30 am Join one of Mad River Glen’s Naturalists for a guided snowshoe trek tailored to your interest in the ecology and wildlife of Stark Mountain! Our outings and content vary each week depending on snow conditions and participants. Learn about the hardwood forests of the Green Mountains as well as our resident moose\, bear\, deer\, fisher\, coyote\, red fox and more! Easy to moderate difficulty. Click here to Request A Reservation today or click here to learn more about our Naturalist Programs. \n\n\n 
URL:https://www.madriverglen.com/calendar/naturalist-guided-snowshoe-tours-3/2025-03-16/
ATTACH;FMTTYPE=image/jpeg:https://www.madriverglen.com/wp-content/uploads/2017/12/VT47MRG19EMB-1-e1734547842697.jpg
END:VEVENT
END:VCALENDAR