BEGIN:VCALENDAR
VERSION:2.0
PRODID:-//Mad River Glen, Vermont - ECPv6.15.17//NONSGML v1.0//EN
CALSCALE:GREGORIAN
METHOD:PUBLISH
X-ORIGINAL-URL:https://www.madriverglen.com
X-WR-CALDESC:Events for Mad River Glen, Vermont
REFRESH-INTERVAL;VALUE=DURATION:PT1H
X-Robots-Tag:noindex
X-PUBLISHED-TTL:PT1H
BEGIN:VTIMEZONE
TZID:America/New_York
BEGIN:DAYLIGHT
TZOFFSETFROM:-0500
TZOFFSETTO:-0400
TZNAME:EDT
DTSTART:20240310T070000
END:DAYLIGHT
BEGIN:STANDARD
TZOFFSETFROM:-0400
TZOFFSETTO:-0500
TZNAME:EST
DTSTART:20241103T060000
END:STANDARD
BEGIN:DAYLIGHT
TZOFFSETFROM:-0500
TZOFFSETTO:-0400
TZNAME:EDT
DTSTART:20250309T070000
END:DAYLIGHT
BEGIN:STANDARD
TZOFFSETFROM:-0400
TZOFFSETTO:-0500
TZNAME:EST
DTSTART:20251102T060000
END:STANDARD
BEGIN:DAYLIGHT
TZOFFSETFROM:-0500
TZOFFSETTO:-0400
TZNAME:EDT
DTSTART:20260308T070000
END:DAYLIGHT
BEGIN:STANDARD
TZOFFSETFROM:-0400
TZOFFSETTO:-0500
TZNAME:EST
DTSTART:20261101T060000
END:STANDARD
END:VTIMEZONE
BEGIN:VEVENT
DTSTART;TZID=America/New_York:20250327T153000
DTEND;TZID=America/New_York:20250327T170000
DTSTAMP:20260423T003801
CREATED:20241209T165627Z
LAST-MODIFIED:20241227T150244Z
UID:10000517-1743089400-1743094800@www.madriverglen.com
SUMMARY:Free Cabot Fondue
DESCRIPTION:Join us aprés-ski every Thursday throughout the ski season for FREE FONDUE served with toasted bread thanks to our sponsors Cabot Creamery Cooperative! \nAprés in the Pub on fondue Thursdays is historically a very popular event\, supplies are limited and may run out at any time\, come early\, leave happy.
URL:https://www.madriverglen.com/calendar/free-cabot-fondue/2025-03-27/
CATEGORIES:Aprés
ATTACH;FMTTYPE=image/jpeg:https://www.madriverglen.com/wp-content/uploads/2024/12/cabot-fondue-e1734546022562.jpg
END:VEVENT
BEGIN:VEVENT
DTSTART;TZID=America/New_York:20250328T190000
DTEND;TZID=America/New_York:20250328T220000
DTSTAMP:20260423T003801
CREATED:20241229T190454Z
LAST-MODIFIED:20250103T144513Z
UID:10000665-1743188400-1743199200@www.madriverglen.com
SUMMARY:After Dark Winter Music in Stark's Pub
DESCRIPTION:Evan Jennison is a local musician making a big splash on the Vermont scene. It won’t be long before Evan outgrows the confines of Stark’s Pub so make sure you get to see one of his shows before people are saying\, “I saw Evan at MRG back in the day”. \n 
URL:https://www.madriverglen.com/calendar/after-dark-winter-music-in-starks-pub-4/
ATTACH;FMTTYPE=image/jpeg:https://www.madriverglen.com/wp-content/uploads/2024/12/evan-jennison-and-friends-1.jpg
END:VEVENT
BEGIN:VEVENT
DTSTART;TZID=America/New_York:20250329T100000
DTEND;TZID=America/New_York:20250329T140000
DTSTAMP:20260423T003801
CREATED:20241218T154720Z
LAST-MODIFIED:20241218T184442Z
UID:10000635-1743242400-1743256800@www.madriverglen.com
SUMMARY:Mad River Ski Club Championships
DESCRIPTION:
URL:https://www.madriverglen.com/calendar/mad-river-ski-club-championships-2/
CATEGORIES:Race
ATTACH;FMTTYPE=image/png:https://www.madriverglen.com/wp-content/uploads/2024/12/Screenshot-2024-12-18-at-10.46.39 AM-e1734547475209.png
END:VEVENT
BEGIN:VEVENT
DTSTART;TZID=America/New_York:20250329T103000
DTEND;TZID=America/New_York:20250329T123000
DTSTAMP:20260423T003801
CREATED:20241217T145422Z
LAST-MODIFIED:20250330T114735Z
UID:10000624-1743244200-1743251400@www.madriverglen.com
SUMMARY:Naturalist Guided Snowshoe Tours
DESCRIPTION:Every Saturday and Sunday at 10:30 am Join one of Mad River Glen’s Naturalists for a guided snowshoe trek tailored to your interest in the ecology and wildlife of Stark Mountain! Our outings and content vary each week depending on snow conditions and participants. Learn about the hardwood forests of the Green Mountains as well as our resident moose\, bear\, deer\, fisher\, coyote\, red fox and more! Easy to moderate difficulty. Click here to Request A Reservation today or click here to learn more about our Naturalist Programs. \n\n\n 
URL:https://www.madriverglen.com/calendar/naturalist-guided-snowshoe-tours-3/2025-03-29/
ATTACH;FMTTYPE=image/jpeg:https://www.madriverglen.com/wp-content/uploads/2017/12/VT47MRG19EMB-1-e1734547842697.jpg
END:VEVENT
BEGIN:VEVENT
DTSTART;TZID=America/New_York:20250330T080000
DTEND;TZID=America/New_York:20250330T170000
DTSTAMP:20260423T003801
CREATED:20241222T162258Z
LAST-MODIFIED:20250330T114612Z
UID:10000651-1743321600-1743354000@www.madriverglen.com
SUMMARY:Friendly Freeski Competition
DESCRIPTION:Mad River Glen\, the birthplace of New England’s competitive freeskiing is proud to be hosting a Friendly Freeski competition. If you have been curious about entering the competitive freeski arena then this event is for you! The freeski friendly is a fun event designed to give everyone a new perspective on competitive freeskiing. This event is open to all age groups and parents are highly encouraged to enter as well. It is a one run competition\, venue location TBD based on conditions. The freeski friendly\, hosted by the Mad River Glen Freeski Team is a fundraiser for the Mad River Glen Ski Club. There are NO REFUNDS.\n\n\n\n\n\n\n\n– Day of Registration 3rd floor Basebox 8-8:30 AM: $40 cash/venmo\n– The competition is a one-run event\n– U18 helmet & back protector required\n– The venue is to be determined and will be revealed in the competitor’s meeting\n  \nJudging Criteria:\n\n1. Line Choice: Each competitor chooses their line down the course. High scores are given for choosing difficult routes. Difficulty is determined by steepness\, exposure\, air\, snow and course conditions.\n2. Control: Competitors must remain in control at all times. Any loss of control will result in a lower score. Skillful recoveries will reduce penalties.\n3. Fluidity: Constant direction towards a goal. This includes continuity\, pace\, and smooth transitions between sections of the course. Falling or stopping can have a negative impact in this category.\n4. Technique: Competitors are judged on style and turn quality relating to big mountain freeriding.\n5. Style & Energy: This encompasses the pace\, energy and creativity with which a competitor attacks or descends his/her chosen line or route. Style focuses on freestyle execution of maneuvers.\n\n  \nAge Categories:\n\nU10 Male & Female\n\nU12 Male & Female\n\nU14 Male & Female\n\nU18 Male & Female\n\nU40 Male & Female\n\nOver 40 Male & Female\n\n  \nEvent Timeline:\n\nCompetitor Check-in/Bib Pickup: 3rd Floor Base Box\n8:00 to 8:30 am\n\nMandatory Safety Meeting\n8:30 am on the deck\n\nCourse Inspection\n9:00 am – 9:30 am\n\nEvent Start\n10:00 am\n\nAwards\n4:30 pm 3rd Floor Base Box\n  \n2024 RESULTS
URL:https://www.madriverglen.com/calendar/friendly-freeski-competition-3/
CATEGORIES:Freeski
ATTACH;FMTTYPE=image/jpeg:https://www.madriverglen.com/wp-content/uploads/2023/07/20230305_kiedaisch_1006_S-e1734884560531.jpg
END:VEVENT
BEGIN:VEVENT
DTSTART;TZID=America/New_York:20250330T103000
DTEND;TZID=America/New_York:20250330T123000
DTSTAMP:20260423T003801
CREATED:20241217T145422Z
LAST-MODIFIED:20250330T114735Z
UID:10000625-1743330600-1743337800@www.madriverglen.com
SUMMARY:Naturalist Guided Snowshoe Tours
DESCRIPTION:Every Saturday and Sunday at 10:30 am Join one of Mad River Glen’s Naturalists for a guided snowshoe trek tailored to your interest in the ecology and wildlife of Stark Mountain! Our outings and content vary each week depending on snow conditions and participants. Learn about the hardwood forests of the Green Mountains as well as our resident moose\, bear\, deer\, fisher\, coyote\, red fox and more! Easy to moderate difficulty. Click here to Request A Reservation today or click here to learn more about our Naturalist Programs. \n\n\n 
URL:https://www.madriverglen.com/calendar/naturalist-guided-snowshoe-tours-3/2025-03-30/
ATTACH;FMTTYPE=image/jpeg:https://www.madriverglen.com/wp-content/uploads/2017/12/VT47MRG19EMB-1-e1734547842697.jpg
END:VEVENT
END:VCALENDAR