BEGIN:VCALENDAR
VERSION:2.0
PRODID:-//Mad River Glen, Vermont - ECPv6.15.17//NONSGML v1.0//EN
CALSCALE:GREGORIAN
METHOD:PUBLISH
X-WR-CALNAME:Mad River Glen, Vermont
X-ORIGINAL-URL:https://www.madriverglen.com
X-WR-CALDESC:Events for Mad River Glen, Vermont
REFRESH-INTERVAL;VALUE=DURATION:PT1H
X-Robots-Tag:noindex
X-PUBLISHED-TTL:PT1H
BEGIN:VTIMEZONE
TZID:America/New_York
BEGIN:DAYLIGHT
TZOFFSETFROM:-0500
TZOFFSETTO:-0400
TZNAME:EDT
DTSTART:20240310T070000
END:DAYLIGHT
BEGIN:STANDARD
TZOFFSETFROM:-0400
TZOFFSETTO:-0500
TZNAME:EST
DTSTART:20241103T060000
END:STANDARD
BEGIN:DAYLIGHT
TZOFFSETFROM:-0500
TZOFFSETTO:-0400
TZNAME:EDT
DTSTART:20250309T070000
END:DAYLIGHT
BEGIN:STANDARD
TZOFFSETFROM:-0400
TZOFFSETTO:-0500
TZNAME:EST
DTSTART:20251102T060000
END:STANDARD
BEGIN:DAYLIGHT
TZOFFSETFROM:-0500
TZOFFSETTO:-0400
TZNAME:EDT
DTSTART:20260308T070000
END:DAYLIGHT
BEGIN:STANDARD
TZOFFSETFROM:-0400
TZOFFSETTO:-0500
TZNAME:EST
DTSTART:20261101T060000
END:STANDARD
END:VTIMEZONE
BEGIN:VEVENT
DTSTART;VALUE=DATE:20250401
DTEND;VALUE=DATE:20250415
DTSTAMP:20260423T032714
CREATED:20250319T144015Z
LAST-MODIFIED:20250319T144101Z
UID:10000697-1743465600-1744675199@www.madriverglen.com
SUMMARY:Spring Sale on 2025/2026 Season Passes
DESCRIPTION:2025-2026 Season Passes go on sale April 1st through the 14th.\nFollowing the spring sale passes won’t be available to purchase again until they go on sale in the fall.\nIn order to maintain a unique\, uncrowded ski experience\, we have limited quantities of passes\, seasonal programs and Stark Mountain Cards available for sale. Please buy early\, once quantities are gone these products won’t be available again until next season. 
URL:https://www.madriverglen.com/calendar/spring-sale-on-season-passes/
ATTACH;FMTTYPE=image/jpeg:https://www.madriverglen.com/wp-content/uploads/2025/03/Jeb-powder-pics-011625-010-1-scaled-e1742395147961.jpg
END:VEVENT
BEGIN:VEVENT
DTSTART;TZID=America/New_York:20250403T160000
DTEND;TZID=America/New_York:20250403T190000
DTSTAMP:20260423T032714
CREATED:20250320T152436Z
LAST-MODIFIED:20250320T190054Z
UID:10000698-1743696000-1743706800@www.madriverglen.com
SUMMARY:MRSC Benefit Bake
DESCRIPTION:Help support the next generation of Mad River Glen rippers by joining us on Thursday\, April 3rd at American Flatbread for a Benefit Bake! A portion of all proceeds will go directly to the Mad River Glen Ski Club to help support athlete endeavors for both Race and Freeski. 
URL:https://www.madriverglen.com/calendar/mrsc-benefit-bake/
CATEGORIES:MRSC
ATTACH;FMTTYPE=image/jpeg:https://www.madriverglen.com/wp-content/uploads/2025/03/BenefitBakeMRSC_AmericanFlatbread2025-1-e1742484154593.jpg
END:VEVENT
BEGIN:VEVENT
DTSTART;TZID=America/New_York:20250404T143000
DTEND;TZID=America/New_York:20250404T170000
DTSTAMP:20260423T032714
CREATED:20241209T145702Z
LAST-MODIFIED:20250402T160708Z
UID:10000502-1743777000-1743786000@www.madriverglen.com
SUMMARY:Live Music Aprés in Stark's Pub
DESCRIPTION:Our live music series continues this season on Fridays\, après-ski\, from 2:30 to 5:00 PM! A huge thank you to our friends at Lawson’s Finest Liquids for supporting local musicians. Fridays throughout the ski season\, we’ll showcase a rotating lineup of talented local artists. Be sure to check out our event calendar for a full list of performances. Stark’s Pub is open daily during the winter ski season\, from 11:00 AM to 5:00 PM. Come join us for great music and good times!\n \nWinter Music Schedule: \n12.20 The Caleb Garby Trio \n01.03 Atom & the Orbits \n01.10 Straight Jacket Slumber Party \n01.17 Rob Pierce & Bob \n01.20 Brett Hughes & Lowell Thompson \n01.24 Madigan Linnane \n02.07 Fun Dip \n02.14 Local 28 \n02.28 Brett Hughes & Lowell Thompson \n03.07 John Lackard Trio \n03.14 Clint Bierman & Friends \n03.21 Jaded Ravins \n04.04 Brett Hughes & Lowell Thompson \n04.11 Dave O & Mike Schuster \nThanks to our friends at Lawson’s Finest Liquids for supporting local artists & good vibes year-round in Stark’s Pub. \n 
URL:https://www.madriverglen.com/calendar/live-music-apres-in-starks-pub-10/
CATEGORIES:Aprés
ATTACH;FMTTYPE=image/jpeg:https://www.madriverglen.com/wp-content/uploads/2024/12/Brett-Hughes.jpg
END:VEVENT
BEGIN:VEVENT
DTSTART;TZID=America/New_York:20250405T170000
DTEND;TZID=America/New_York:20250405T180000
DTSTAMP:20260423T032714
CREATED:20250219T194658Z
LAST-MODIFIED:20250405T210143Z
UID:10000354-1743872400-1743876000@www.madriverglen.com
SUMMARY:Co-op Annual Shareholder's Meeting
DESCRIPTION:MRG Co-op Shareholders ski free today!\n2025 Candidate Bios – Click Here \nThe annual meeting for the owners of America’s only skier-owned mountain. \nAll shareholders are encouraged to attend either in-person on the 3rd floor or watch a live stream via Google Meet. \nDon’t forget that it is also Shareholder Appreciation Day in the General Store when all Co-op Shareholders get 20% off of their purchases. \nShareholders\, please gather in front of the Basebox beginning at 4:45 for a new group photo.  \n  \nGoogle Meet Link
URL:https://www.madriverglen.com/calendar/co-op-annual-shareholders-meeting-2/
CATEGORIES:Co-Op
ATTACH;FMTTYPE=image/jpeg:https://www.madriverglen.com/wp-content/uploads/2023/07/2023-Shareholders-1-scaled-e1734547571950.jpg
END:VEVENT
BEGIN:VEVENT
DTSTART;TZID=America/New_York:20250406T083000
DTEND;TZID=America/New_York:20250406T160000
DTSTAMP:20260423T032714
CREATED:20250331T132358Z
LAST-MODIFIED:20250331T133623Z
UID:10000699-1743928200-1743955200@www.madriverglen.com
SUMMARY:Closing Day of the 2024/2025 Ski Season
DESCRIPTION:After 113 days we’re sad to see the ski season end\, but this isn’t goodbye\, it’s a SKI you later!
URL:https://www.madriverglen.com/calendar/closing-day-2/
ATTACH;FMTTYPE=image/jpeg:https://www.madriverglen.com/wp-content/uploads/2025/03/Closed-Midstation.jpeg
END:VEVENT
END:VCALENDAR