BEGIN:VCALENDAR
VERSION:2.0
PRODID:-//Mad River Glen, Vermont - ECPv6.15.17//NONSGML v1.0//EN
CALSCALE:GREGORIAN
METHOD:PUBLISH
X-ORIGINAL-URL:https://www.madriverglen.com
X-WR-CALDESC:Events for Mad River Glen, Vermont
REFRESH-INTERVAL;VALUE=DURATION:PT1H
X-Robots-Tag:noindex
X-PUBLISHED-TTL:PT1H
BEGIN:VTIMEZONE
TZID:America/New_York
BEGIN:DAYLIGHT
TZOFFSETFROM:-0500
TZOFFSETTO:-0400
TZNAME:EDT
DTSTART:20240310T070000
END:DAYLIGHT
BEGIN:STANDARD
TZOFFSETFROM:-0400
TZOFFSETTO:-0500
TZNAME:EST
DTSTART:20241103T060000
END:STANDARD
BEGIN:DAYLIGHT
TZOFFSETFROM:-0500
TZOFFSETTO:-0400
TZNAME:EDT
DTSTART:20250309T070000
END:DAYLIGHT
BEGIN:STANDARD
TZOFFSETFROM:-0400
TZOFFSETTO:-0500
TZNAME:EST
DTSTART:20251102T060000
END:STANDARD
BEGIN:DAYLIGHT
TZOFFSETFROM:-0500
TZOFFSETTO:-0400
TZNAME:EDT
DTSTART:20260308T070000
END:DAYLIGHT
BEGIN:STANDARD
TZOFFSETFROM:-0400
TZOFFSETTO:-0500
TZNAME:EST
DTSTART:20261101T060000
END:STANDARD
END:VTIMEZONE
BEGIN:VEVENT
DTSTART;TZID=America/New_York:20250716T170000
DTEND;TZID=America/New_York:20250716T200000
DTSTAMP:20260423T050247
CREATED:20250609T131456Z
LAST-MODIFIED:20250714T134916Z
UID:10000745-1752685200-1752696000@www.madriverglen.com
SUMMARY:Live Music in Stark's Pub
DESCRIPTION:Stark’s Pub offers a one-of-a-kind family dining experience you won’t find anywhere else in the Mad River Valley. Open daily during the ski season from 11:00 AM to 5:30 PM whenever the mountain is running\, and throughout the summer—from Memorial Day through peak foliage in October—Stark’s Pub serves dinner Wednesday through Saturday from 4:30 to 8:30 PM. \n \nIn the warmer months\, enjoy stunning mountain views while dining al fresco on the deck or from the comfort of the cozy indoor seating. The atmosphere is relaxed and family-friendly\, with yard games to entertain kids and miles of scenic hiking trails just steps from your table. \nWhether you’re winding down after a day on the slopes or hiking in the Green Mountains\, Stark’s Pub is the perfect spot to refuel and reconnect. Don’t miss our live music performances—après-ski in the winter and on Wednesday summer evenings. For a full schedule of musical guests\, visit our event calendar. \nA special thanks to our friends at Lawson’s Finest Liquids for helping us support local artists and keep the good vibes going all year long at Stark’s Pub.
URL:https://www.madriverglen.com/calendar/live-music-in-starks-pub-26/
ATTACH;FMTTYPE=image/jpeg:https://www.madriverglen.com/wp-content/uploads/2025/06/Seth-Yacovone.jpg
END:VEVENT
BEGIN:VEVENT
DTSTART;TZID=America/New_York:20250719T090000
DTEND;TZID=America/New_York:20250719T100000
DTSTAMP:20260423T050247
CREATED:20250603T144413Z
LAST-MODIFIED:20250902T122230Z
UID:10000735-1752915600-1752919200@www.madriverglen.com
SUMMARY:Yoga with Emma Delphin
DESCRIPTION:Join Emma for yoga classes that are equal parts grounding\, strengthening\, and relaxing—always with a sense of humor and a gentle reminder to do what feels right for your body. Whether you’re a seasoned yogi or just stretching your way into summer\, Emma will guide you with breath-focused cues and alignment tips that help you feel more centered. Surrounded by the beauty of summer at MRG\, you’ll leave class feeling physically at ease and mentally refreshed. \nEmma brings over a decade of teaching experience and holds both 200- and 300-hour yoga teacher certifications\, plus additional training in Barre and Pilates. Originally from the coast of Massachusetts\, she now lives in Huntington with her partner and their extremely cute dog\, Fernand (aka Fernie). When she’s not teaching or pouring drinks at Stark’s Pub\, you’ll find her hiking in the woods\, skiing\, or enjoying time with friends. \nClass Details: \n\n\nDrop-in: $10 (cash or Venmo preferred) \n\n\nWhat to bring: A mat or towel if you have one—some mats and blocks will be available to borrow \n\n\nWeather dependent: Check social media or email Emma at Emma.Delphin@gmail.com for updates or questions
URL:https://www.madriverglen.com/calendar/yoga-with-emma-delphin/2025-07-19/
ATTACH;FMTTYPE=image/jpeg:https://www.madriverglen.com/wp-content/uploads/2025/06/IMG_2695-e1748961523396.jpeg
END:VEVENT
BEGIN:VEVENT
DTSTART;TZID=America/New_York:20250720T120000
DTEND;TZID=America/New_York:20250720T150000
DTSTAMP:20260423T050247
CREATED:20250714T140947Z
LAST-MODIFIED:20250714T172602Z
UID:10000748-1753012800-1753023600@www.madriverglen.com
SUMMARY:Live Music by Cedar
DESCRIPTION:Join us for a Sunday afternoon of live music at Mad River Glen with Cedar! Cedar brings an original mix of experimental\, instrumental\, jazz-funky jams that’ll get your feet moving. If the weather cooperates the band will set up on the deck of the Basebox. We’ll have yard games set out for your enjoyment and encourage you to bring towels and folding chairs to create a micro-music festival scene! The Mad Shack will also be open to serve food and cold beverages including beer\, wine and non-alcoholic options. In the event we encounter less-than-ideal weather conditions the band will setup indoors. Come up to the mountain and boogie down\, rain or shine! \nMore info about Cedar can be found by visiting their Facebook page; \nhttps://www.facebook.com/wendigobandVT/about
URL:https://www.madriverglen.com/calendar/live-music-by-cedar/
ATTACH;FMTTYPE=image/jpeg:https://www.madriverglen.com/wp-content/uploads/2025/07/cedar.jpg
END:VEVENT
END:VCALENDAR