BEGIN:VCALENDAR
VERSION:2.0
PRODID:-//Mad River Glen, Vermont - ECPv6.15.17//NONSGML v1.0//EN
CALSCALE:GREGORIAN
METHOD:PUBLISH
X-WR-CALNAME:Mad River Glen, Vermont
X-ORIGINAL-URL:https://www.madriverglen.com
X-WR-CALDESC:Events for Mad River Glen, Vermont
REFRESH-INTERVAL;VALUE=DURATION:PT1H
X-Robots-Tag:noindex
X-PUBLISHED-TTL:PT1H
BEGIN:VTIMEZONE
TZID:America/New_York
BEGIN:DAYLIGHT
TZOFFSETFROM:-0500
TZOFFSETTO:-0400
TZNAME:EDT
DTSTART:20240310T070000
END:DAYLIGHT
BEGIN:STANDARD
TZOFFSETFROM:-0400
TZOFFSETTO:-0500
TZNAME:EST
DTSTART:20241103T060000
END:STANDARD
BEGIN:DAYLIGHT
TZOFFSETFROM:-0500
TZOFFSETTO:-0400
TZNAME:EDT
DTSTART:20250309T070000
END:DAYLIGHT
BEGIN:STANDARD
TZOFFSETFROM:-0400
TZOFFSETTO:-0500
TZNAME:EST
DTSTART:20251102T060000
END:STANDARD
BEGIN:DAYLIGHT
TZOFFSETFROM:-0500
TZOFFSETTO:-0400
TZNAME:EDT
DTSTART:20260308T070000
END:DAYLIGHT
BEGIN:STANDARD
TZOFFSETFROM:-0400
TZOFFSETTO:-0500
TZNAME:EST
DTSTART:20261101T060000
END:STANDARD
END:VTIMEZONE
BEGIN:VEVENT
DTSTART;TZID=America/New_York:20250723T170000
DTEND;TZID=America/New_York:20250723T200000
DTSTAMP:20260423T075120
CREATED:20250528T151325Z
LAST-MODIFIED:20250528T151325Z
UID:10000728-1753290000-1753300800@www.madriverglen.com
SUMMARY:Live Music in Stark's Pub
DESCRIPTION:Stark’s Pub offers a one-of-a-kind family dining experience you won’t find anywhere else in the Mad River Valley. Open daily during the ski season from 11:00 AM to 5:30 PM whenever the mountain is running\, and throughout the summer—from Memorial Day through peak foliage in October—Stark’s Pub serves dinner Wednesday through Saturday from 4:30 to 8:30 PM. \n \nIn the warmer months\, enjoy stunning mountain views while dining al fresco on the deck or from the comfort of the cozy indoor seating. The atmosphere is relaxed and family-friendly\, with yard games to entertain kids and miles of scenic hiking trails just steps from your table. \nWhether you’re winding down after a day on the slopes or hiking in the Green Mountains\, Stark’s Pub is the perfect spot to refuel and reconnect. Don’t miss our live music performances—après-ski in the winter and on Wednesday summer evenings. For a full schedule of musical guests\, visit our event calendar. \nA special thanks to our friends at Lawson’s Finest Liquids for helping us support local artists and keep the good vibes going all year long at Stark’s Pub.
URL:https://www.madriverglen.com/calendar/live-music-in-starks-pub-21/
ATTACH;FMTTYPE=image/jpeg:https://www.madriverglen.com/wp-content/uploads/2024/06/Ragged-Company-e1748445196176.jpg
END:VEVENT
BEGIN:VEVENT
DTSTART;TZID=America/New_York:20250726T090000
DTEND;TZID=America/New_York:20250726T100000
DTSTAMP:20260423T075120
CREATED:20250603T144413Z
LAST-MODIFIED:20250902T122230Z
UID:10000736-1753520400-1753524000@www.madriverglen.com
SUMMARY:Yoga with Emma Delphin
DESCRIPTION:Join Emma for yoga classes that are equal parts grounding\, strengthening\, and relaxing—always with a sense of humor and a gentle reminder to do what feels right for your body. Whether you’re a seasoned yogi or just stretching your way into summer\, Emma will guide you with breath-focused cues and alignment tips that help you feel more centered. Surrounded by the beauty of summer at MRG\, you’ll leave class feeling physically at ease and mentally refreshed. \nEmma brings over a decade of teaching experience and holds both 200- and 300-hour yoga teacher certifications\, plus additional training in Barre and Pilates. Originally from the coast of Massachusetts\, she now lives in Huntington with her partner and their extremely cute dog\, Fernand (aka Fernie). When she’s not teaching or pouring drinks at Stark’s Pub\, you’ll find her hiking in the woods\, skiing\, or enjoying time with friends. \nClass Details: \n\n\nDrop-in: $10 (cash or Venmo preferred) \n\n\nWhat to bring: A mat or towel if you have one—some mats and blocks will be available to borrow \n\n\nWeather dependent: Check social media or email Emma at Emma.Delphin@gmail.com for updates or questions
URL:https://www.madriverglen.com/calendar/yoga-with-emma-delphin/2025-07-26/
ATTACH;FMTTYPE=image/jpeg:https://www.madriverglen.com/wp-content/uploads/2025/06/IMG_2695-e1748961523396.jpeg
END:VEVENT
BEGIN:VEVENT
DTSTART;TZID=America/New_York:20250726T140000
DTEND;TZID=America/New_York:20250726T160000
DTSTAMP:20260423T075120
CREATED:20250512T155427Z
LAST-MODIFIED:20250518T154630Z
UID:10000718-1753538400-1753545600@www.madriverglen.com
SUMMARY:Guided Naturalist Hikes
DESCRIPTION:The Stark Mountain Foundation is excited to announce a new series of free\, family-friendly naturalist hikes on Stark Mountain\, led by Vermont Master Naturalist Gene O. Desideraggio. These guided hikes offer a unique opportunity to explore the mountain’s diverse ecosystems throughout the changing seasons. From vibrant spring wildflowers to the brilliant colors of fall foliage\, participants will immerse themselves in the natural beauty of the Green Mountains. Along the way\, Gene will help hikers discover signs of wildlife\, listen for bird calls echoing through the forest\, spot animal tracks on the trail\, or even find a well-worn bear tree. \nAfter each hike\, participants are invited to unwind at the Mad River Glen Stark’s Pub\, where they can grab a bite or a drink and enjoy the stunning mountain views. \nThe hikes are free\, but registration is required and space is limited. We kindly ask that participants register when they are confident they can attend. \nTo register or learn more\, visit bit.ly/NatureHikes2025 \n\nAges: 5+ (Accompanied by a supervising adult)\nCost: Free\nWhen: 2:00 to 4:00 PM on the last Saturday of every month: May 31\, June 28\, July 26\, August 30\, September 27\, and October 25\nMeeting Spot: Flagpole in front of the Basebox\nDuration: Approximately 2 hours depending on the pace of the group\nWhat to Bring: Hat\, sunglasses\, water\, snacks\, sunscreen\, bug spray\, raincoat\, sturdy\nPlease note that restrooms won’t be available until after the hike.
URL:https://www.madriverglen.com/calendar/guided-naturalist-hikes/2025-07-26/
CATEGORIES:Stark Mountain Foundation
ATTACH;FMTTYPE=image/jpeg:https://www.madriverglen.com/wp-content/uploads/2025/05/IMG_3924-scaled-e1747583181508.jpg
END:VEVENT
END:VCALENDAR