BEGIN:VCALENDAR
VERSION:2.0
PRODID:-//Mad River Glen, Vermont - ECPv6.15.17//NONSGML v1.0//EN
CALSCALE:GREGORIAN
METHOD:PUBLISH
X-ORIGINAL-URL:https://www.madriverglen.com
X-WR-CALDESC:Events for Mad River Glen, Vermont
REFRESH-INTERVAL;VALUE=DURATION:PT1H
X-Robots-Tag:noindex
X-PUBLISHED-TTL:PT1H
BEGIN:VTIMEZONE
TZID:America/New_York
BEGIN:DAYLIGHT
TZOFFSETFROM:-0500
TZOFFSETTO:-0400
TZNAME:EDT
DTSTART:20240310T070000
END:DAYLIGHT
BEGIN:STANDARD
TZOFFSETFROM:-0400
TZOFFSETTO:-0500
TZNAME:EST
DTSTART:20241103T060000
END:STANDARD
BEGIN:DAYLIGHT
TZOFFSETFROM:-0500
TZOFFSETTO:-0400
TZNAME:EDT
DTSTART:20250309T070000
END:DAYLIGHT
BEGIN:STANDARD
TZOFFSETFROM:-0400
TZOFFSETTO:-0500
TZNAME:EST
DTSTART:20251102T060000
END:STANDARD
BEGIN:DAYLIGHT
TZOFFSETFROM:-0500
TZOFFSETTO:-0400
TZNAME:EDT
DTSTART:20260308T070000
END:DAYLIGHT
BEGIN:STANDARD
TZOFFSETFROM:-0400
TZOFFSETTO:-0500
TZNAME:EST
DTSTART:20261101T060000
END:STANDARD
END:VTIMEZONE
BEGIN:VEVENT
DTSTART;VALUE=DATE:20250902
DTEND;VALUE=DATE:20250903
DTSTAMP:20260423T145618
CREATED:20250813T142842Z
LAST-MODIFIED:20250813T142842Z
UID:10000763-1756771200-1756857599@www.madriverglen.com
SUMMARY:Fall Sale on 2025/2026 Season Passes\, Stark Mountain Cards & Kids' Programs
DESCRIPTION:2025-2026 Season Passes\, Stark Mountain Cards & Seasonal Kids’ Programs are on sale September 2nd through 30th. \nThese products will be available until they sell out\, with prices increasing following September 30th. Stark Mountain Cards are available until the September 30th deadline or until they’re sold out – whichever comes first. \nIn order to maintain a unique\, uncrowded ski experience\, we have limited quantities of season passes\, seasonal kids’ programs and Stark Mountain Cards available for sale. Please buy early\, once quantities are gone these products won’t be available again until next season.
URL:https://www.madriverglen.com/calendar/fall-sale-on-2025-2026-season-passes-stark-mountain-cards-kids-programs/
ATTACH;FMTTYPE=image/jpeg:https://www.madriverglen.com/wp-content/uploads/2025/07/powder-single-thumbs-up-1-scaled-e1755095157186.jpg
END:VEVENT
BEGIN:VEVENT
DTSTART;TZID=America/New_York:20250903T170000
DTEND;TZID=America/New_York:20250903T200000
DTSTAMP:20260423T145618
CREATED:20250715T152512Z
LAST-MODIFIED:20250723T175825Z
UID:10000759-1756918800-1756929600@www.madriverglen.com
SUMMARY:Live Music in Stark's Pub
DESCRIPTION:Stark’s Pub offers a one-of-a-kind family dining experience you won’t find anywhere else in the Mad River Valley. Open daily during the ski season from 11:00 AM to 5:30 PM whenever the mountain is running\, and throughout the summer—from Memorial Day through peak foliage in October—Stark’s Pub serves dinner Wednesday through Saturday from 4:30 to 8:30 PM. \n \nIn the warmer months\, enjoy stunning mountain views while dining al fresco on the deck or from the comfort of the cozy indoor seating. The atmosphere is relaxed and family-friendly\, with yard games to entertain kids and miles of scenic hiking trails just steps from your table. \nWhether you’re winding down after a day on the slopes or hiking in the Green Mountains\, Stark’s Pub is the perfect spot to refuel and reconnect. Don’t miss our live music performances—après-ski in the winter and on Wednesday summer evenings. For a full schedule of musical guests\, visit our event calendar. \nA special thanks to our friends at Lawson’s Finest Liquids for helping us support local artists and keep the good vibes going all year long at Stark’s Pub.
URL:https://www.madriverglen.com/calendar/live-music-in-starks-pub-32/
ATTACH;FMTTYPE=image/jpeg:https://www.madriverglen.com/wp-content/uploads/2025/07/the-tenderbellies.jpg
END:VEVENT
END:VCALENDAR