BEGIN:VCALENDAR
VERSION:2.0
PRODID:-//Mad River Glen, Vermont - ECPv6.15.17//NONSGML v1.0//EN
CALSCALE:GREGORIAN
METHOD:PUBLISH
X-WR-CALNAME:Mad River Glen, Vermont
X-ORIGINAL-URL:https://www.madriverglen.com
X-WR-CALDESC:Events for Mad River Glen, Vermont
REFRESH-INTERVAL;VALUE=DURATION:PT1H
X-Robots-Tag:noindex
X-PUBLISHED-TTL:PT1H
BEGIN:VTIMEZONE
TZID:America/New_York
BEGIN:DAYLIGHT
TZOFFSETFROM:-0500
TZOFFSETTO:-0400
TZNAME:EDT
DTSTART:20240310T070000
END:DAYLIGHT
BEGIN:STANDARD
TZOFFSETFROM:-0400
TZOFFSETTO:-0500
TZNAME:EST
DTSTART:20241103T060000
END:STANDARD
BEGIN:DAYLIGHT
TZOFFSETFROM:-0500
TZOFFSETTO:-0400
TZNAME:EDT
DTSTART:20250309T070000
END:DAYLIGHT
BEGIN:STANDARD
TZOFFSETFROM:-0400
TZOFFSETTO:-0500
TZNAME:EST
DTSTART:20251102T060000
END:STANDARD
BEGIN:DAYLIGHT
TZOFFSETFROM:-0500
TZOFFSETTO:-0400
TZNAME:EDT
DTSTART:20260308T070000
END:DAYLIGHT
BEGIN:STANDARD
TZOFFSETFROM:-0400
TZOFFSETTO:-0500
TZNAME:EST
DTSTART:20261101T060000
END:STANDARD
END:VTIMEZONE
BEGIN:VEVENT
DTSTART;VALUE=DATE:20250930
DTEND;VALUE=DATE:20251001
DTSTAMP:20260423T200420
CREATED:20250226T184851Z
LAST-MODIFIED:20250226T184851Z
UID:10000126-1759190400-1759276799@www.madriverglen.com
SUMMARY:Fall Sales Deadline Day
DESCRIPTION:Today is the deadline for the best deals on Season Passes\, Stark Mountain Cards and Kids’ Seasonal Programs. September 30th also marks the fiscal year for the Co-op\, APR is due and Mad Money from the previous season expires. \n*Please note that Stark Mountain Cards are NOT available to purchase following the September 30th deadline.
URL:https://www.madriverglen.com/calendar/fall-sales-deadline-day-3/
CATEGORIES:Co-Op
ATTACH;FMTTYPE=image/jpeg:https://www.madriverglen.com/wp-content/uploads/2023/07/I9A1051-scaled-e1740595714721.jpg
END:VEVENT
BEGIN:VEVENT
DTSTART;TZID=America/New_York:20251001T170000
DTEND;TZID=America/New_York:20251001T200000
DTSTAMP:20260423T200420
CREATED:20250528T155029Z
LAST-MODIFIED:20250528T155029Z
UID:10000732-1759338000-1759348800@www.madriverglen.com
SUMMARY:Live Music in Stark's Pub
DESCRIPTION:Stark’s Pub offers a one-of-a-kind family dining experience you won’t find anywhere else in the Mad River Valley. Open daily during the ski season from 11:00 AM to 5:30 PM whenever the mountain is running\, and throughout the summer—from Memorial Day through peak foliage in October—Stark’s Pub serves dinner Wednesday through Saturday from 4:30 to 8:30 PM. \n \nIn the warmer months\, enjoy stunning mountain views while dining al fresco on the deck or from the comfort of the cozy indoor seating. The atmosphere is relaxed and family-friendly\, with yard games to entertain kids and miles of scenic hiking trails just steps from your table. \nWhether you’re winding down after a day on the slopes or hiking in the Green Mountains\, Stark’s Pub is the perfect spot to refuel and reconnect. Don’t miss our live music performances—après-ski in the winter and on Wednesday summer evenings. For a full schedule of musical guests\, visit our event calendar. \nA special thanks to our friends at Lawson’s Finest Liquids for helping us support local artists and keep the good vibes going all year long at Stark’s Pub.
URL:https://www.madriverglen.com/calendar/live-music-in-starks-pub-25/
ATTACH;FMTTYPE=image/jpeg:https://www.madriverglen.com/wp-content/uploads/2025/05/EASY-STREET-POSTER.jpg
END:VEVENT
BEGIN:VEVENT
DTSTART;TZID=America/New_York:20251004T090000
DTEND;TZID=America/New_York:20251004T160000
DTSTAMP:20260423T200420
CREATED:20250714T184433Z
LAST-MODIFIED:20250714T184528Z
UID:10000753-1759568400-1759593600@www.madriverglen.com
SUMMARY:Volunteer Mountain Work Day
DESCRIPTION:Volunteer Mountain Work Days will once again utilize pre-registration and limit the total group size. Space is extremely limited\, don’t wait\, register online! \nEvents will be confirmed by 6:00 pm the day prior via the contact email provided. A wait list will be maintained with open slots filled by 6:00 pm the day prior. \nAny minors that register must be at least 12 years of age\, accompanied by their legal guardian/parent throughout the day\, no dogs or swinging tools (hatchet\, axe\, maul) are allowed. \n  \nGeneral information:  The purpose of Volunteer Mountain Work Days is the maintenance of MRG’s legendary tree skiing and regeneration zones in our mountain forest. This involves cutting lines as well as setting aside areas for new trees to grow. Everything is done with hand tools. Work days are organized and led by Lars Bruns in consultation with ski area management. Volunteer Mountain Work Days are a great chance to get out on the mountain\, care for your favorite terrain\, and learn about how northeastern mountain forests grow. It is hard work\, but also fun and satisfying to see a ski line take shape\, and how trees will grow in response to care. \nWe welcome both experienced veterans and newcomers to the mountain work days. Each person who works a full day receives a complimentary day pass voucher for each day she or he works. \nSummer/Fall 2025 Schedule \n\nAugust 23rd\nSeptember 27th\nOctober 4th\nOctober 11th\n\n  \nLogistics \n  \n\nReport at 9:00 am at the Cricket Club picnic table.  We’re back down at 3:30 – 4:00 pm.\nMost of the time we hike from the base\, so be physically fit and prepared to hike the mountain top to bottom.\nMost days are held rain or shine – Working in the rain is fun!\nBring work gloves\, hiking boots\, drinks & lunch.\nLoppers are the most useful tool to bring. Make sure they are in good working order.\nWork days navigate our gnarly terrain; no dogs or kids under 12 please. Minors under the age of 18 must register and be accompanied by a parent or legal guardian.\n\nThe incidence of Lyme Disease is increasing rapidly in Vermont. This disease is debilitating and hard to get rid of. More Info on how to protect yourself while thrashing around the woods of Stark Mountain. \nThe following tools are not allowed: All power tools such as chain saws\, and swinging tools such as hatchets or axes. \nOutfitting for Rain Events: \n\nOuter layer – The primary function is to hold in heat\, as well as keep water out for as long as possible.\n\nGoretex shell or other rainwear\nWaterproof pant shell – old ski pants work well\nWaterproof gaiters (Goretex)\nWaterproof boots beforehand\nBrimmed synthetic hat and fleece hat\nIf the weather is warm\, then staying warm is not a problem. Fast-drying shorts\, gaiters\, and a rain shell may be sufficient.\n\n\nInner layers – No cotton – must keep one warm when wet.\n\nWool or synthetic shirt and long underwear\nFleece\nWool socks\nThin windbreaker underneath the shell to hold even more heat in\n\n\nOther Tips\n\nPut dry (synthetic) clothing in a garbage bag\nBring a second synthetic inner layer shirt (in the garbage bag) to change into at lunch\nPut first aid kit in a waterproof bag\nA thermos of hot tea or soup. Caffeine constricts capillaries and should be avoided\nBring backup gloves. Cold hands will not warm up in wet gloves
URL:https://www.madriverglen.com/calendar/volunteer-mountain-work-day-8/2025-10-04/
ATTACH;FMTTYPE=image/jpeg:https://www.madriverglen.com/wp-content/uploads/2023/08/IMG_8570-e1752518721531.jpg
END:VEVENT
BEGIN:VEVENT
DTSTART;TZID=America/New_York:20251004T093000
DTEND;TZID=America/New_York:20251004T203000
DTSTAMP:20260423T200420
CREATED:20250226T191653Z
LAST-MODIFIED:20250910T132130Z
UID:10000685-1759570200-1759609800@www.madriverglen.com
SUMMARY:Green & Gold Weekend
DESCRIPTION:Foliage lift rides are available on America’s favorite Single Chair both Saturday and Sunday\, first chair up is at 10 AM and the last chair is loaded at 2:30 PM. Foliage lift ride tickets are good for a round trip from base to summit and back down again\, the cost is $20 for adults and $15 for juniors and seniors (free for season pass holders). Foliage lift ride tickets can be purchased in person at the ticket window. Stark’s Pub\, the General Store and Ticket Booth will all be open\, please see our operational hours listed below. \nStark’s Pub: Lunch & Dinner 11:00 AM – 8:30 PM (Dinner service begins at 4:30) \nMad Shack: 10:00 AM – 1:00 PM \nLift Operations: 10:00 AM – 2:30 PM \nGeneral Store: 9:30 AM – 4:00 PM \nTicket Office: 9:30 AM – 3:00 PM \nSaturday events: \nSymbol of the Sun: Raptors and Us 11:00 AM – 1:00 PM (3rd floor) \nMRG Homeowner’s Meeting 2:30 PM – 4:00 PM (3rd floor) \nCo-op Shareholder’s Town Meeting 5:00 – 6:00 PM (3rd floor and via Zoom)
URL:https://www.madriverglen.com/calendar/green-gold-weekend-5/
CATEGORIES:Co-Op
ATTACH;FMTTYPE=image/jpeg:https://www.madriverglen.com/wp-content/uploads/2023/07/1E7A1462-scaled-e1740597405145.jpg
END:VEVENT
BEGIN:VEVENT
DTSTART;TZID=America/New_York:20251004T110000
DTEND;TZID=America/New_York:20251004T130000
DTSTAMP:20260423T200420
CREATED:20250909T152824Z
LAST-MODIFIED:20250909T153046Z
UID:10000778-1759575600-1759582800@www.madriverglen.com
SUMMARY:Symbols of the Sun: Raptors & Us
DESCRIPTION:At 11:00 AM on Saturday\, October 4\, SMF proudly sponsors Symbols of the Sun\, an interactive slideshow and discussion led by the Vermont Museum of Natural History. \nAccompanied by two live birds of prey\, the presenter will illuminate the relationship between humans and birds of prey that has evolved over thousands of years. It will help you see what our ancestors saw as they watched these magnificent predators. \nPerfect for families\, this presentation runs from 11:00 – 1:00 PM in the Basebox. \nThe event is free but we kindly ask that you register ahead of time by clicking here.
URL:https://www.madriverglen.com/calendar/symbols-of-the-sun-raptors-us/
CATEGORIES:Stark Mountain Foundation
ATTACH;FMTTYPE=image/png:https://www.madriverglen.com/wp-content/uploads/2025/09/Screenshot-2025-09-09-at-11.23.24-AM-scaled-e1757431452614.png
END:VEVENT
BEGIN:VEVENT
DTSTART;TZID=America/New_York:20251004T130000
DTEND;TZID=America/New_York:20251004T160000
DTSTAMP:20260423T200420
CREATED:20250909T153513Z
LAST-MODIFIED:20250909T153902Z
UID:10000779-1759582800-1759593600@www.madriverglen.com
SUMMARY:Naturalist (Downhill) Hike
DESCRIPTION:Join us for a free guided hike starting at the top of Stark Mountain with naturalist Gene O. Desideraggio from 1:00 – 4:00 PM. \nUse the lift or hike to the summit to join the group. If using the lift\, we recommend leaving the base area no later than 12:40. If hiking\, start no later than 11:30 AM. \nDetails:\n• Meeting Spot:\nThe deck of the Stark’s Nest at the Top of MRG’s\nSingle Chair\n• Duration: ~3 hours\n• Fairly strenuous \nWhat to Bring:\n• Hat & sunglasses\n• Water & snacks\n• Sunscreen & bug spray\n• Raincoat\n• Sturdy shoes\n• Please do not bring your pet \nWalking/hiking sticks are highly recommended. \nThis free hike is by registration only: Click Here
URL:https://www.madriverglen.com/calendar/naturalist-downhill-hike/
CATEGORIES:Stark Mountain Foundation
ATTACH;FMTTYPE=image/jpeg:https://www.madriverglen.com/wp-content/uploads/2025/09/Eric-Friedman-Stark-Mountain-Trail-summer-hike-JEB-1-scaled-e1757432335815.jpg
END:VEVENT
BEGIN:VEVENT
DTSTART;TZID=America/New_York:20251004T170000
DTEND;TZID=America/New_York:20251004T180000
DTSTAMP:20260423T200420
CREATED:20250903T181926Z
LAST-MODIFIED:20250903T181926Z
UID:10000765-1759597200-1759600800@www.madriverglen.com
SUMMARY:Co-op Shareholder Town Hall
DESCRIPTION:Annual Town Hall meeting for the owners of America’s only skier-owned mountain. \nAll shareholders are encouraged to attend either in-person on the 3rd floor or watch a live stream via Google Meet. \nGoogle Meet Link
URL:https://www.madriverglen.com/calendar/co-op-shareholder-town-hall/
CATEGORIES:Co-Op
ATTACH;FMTTYPE=image/jpeg:https://www.madriverglen.com/wp-content/uploads/2025/09/Shareholders-meeting-scaled-e1756923365601.jpg
END:VEVENT
BEGIN:VEVENT
DTSTART;VALUE=DATE:20251005
DTEND;VALUE=DATE:20251006
DTSTAMP:20260423T200420
CREATED:20250226T191748Z
LAST-MODIFIED:20250806T162957Z
UID:10000686-1759622400-1759708799@www.madriverglen.com
SUMMARY:Green & Gold Weekend
DESCRIPTION:Foliage lift rides are available on America’s favorite Single Chair both Saturday and Sunday\, first chair up is at 10 AM and the last chair is loaded at 2:30 PM. Foliage lift ride tickets are good for a round trip from base to summit and back down again\, the cost is $20 for adults and $15 for juniors and seniors (free for season pass holders). Foliage lift ride tickets can be purchased in person at the ticket window. Stark’s Pub\, the General Store and Ticket Booth will all be open\, please see our operational hours listed below. \nStark’s Pub: Lunch & Chicken BBQ 11:00 AM  – 6:00 PM \nMad Shack: Closed \nLift Operations: 10:00 AM – 2:30 PM \nGeneral Store: 9:30 AM – 4:00 PM \nTicket Office: 9:30 AM – 3:00 PM \nSunday events: \nAllen Clark Memorial Hill Climb at 9:00 AM – 11:30 AM
URL:https://www.madriverglen.com/calendar/green-gold-weekend-6/
ATTACH;FMTTYPE=image/jpeg:https://www.madriverglen.com/wp-content/uploads/2023/07/0I9A7353-scaled-e1740597461789.jpg
END:VEVENT
BEGIN:VEVENT
DTSTART;TZID=America/New_York:20251005T100000
DTEND;TZID=America/New_York:20251005T120000
DTSTAMP:20260423T200420
CREATED:20250910T133045Z
LAST-MODIFIED:20250910T133045Z
UID:10000781-1759658400-1759665600@www.madriverglen.com
SUMMARY:Allen Clark Hill Climb
DESCRIPTION:The Allen Clark Memorial Hill Climb — the annual grunt-fest that has fast become a rite of cycling passage in the Mad River Valley — is a grueling time trial that rises 1\,600 vertical feet in 6.2 miles\, from the intersection of Routes 100 and 17 to the top of Appalachian Gap. \nThe event is named in honor of long-time Mad River Valley resident\, Allen Clark. An avid cyclist who took up biking late in life\, he rode 2\,500-3\,000 annually in Vermont. Allen especially loved the challenge of the Appalachian Gap. This event is a tribute to Allen’s life and a fundraiser for Vermont Adaptive Ski & Sports\, an organization that meant a great deal to him. \nAwards at approximately 11:30 – 12:00 PM. \nLearn more about Allen Clark \nRegister for the race
URL:https://www.madriverglen.com/calendar/allen-clark-hill-climb-2/
ATTACH;FMTTYPE=image/png:https://www.madriverglen.com/wp-content/uploads/2023/09/Screenshot-2023-09-14-at-9.48.37-AM.png
END:VEVENT
BEGIN:VEVENT
DTSTART;TZID=America/New_York:20251005T110000
DTEND;TZID=America/New_York:20251005T140000
DTSTAMP:20260423T200420
CREATED:20250910T132345Z
LAST-MODIFIED:20250910T132807Z
UID:10000780-1759662000-1759672800@www.madriverglen.com
SUMMARY:Chicken BBQ
DESCRIPTION:A Green & Gold weekend tradition here at Mad River Glen. Come up for foliage rides and then kick back to enjoy a fresh off the coals backyard chicken barbecue. Quantities are limited\, first come\, first served – while supplies last.
URL:https://www.madriverglen.com/calendar/chicken-bbq/
ATTACH;FMTTYPE=image/png:https://www.madriverglen.com/wp-content/uploads/2025/09/Screenshot-2025-09-10-at-9.12.49-AM-e1757510026448.png
END:VEVENT
BEGIN:VEVENT
DTSTART;TZID=America/New_York:20251005T120000
DTEND;TZID=America/New_York:20251005T150000
DTSTAMP:20260423T200420
CREATED:20250930T143256Z
LAST-MODIFIED:20250930T143256Z
UID:10000783-1759665600-1759676400@www.madriverglen.com
SUMMARY:Live Music by Cedar
DESCRIPTION:Join us for a Sunday afternoon of live music at Mad River Glen with Cedar! Cedar brings an original mix of experimental\, instrumental\, jazz-funky jams that’ll get your feet moving. Come up and boogie down! \nMore info about Cedar can be found by visiting their Facebook page; \nhttps://www.facebook.com/wendigobandVT/about
URL:https://www.madriverglen.com/calendar/live-music-by-cedar-2/
ATTACH;FMTTYPE=image/jpeg:https://www.madriverglen.com/wp-content/uploads/2025/07/cedar.jpg
END:VEVENT
END:VCALENDAR