BEGIN:VCALENDAR
VERSION:2.0
PRODID:-//Mad River Glen, Vermont - ECPv6.15.17//NONSGML v1.0//EN
CALSCALE:GREGORIAN
METHOD:PUBLISH
X-ORIGINAL-URL:https://www.madriverglen.com
X-WR-CALDESC:Events for Mad River Glen, Vermont
REFRESH-INTERVAL;VALUE=DURATION:PT1H
X-Robots-Tag:noindex
X-PUBLISHED-TTL:PT1H
BEGIN:VTIMEZONE
TZID:America/New_York
BEGIN:DAYLIGHT
TZOFFSETFROM:-0500
TZOFFSETTO:-0400
TZNAME:EDT
DTSTART:20240310T070000
END:DAYLIGHT
BEGIN:STANDARD
TZOFFSETFROM:-0400
TZOFFSETTO:-0500
TZNAME:EST
DTSTART:20241103T060000
END:STANDARD
BEGIN:DAYLIGHT
TZOFFSETFROM:-0500
TZOFFSETTO:-0400
TZNAME:EDT
DTSTART:20250309T070000
END:DAYLIGHT
BEGIN:STANDARD
TZOFFSETFROM:-0400
TZOFFSETTO:-0500
TZNAME:EST
DTSTART:20251102T060000
END:STANDARD
BEGIN:DAYLIGHT
TZOFFSETFROM:-0500
TZOFFSETTO:-0400
TZNAME:EDT
DTSTART:20260308T070000
END:DAYLIGHT
BEGIN:STANDARD
TZOFFSETFROM:-0400
TZOFFSETTO:-0500
TZNAME:EST
DTSTART:20261101T060000
END:STANDARD
END:VTIMEZONE
BEGIN:VEVENT
DTSTART;TZID=America/New_York:20251220T170000
DTEND;TZID=America/New_York:20251220T180000
DTSTAMP:20260421T041632
CREATED:20250903T190147Z
LAST-MODIFIED:20250903T190147Z
UID:10000769-1766250000-1766253600@www.madriverglen.com
SUMMARY:Co-op Board of Trustees In-Season Meeting
DESCRIPTION:The Co-op’s Board of Trustees meets monthly during the winter ski season. All Co-op Shareholders are encouraged to attend Board meetings. Stay abreast of what is happening at America’s only skier-owned mountain by checking out the latest Board Meeting Minutes. If you have a comment\, question or concern for the board you can reach them by emailing coopboard@madriverglen.com \n  \nJoin us on Google Meet: https://meet.google.com/jhi-umff-poa
URL:https://www.madriverglen.com/calendar/co-op-board-of-trustees-in-season-meeting/
CATEGORIES:Co-Op
ATTACH;FMTTYPE=image/jpeg:https://www.madriverglen.com/wp-content/uploads/2025/03/I9A1442-scaled-e1743432575969.jpg
END:VEVENT
BEGIN:VEVENT
DTSTART;TZID=America/New_York:20251221T143000
DTEND;TZID=America/New_York:20251221T170000
DTSTAMP:20260421T041632
CREATED:20251210T162139Z
LAST-MODIFIED:20251210T162139Z
UID:10000792-1766327400-1766336400@www.madriverglen.com
SUMMARY:She Shredz
DESCRIPTION:She Shredz invites all women to join in on an informal event designed to encourage women to embrace adventure\, challenge themselves\, and break down barriers. She Shredz is all about building confidence on the slopes\, creating an inclusive community\, and celebrating the power of women in outdoor sports. The afternoon will feature a variety of activities aimed at building confidence and creating unforgettable memories. From a group jump session to helmet decorating there are activities on the slopes and an après-ski gathering\, this event promises an afternoon full of fun\, laughter\, and connection. \n\n \n  \n  \n  \n*She Shredz is being hosted by members of the Mad River Glen Ski Club*
URL:https://www.madriverglen.com/calendar/she-shredz-2/
CATEGORIES:Race,Freeski,MRSC
ATTACH;FMTTYPE=image/jpeg:https://www.madriverglen.com/wp-content/uploads/2025/12/1E7A7818-scaled-e1765383286691.jpg
END:VEVENT
END:VCALENDAR